Back to Multiple platform build/check report for BioC 3.13 experimental data |
|
This page was generated on 2021-01-14 15:59:08 -0500 (Thu, 14 Jan 2021).
TO THE DEVELOPERS/MAINTAINERS OF THE leukemiasEset PACKAGE: Please make sure to use the following settings in order to reproduce any error or warning you see on this page. |
Package 196/385 | Hostname | OS / Arch | INSTALL | BUILD | CHECK | ||||||
leukemiasEset 1.27.0 Sara Aibar
| malbec2 | Linux (Ubuntu 20.04.1 LTS) / x86_64 | OK | OK | OK | ![]() | |||||
riesling1 | Windows Server 2019 Standard / x64 | OK | OK | [ OK ] |
Package: leukemiasEset |
Version: 1.27.0 |
Command: D:\biocbuild\bbs-3.13-bioc\R\bin\R.exe CMD check --force-multiarch --install=check:leukemiasEset.install-out.txt --library=D:\biocbuild\bbs-3.13-bioc\R\library --no-vignettes --timings leukemiasEset_1.27.0.tar.gz |
StartedAt: 2021-01-14 11:25:33 -0500 (Thu, 14 Jan 2021) |
EndedAt: 2021-01-14 11:26:02 -0500 (Thu, 14 Jan 2021) |
EllapsedTime: 29.0 seconds |
RetCode: 0 |
Status: OK |
CheckDir: leukemiasEset.Rcheck |
Warnings: 0 |
############################################################################## ############################################################################## ### ### Running command: ### ### D:\biocbuild\bbs-3.13-bioc\R\bin\R.exe CMD check --force-multiarch --install=check:leukemiasEset.install-out.txt --library=D:\biocbuild\bbs-3.13-bioc\R\library --no-vignettes --timings leukemiasEset_1.27.0.tar.gz ### ############################################################################## ############################################################################## * using log directory 'D:/biocbuild/bbs-3.13-data-experiment/meat/leukemiasEset.Rcheck' * using R Under development (unstable) (2020-12-30 r79736) * using platform: x86_64-w64-mingw32 (64-bit) * using session charset: ISO8859-1 * using option '--no-vignettes' * checking for file 'leukemiasEset/DESCRIPTION' ... OK * checking extension type ... Package * this is package 'leukemiasEset' version '1.27.0' * checking package namespace information ... OK * checking package dependencies ... OK * checking if this is a source package ... OK * checking if there is a namespace ... OK * checking for hidden files and directories ... OK * checking for portable file names ... OK * checking whether package 'leukemiasEset' can be installed ... OK * checking installed package size ... NOTE installed size is 8.8Mb sub-directories of 1Mb or more: data 8.7Mb * checking package directory ... OK * checking DESCRIPTION meta-information ... NOTE Malformed Title field: should not end in a period. * checking top-level files ... OK * checking for left-over files ... OK * checking index information ... OK * checking package subdirectories ... OK * loading checks for arch 'i386' ** checking whether the package can be loaded ... OK ** checking whether the package can be loaded with stated dependencies ... OK ** checking whether the package can be unloaded cleanly ... OK ** checking whether the namespace can be loaded with stated dependencies ... OK ** checking whether the namespace can be unloaded cleanly ... OK * loading checks for arch 'x64' ** checking whether the package can be loaded ... OK ** checking whether the package can be loaded with stated dependencies ... OK ** checking whether the package can be unloaded cleanly ... OK ** checking whether the namespace can be loaded with stated dependencies ... OK ** checking whether the namespace can be unloaded cleanly ... OK * checking Rd files ... OK * checking Rd metadata ... OK * checking Rd cross-references ... OK * checking for missing documentation entries ... OK * checking for code/documentation mismatches ... OK * checking Rd \usage sections ... OK * checking Rd contents ... OK * checking for unstated dependencies in examples ... OK * checking contents of 'data' directory ... OK * checking data for non-ASCII characters ... OK * checking data for ASCII and uncompressed saves ... OK * checking examples ... ** running examples for arch 'i386' ... OK ** running examples for arch 'x64' ... OK * checking PDF version of manual ... OK * DONE Status: 2 NOTEs See 'D:/biocbuild/bbs-3.13-data-experiment/meat/leukemiasEset.Rcheck/00check.log' for details.
leukemiasEset.Rcheck/00install.out
############################################################################## ############################################################################## ### ### Running command: ### ### C:\cygwin\bin\curl.exe -O http://172.29.0.4/BBS/3.13/data-experiment/src/contrib/leukemiasEset_1.27.0.tar.gz && rm -rf leukemiasEset.buildbin-libdir && mkdir leukemiasEset.buildbin-libdir && D:\biocbuild\bbs-3.13-bioc\R\bin\R.exe CMD INSTALL --merge-multiarch --build --library=leukemiasEset.buildbin-libdir leukemiasEset_1.27.0.tar.gz && D:\biocbuild\bbs-3.13-bioc\R\bin\R.exe CMD INSTALL leukemiasEset_1.27.0.zip && rm leukemiasEset_1.27.0.tar.gz leukemiasEset_1.27.0.zip ### ############################################################################## ############################################################################## % Total % Received % Xferd Average Speed Time Time Time Current Dload Upload Total Spent Left Speed 0 0 0 0 0 0 0 0 --:--:-- --:--:-- --:--:-- 0 100 8925k 100 8925k 0 0 68.6M 0 --:--:-- --:--:-- --:--:-- 69.1M install for i386 * installing *source* package 'leukemiasEset' ... ** using staged installation ** data ** help *** installing help indices converting help for package 'leukemiasEset' finding HTML links ... done leukemiasEset html REDIRECT:topic leukemiasEset-package -> leukemiasEset.html [ SUCCESS ] REDIRECT:topic leukemiasEset -> leukemiasEset.html [ SUCCESS ] ** building package indices ** testing if installed package can be loaded from temporary location ** testing if installed package can be loaded from final location ** testing if installed package keeps a record of temporary installation path install for x64 * installing *source* package 'leukemiasEset' ... ** testing if installed package can be loaded * MD5 sums packaged installation of 'leukemiasEset' as leukemiasEset_1.27.0.zip * DONE (leukemiasEset) * installing to library 'D:/biocbuild/bbs-3.13-bioc/R/library' package 'leukemiasEset' successfully unpacked and MD5 sums checked
leukemiasEset.Rcheck/examples_i386/leukemiasEset-Ex.timings
|
leukemiasEset.Rcheck/examples_x64/leukemiasEset-Ex.timings
|