Back to Multiple platform build/check report for BioC 3.13 experimental data
ABCDEFGHIJK[L]MNOPQRSTUVWXYZ

BUILD report for leeBamViews on riesling1

This page was generated on 2021-01-18 15:58:48 -0500 (Mon, 18 Jan 2021).

TO THE DEVELOPERS/MAINTAINERS OF THE leeBamViews PACKAGE: Please make sure to use the following settings in order to reproduce any error or warning you see on this page.
Package 195/385HostnameOS / ArchINSTALLBUILDCHECK
leeBamViews 1.27.0
VJ Carey
Snapshot Date: 2021-01-18 09:00:15 -0500 (Mon, 18 Jan 2021)
URL: https://git.bioconductor.org/packages/leeBamViews
Branch: master
Last Commit: bea5a54
Last Changed Date: 2020-10-27 09:51:45 -0500 (Tue, 27 Oct 2020)
malbec2 Linux (Ubuntu 20.04.1 LTS) / x86_64  OK  OK  OK UNNEEDED, same version exists in internal repository
riesling1 Windows Server 2019 Standard / x64  OK [ OK ] OK 

Summary

Package: leeBamViews
Version: 1.27.0
Command: chmod a+r leeBamViews -R && D:\biocbuild\bbs-3.13-bioc\R\bin\R.exe CMD build --keep-empty-dirs --no-resave-data leeBamViews
StartedAt: 2021-01-18 10:46:55 -0500 (Mon, 18 Jan 2021)
EndedAt: 2021-01-18 10:49:56 -0500 (Mon, 18 Jan 2021)
EllapsedTime: 180.9 seconds
RetCode: 0
Status:  OK  
PackageFile: leeBamViews_1.27.0.tar.gz
PackageFileSize: 10.95 MiB

Command output

##############################################################################
##############################################################################
###
### Running command:
###
###   chmod a+r leeBamViews -R && D:\biocbuild\bbs-3.13-bioc\R\bin\R.exe CMD build --keep-empty-dirs --no-resave-data leeBamViews
###
##############################################################################
##############################################################################


* checking for file 'leeBamViews/DESCRIPTION' ... OK
* preparing 'leeBamViews':
* checking DESCRIPTION meta-information ... OK
* installing the package to build vignettes
* creating vignettes ... OK
* checking for LF line-endings in source and make files and shell scripts
* checking for empty or unneeded directories
* looking to see if a 'data/datalist' file should be added
* building 'leeBamViews_1.27.0.tar.gz'