Back to Multiple platform build/check report for BioC 3.13 experimental data
ABCDEFG[H]IJKLMNOPQRSTUVWXYZ

INSTALL report for humanStemCell on riesling1

This page was generated on 2021-01-18 15:58:48 -0500 (Mon, 18 Jan 2021).

TO THE DEVELOPERS/MAINTAINERS OF THE humanStemCell PACKAGE: Please make sure to use the following settings in order to reproduce any error or warning you see on this page.
Package 182/385HostnameOS / ArchINSTALLBUILDCHECK
humanStemCell 0.31.0
R. Gentleman
Snapshot Date: 2021-01-18 09:00:15 -0500 (Mon, 18 Jan 2021)
URL: https://git.bioconductor.org/packages/humanStemCell
Branch: master
Last Commit: f26eac3
Last Changed Date: 2020-10-27 09:50:51 -0500 (Tue, 27 Oct 2020)
malbec2 Linux (Ubuntu 20.04.1 LTS) / x86_64  OK  OK  WARNINGS UNNEEDED, same version exists in internal repository
riesling1 Windows Server 2019 Standard / x64 [ OK ] OK  WARNINGS 

Summary

Package: humanStemCell
Version: 0.31.0
Command: C:\cygwin\bin\curl.exe -O http://172.29.0.4/BBS/3.13/data-experiment/src/contrib/humanStemCell_0.31.0.tar.gz && rm -rf humanStemCell.buildbin-libdir && mkdir humanStemCell.buildbin-libdir && D:\biocbuild\bbs-3.13-bioc\R\bin\R.exe CMD INSTALL --merge-multiarch --build --library=humanStemCell.buildbin-libdir humanStemCell_0.31.0.tar.gz && D:\biocbuild\bbs-3.13-bioc\R\bin\R.exe CMD INSTALL humanStemCell_0.31.0.zip && rm humanStemCell_0.31.0.tar.gz humanStemCell_0.31.0.zip
StartedAt: 2021-01-18 10:16:27 -0500 (Mon, 18 Jan 2021)
EndedAt: 2021-01-18 10:17:50 -0500 (Mon, 18 Jan 2021)
EllapsedTime: 83.3 seconds
RetCode: 0
Status:  OK  

Command output

##############################################################################
##############################################################################
###
### Running command:
###
###   C:\cygwin\bin\curl.exe -O http://172.29.0.4/BBS/3.13/data-experiment/src/contrib/humanStemCell_0.31.0.tar.gz && rm -rf humanStemCell.buildbin-libdir && mkdir humanStemCell.buildbin-libdir && D:\biocbuild\bbs-3.13-bioc\R\bin\R.exe CMD INSTALL --merge-multiarch --build --library=humanStemCell.buildbin-libdir humanStemCell_0.31.0.tar.gz && D:\biocbuild\bbs-3.13-bioc\R\bin\R.exe CMD INSTALL humanStemCell_0.31.0.zip && rm humanStemCell_0.31.0.tar.gz humanStemCell_0.31.0.zip
###
##############################################################################
##############################################################################


  % Total    % Received % Xferd  Average Speed   Time    Time     Time  Current
                                 Dload  Upload   Total   Spent    Left  Speed

  0     0    0     0    0     0      0      0 --:--:-- --:--:-- --:--:--     0
100 31.3M  100 31.3M    0     0  85.5M      0 --:--:-- --:--:-- --:--:-- 85.5M

install for i386

* installing *source* package 'humanStemCell' ...
** using staged installation
** data
** inst
** help
*** installing help indices
  converting help for package 'humanStemCell'
    finding HTML links ... done
    fhesc                                   html  
REDIRECT:topic	 fhesc -> fhesc.html [ SUCCESS ]
** building package indices
** testing if installed package can be loaded from temporary location
** testing if installed package can be loaded from final location
** testing if installed package keeps a record of temporary installation path

install for x64

* installing *source* package 'humanStemCell' ...
** testing if installed package can be loaded
* MD5 sums
packaged installation of 'humanStemCell' as humanStemCell_0.31.0.zip
* DONE (humanStemCell)
* installing to library 'D:/biocbuild/bbs-3.13-bioc/R/library'
package 'humanStemCell' successfully unpacked and MD5 sums checked