Back to Multiple platform build/check report for BioC 3.13 experimental data
ABCDEFG[H]IJKLMNOPQRSTUVWXYZ

INSTALL report for hmyriB36 on riesling1

This page was generated on 2021-01-18 15:58:48 -0500 (Mon, 18 Jan 2021).

TO THE DEVELOPERS/MAINTAINERS OF THE hmyriB36 PACKAGE: Please make sure to use the following settings in order to reproduce any error or warning you see on this page.
Package 179/385HostnameOS / ArchINSTALLBUILDCHECK
hmyriB36 1.27.1
Vincent Carey
Snapshot Date: 2021-01-18 09:00:15 -0500 (Mon, 18 Jan 2021)
URL: https://git.bioconductor.org/packages/hmyriB36
Branch: master
Last Commit: 6d8b85f
Last Changed Date: 2020-11-30 08:25:13 -0500 (Mon, 30 Nov 2020)
malbec2 Linux (Ubuntu 20.04.1 LTS) / x86_64  ERROR  OK  ERROR 
riesling1 Windows Server 2019 Standard / x64 [ ERROR ] OK  ERROR 

Summary

Package: hmyriB36
Version: 1.27.1
Command: C:\cygwin\bin\curl.exe -O http://172.29.0.4/BBS/3.13/data-experiment/src/contrib/hmyriB36_1.27.1.tar.gz && rm -rf hmyriB36.buildbin-libdir && mkdir hmyriB36.buildbin-libdir && D:\biocbuild\bbs-3.13-bioc\R\bin\R.exe CMD INSTALL --merge-multiarch --build --library=hmyriB36.buildbin-libdir hmyriB36_1.27.1.tar.gz && D:\biocbuild\bbs-3.13-bioc\R\bin\R.exe CMD INSTALL hmyriB36_1.27.1.zip && rm hmyriB36_1.27.1.tar.gz hmyriB36_1.27.1.zip
StartedAt: 2021-01-18 10:26:16 -0500 (Mon, 18 Jan 2021)
EndedAt: 2021-01-18 10:26:20 -0500 (Mon, 18 Jan 2021)
EllapsedTime: 3.6 seconds
RetCode: 1
Status:  ERROR  

Command output

##############################################################################
##############################################################################
###
### Running command:
###
###   C:\cygwin\bin\curl.exe -O http://172.29.0.4/BBS/3.13/data-experiment/src/contrib/hmyriB36_1.27.1.tar.gz && rm -rf hmyriB36.buildbin-libdir && mkdir hmyriB36.buildbin-libdir && D:\biocbuild\bbs-3.13-bioc\R\bin\R.exe CMD INSTALL --merge-multiarch --build --library=hmyriB36.buildbin-libdir hmyriB36_1.27.1.tar.gz && D:\biocbuild\bbs-3.13-bioc\R\bin\R.exe CMD INSTALL hmyriB36_1.27.1.zip && rm hmyriB36_1.27.1.tar.gz hmyriB36_1.27.1.zip
###
##############################################################################
##############################################################################


  % Total    % Received % Xferd  Average Speed   Time    Time     Time  Current
                                 Dload  Upload   Total   Spent    Left  Speed

  0     0    0     0    0     0      0      0 --:--:-- --:--:-- --:--:--     0
  0 79.7M    0  1213    0     0  36757      0  0:37:53 --:--:--  0:37:53 35676
100 79.7M  100 79.7M    0     0  86.0M      0 --:--:-- --:--:-- --:--:-- 85.9M

install for i386

ERROR: dependency 'GGBase' is not available for package 'hmyriB36'
* removing 'D:/biocbuild/bbs-3.13-data-experiment/meat/hmyriB36.buildbin-libdir/hmyriB36'