Back to Multiple platform build/check report for BioC 3.13 experimental data
ABCDEFG[H]IJKLMNOPQRSTUVWXYZ

INSTALL report for hgu2beta7 on riesling1

This page was generated on 2021-01-21 16:01:30 -0500 (Thu, 21 Jan 2021).

TO THE DEVELOPERS/MAINTAINERS OF THE hgu2beta7 PACKAGE: Please make sure to use the following settings in order to reproduce any error or warning you see on this page.
Package 171/386HostnameOS / ArchINSTALLBUILDCHECK
hgu2beta7 1.31.0
Bioconductor Package Maintainer
Snapshot Date: 2021-01-21 09:00:14 -0500 (Thu, 21 Jan 2021)
URL: https://git.bioconductor.org/packages/hgu2beta7
Branch: master
Last Commit: 1142ddf
Last Changed Date: 2020-10-27 09:46:31 -0500 (Tue, 27 Oct 2020)
malbec2 Linux (Ubuntu 20.04.1 LTS) / x86_64  OK  OK  WARNINGS UNNEEDED, same version exists in internal repository
riesling1 Windows Server 2019 Standard / x64 [ OK ] OK  WARNINGS 

Summary

Package: hgu2beta7
Version: 1.31.0
Command: C:\cygwin\bin\curl.exe -O http://172.29.0.4/BBS/3.13/data-experiment/src/contrib/hgu2beta7_1.31.0.tar.gz && rm -rf hgu2beta7.buildbin-libdir && mkdir hgu2beta7.buildbin-libdir && D:\biocbuild\bbs-3.13-bioc\R\bin\R.exe CMD INSTALL --merge-multiarch --build --library=hgu2beta7.buildbin-libdir hgu2beta7_1.31.0.tar.gz && D:\biocbuild\bbs-3.13-bioc\R\bin\R.exe CMD INSTALL hgu2beta7_1.31.0.zip && rm hgu2beta7_1.31.0.tar.gz hgu2beta7_1.31.0.zip
StartedAt: 2021-01-21 09:58:17 -0500 (Thu, 21 Jan 2021)
EndedAt: 2021-01-21 09:58:31 -0500 (Thu, 21 Jan 2021)
EllapsedTime: 13.3 seconds
RetCode: 0
Status:  OK  

Command output

##############################################################################
##############################################################################
###
### Running command:
###
###   C:\cygwin\bin\curl.exe -O http://172.29.0.4/BBS/3.13/data-experiment/src/contrib/hgu2beta7_1.31.0.tar.gz && rm -rf hgu2beta7.buildbin-libdir && mkdir hgu2beta7.buildbin-libdir && D:\biocbuild\bbs-3.13-bioc\R\bin\R.exe CMD INSTALL --merge-multiarch --build --library=hgu2beta7.buildbin-libdir hgu2beta7_1.31.0.tar.gz && D:\biocbuild\bbs-3.13-bioc\R\bin\R.exe CMD INSTALL hgu2beta7_1.31.0.zip && rm hgu2beta7_1.31.0.tar.gz hgu2beta7_1.31.0.zip
###
##############################################################################
##############################################################################


  % Total    % Received % Xferd  Average Speed   Time    Time     Time  Current
                                 Dload  Upload   Total   Spent    Left  Speed

  0     0    0     0    0     0      0      0 --:--:-- --:--:-- --:--:--     0
  4 6561k    4  290k    0     0   842k      0  0:00:07 --:--:--  0:00:07  839k
100 6561k  100 6561k    0     0  12.8M      0 --:--:-- --:--:-- --:--:-- 12.8M

install for i386

* installing *source* package 'hgu2beta7' ...
** using staged installation
** R
** data
*** moving datasets to lazyload DB
** byte-compile and prepare package for lazy loading
** help
*** installing help indices
  converting help for package 'hgu2beta7'
    finding HTML links ... done
    hgu2beta7                               html  
REDIRECT:topic	 hgu2beta7 -> hgu2beta7.html [ SUCCESS ]
    hgu2beta7ACCNUM                         html  
REDIRECT:topic	 hgu2beta7ACCNUM -> hgu2beta7ACCNUM.html [ SUCCESS ]
    hgu2beta7CHR                            html  
REDIRECT:topic	 hgu2beta7CHR -> hgu2beta7CHR.html [ SUCCESS ]
    hgu2beta7CHRLENGTHS                     html  
REDIRECT:topic	 hgu2beta7CHRLENGTHS -> hgu2beta7CHRLENGTHS.html [ SUCCESS ]
    hgu2beta7CHRLOC                         html  
REDIRECT:topic	 hgu2beta7CHRLOC -> hgu2beta7CHRLOC.html [ SUCCESS ]
    hgu2beta7ENZYME                         html  
REDIRECT:topic	 hgu2beta7ENZYME -> hgu2beta7ENZYME.html [ SUCCESS ]
    hgu2beta7ENZYME2PROBE                   html  
REDIRECT:topic	 hgu2beta7ENZYME2PROBE -> hgu2beta7ENZYME2PROBE.html [ SUCCESS ]
    hgu2beta7GENENAME                       html  
REDIRECT:topic	 hgu2beta7GENENAME -> hgu2beta7GENENAME.html [ SUCCESS ]
    hgu2beta7GO                             html  
REDIRECT:topic	 hgu2beta7GO -> hgu2beta7GO.html [ SUCCESS ]
    hgu2beta7GO2ALLPROBES                   html  
REDIRECT:topic	 hgu2beta7GO2ALLPROBES -> hgu2beta7GO2ALLPROBES.html [ SUCCESS ]
    hgu2beta7GO2PROBE                       html  
REDIRECT:topic	 hgu2beta7GO2PROBE -> hgu2beta7GO2PROBE.html [ SUCCESS ]
    hgu2beta7GRIF                           html  
REDIRECT:topic	 hgu2beta7GRIF -> hgu2beta7GRIF.html [ SUCCESS ]
    hgu2beta7LOCUSID                        html  
REDIRECT:topic	 hgu2beta7LOCUSID -> hgu2beta7LOCUSID.html [ SUCCESS ]
    hgu2beta7MAP                            html  
REDIRECT:topic	 hgu2beta7MAP -> hgu2beta7MAP.html [ SUCCESS ]
    hgu2beta7OMIM                           html  
REDIRECT:topic	 hgu2beta7OMIM -> hgu2beta7OMIM.html [ SUCCESS ]
    hgu2beta7ORGANISM                       html  
REDIRECT:topic	 hgu2beta7ORGANISM -> hgu2beta7ORGANISM.html [ SUCCESS ]
    hgu2beta7PATH                           html  
REDIRECT:topic	 hgu2beta7PATH -> hgu2beta7PATH.html [ SUCCESS ]
    hgu2beta7PATH2PROBE                     html  
REDIRECT:topic	 hgu2beta7PATH2PROBE -> hgu2beta7PATH2PROBE.html [ SUCCESS ]
    hgu2beta7PMID                           html  
REDIRECT:topic	 hgu2beta7PMID -> hgu2beta7PMID.html [ SUCCESS ]
    hgu2beta7PMID2PROBE                     html  
REDIRECT:topic	 hgu2beta7PMID2PROBE -> hgu2beta7PMID2PROBE.html [ SUCCESS ]
    hgu2beta7QC                             html  
REDIRECT:topic	 hgu2beta7QC -> hgu2beta7QC.html [ SUCCESS ]
REDIRECT:topic	 hgu2beta7MAPCOUNTS -> hgu2beta7QC.html [ SUCCESS ]
    hgu2beta7REFSEQ                         html  
REDIRECT:topic	 hgu2beta7REFSEQ -> hgu2beta7REFSEQ.html [ SUCCESS ]
    hgu2beta7SUMFUNC                        html  
REDIRECT:topic	 hgu2beta7SUMFUNC -> hgu2beta7SUMFUNC.html [ SUCCESS ]
    hgu2beta7SYMBOL                         html  
REDIRECT:topic	 hgu2beta7SYMBOL -> hgu2beta7SYMBOL.html [ SUCCESS ]
    hgu2beta7UNIGENE                        html  
REDIRECT:topic	 hgu2beta7UNIGENE -> hgu2beta7UNIGENE.html [ SUCCESS ]
** building package indices
** testing if installed package can be loaded from temporary location
** testing if installed package can be loaded from final location
** testing if installed package keeps a record of temporary installation path

install for x64

* installing *source* package 'hgu2beta7' ...
** testing if installed package can be loaded
* MD5 sums
packaged installation of 'hgu2beta7' as hgu2beta7_1.31.0.zip
* DONE (hgu2beta7)
* installing to library 'D:/biocbuild/bbs-3.13-bioc/R/library'
package 'hgu2beta7' successfully unpacked and MD5 sums checked