Back to Multiple platform build/check report for BioC 3.13 experimental data |
|
This page was generated on 2021-01-14 15:59:08 -0500 (Thu, 14 Jan 2021).
TO THE DEVELOPERS/MAINTAINERS OF THE hgu133plus2barcodevecs PACKAGE: Please make sure to use the following settings in order to reproduce any error or warning you see on this page. |
Package 169/385 | Hostname | OS / Arch | INSTALL | BUILD | CHECK | ||||||
hgu133plus2barcodevecs 1.29.0 Matthew N. McCall
| malbec2 | Linux (Ubuntu 20.04.1 LTS) / x86_64 | OK | OK | OK | ![]() | |||||
riesling1 | Windows Server 2019 Standard / x64 | OK | OK | [ OK ] |
Package: hgu133plus2barcodevecs |
Version: 1.29.0 |
Command: D:\biocbuild\bbs-3.13-bioc\R\bin\R.exe CMD check --force-multiarch --install=check:hgu133plus2barcodevecs.install-out.txt --library=D:\biocbuild\bbs-3.13-bioc\R\library --no-vignettes --timings hgu133plus2barcodevecs_1.29.0.tar.gz |
StartedAt: 2021-01-14 11:22:50 -0500 (Thu, 14 Jan 2021) |
EndedAt: 2021-01-14 11:23:06 -0500 (Thu, 14 Jan 2021) |
EllapsedTime: 16.7 seconds |
RetCode: 0 |
Status: OK |
CheckDir: hgu133plus2barcodevecs.Rcheck |
Warnings: 0 |
############################################################################## ############################################################################## ### ### Running command: ### ### D:\biocbuild\bbs-3.13-bioc\R\bin\R.exe CMD check --force-multiarch --install=check:hgu133plus2barcodevecs.install-out.txt --library=D:\biocbuild\bbs-3.13-bioc\R\library --no-vignettes --timings hgu133plus2barcodevecs_1.29.0.tar.gz ### ############################################################################## ############################################################################## * using log directory 'D:/biocbuild/bbs-3.13-data-experiment/meat/hgu133plus2barcodevecs.Rcheck' * using R Under development (unstable) (2020-12-30 r79736) * using platform: x86_64-w64-mingw32 (64-bit) * using session charset: ISO8859-1 * using option '--no-vignettes' * checking for file 'hgu133plus2barcodevecs/DESCRIPTION' ... OK * this is package 'hgu133plus2barcodevecs' version '1.29.0' * checking package namespace information ... OK * checking package dependencies ... OK * checking if this is a source package ... OK * checking if there is a namespace ... OK * checking for hidden files and directories ... OK * checking for portable file names ... OK * checking whether package 'hgu133plus2barcodevecs' can be installed ... OK * checking installed package size ... OK * checking package directory ... OK * checking DESCRIPTION meta-information ... OK * checking top-level files ... OK * checking for left-over files ... OK * checking index information ... OK * checking package subdirectories ... OK * loading checks for arch 'i386' ** checking whether the package can be loaded ... OK ** checking whether the package can be loaded with stated dependencies ... OK ** checking whether the package can be unloaded cleanly ... OK ** checking whether the namespace can be loaded with stated dependencies ... OK ** checking whether the namespace can be unloaded cleanly ... OK * loading checks for arch 'x64' ** checking whether the package can be loaded ... OK ** checking whether the package can be loaded with stated dependencies ... OK ** checking whether the package can be unloaded cleanly ... OK ** checking whether the namespace can be loaded with stated dependencies ... OK ** checking whether the namespace can be unloaded cleanly ... OK * checking Rd files ... OK * checking Rd metadata ... OK * checking Rd cross-references ... OK * checking for missing documentation entries ... OK * checking for code/documentation mismatches ... OK * checking Rd \usage sections ... OK * checking Rd contents ... OK * checking for unstated dependencies in examples ... OK * checking contents of 'data' directory ... OK * checking data for non-ASCII characters ... OK * checking data for ASCII and uncompressed saves ... OK * checking examples ... NONE * checking PDF version of manual ... OK * DONE Status: OK
hgu133plus2barcodevecs.Rcheck/00install.out
############################################################################## ############################################################################## ### ### Running command: ### ### C:\cygwin\bin\curl.exe -O http://172.29.0.4/BBS/3.13/data-experiment/src/contrib/hgu133plus2barcodevecs_1.29.0.tar.gz && rm -rf hgu133plus2barcodevecs.buildbin-libdir && mkdir hgu133plus2barcodevecs.buildbin-libdir && D:\biocbuild\bbs-3.13-bioc\R\bin\R.exe CMD INSTALL --merge-multiarch --build --library=hgu133plus2barcodevecs.buildbin-libdir hgu133plus2barcodevecs_1.29.0.tar.gz && D:\biocbuild\bbs-3.13-bioc\R\bin\R.exe CMD INSTALL hgu133plus2barcodevecs_1.29.0.zip && rm hgu133plus2barcodevecs_1.29.0.tar.gz hgu133plus2barcodevecs_1.29.0.zip ### ############################################################################## ############################################################################## % Total % Received % Xferd Average Speed Time Time Time Current Dload Upload Total Spent Left Speed 0 0 0 0 0 0 0 0 --:--:-- --:--:-- --:--:-- 0 0 1238k 0 1215 0 0 2271 0 0:09:18 --:--:-- 0:09:18 2266 100 1238k 100 1238k 0 0 1145k 0 0:00:01 0:00:01 --:--:-- 1145k install for i386 * installing *source* package 'hgu133plus2barcodevecs' ... ** using staged installation ** data ** help *** installing help indices converting help for package 'hgu133plus2barcodevecs' finding HTML links ... done hgu133plus2barcodevecs html REDIRECT:topic hgu133plus2barcodevecs -> hgu133plus2barcodevecs.html [ SUCCESS ] REDIRECT:topic bcparams -> hgu133plus2barcodevecs.html [ SUCCESS ] ** building package indices ** testing if installed package can be loaded from temporary location ** testing if installed package can be loaded from final location ** testing if installed package keeps a record of temporary installation path install for x64 * installing *source* package 'hgu133plus2barcodevecs' ... ** testing if installed package can be loaded * MD5 sums packaged installation of 'hgu133plus2barcodevecs' as hgu133plus2barcodevecs_1.29.0.zip * DONE (hgu133plus2barcodevecs) * installing to library 'D:/biocbuild/bbs-3.13-bioc/R/library' package 'hgu133plus2barcodevecs' successfully unpacked and MD5 sums checked