Back to Multiple platform build/check report for BioC 3.13 experimental data |
|
This page was generated on 2021-01-18 15:58:48 -0500 (Mon, 18 Jan 2021).
TO THE DEVELOPERS/MAINTAINERS OF THE hgu133plus2barcodevecs PACKAGE: Please make sure to use the following settings in order to reproduce any error or warning you see on this page. |
Package 169/385 | Hostname | OS / Arch | INSTALL | BUILD | CHECK | ||||||
hgu133plus2barcodevecs 1.29.0 Matthew N. McCall
| malbec2 | Linux (Ubuntu 20.04.1 LTS) / x86_64 | OK | OK | OK | ![]() | |||||
riesling1 | Windows Server 2019 Standard / x64 | OK | [ OK ] | OK |
Package: hgu133plus2barcodevecs |
Version: 1.29.0 |
Command: chmod a+r hgu133plus2barcodevecs -R && D:\biocbuild\bbs-3.13-bioc\R\bin\R.exe CMD build --keep-empty-dirs --no-resave-data hgu133plus2barcodevecs |
StartedAt: 2021-01-18 10:44:06 -0500 (Mon, 18 Jan 2021) |
EndedAt: 2021-01-18 10:44:06 -0500 (Mon, 18 Jan 2021) |
EllapsedTime: 0.5 seconds |
RetCode: 0 |
Status: OK |
PackageFile: hgu133plus2barcodevecs_1.29.0.tar.gz |
PackageFileSize: 1.209 MiB |
############################################################################## ############################################################################## ### ### Running command: ### ### chmod a+r hgu133plus2barcodevecs -R && D:\biocbuild\bbs-3.13-bioc\R\bin\R.exe CMD build --keep-empty-dirs --no-resave-data hgu133plus2barcodevecs ### ############################################################################## ############################################################################## * checking for file 'hgu133plus2barcodevecs/DESCRIPTION' ... OK * preparing 'hgu133plus2barcodevecs': * checking DESCRIPTION meta-information ... OK * checking for LF line-endings in source and make files and shell scripts * checking for empty or unneeded directories * looking to see if a 'data/datalist' file should be added * building 'hgu133plus2barcodevecs_1.29.0.tar.gz'