Back to Multiple platform build/check report for BioC 3.13 experimental data |
|
This page was generated on 2021-01-21 16:01:30 -0500 (Thu, 21 Jan 2021).
TO THE DEVELOPERS/MAINTAINERS OF THE hgu133plus2CellScore PACKAGE: Please make sure to use the following settings in order to reproduce any error or warning you see on this page. |
Package 170/386 | Hostname | OS / Arch | INSTALL | BUILD | CHECK | ||||||
hgu133plus2CellScore 1.11.0 Nancy Mah
| malbec2 | Linux (Ubuntu 20.04.1 LTS) / x86_64 | OK | OK | OK | ![]() | |||||
riesling1 | Windows Server 2019 Standard / x64 | [ OK ] | OK | OK |
Package: hgu133plus2CellScore |
Version: 1.11.0 |
Command: C:\cygwin\bin\curl.exe -O http://172.29.0.4/BBS/3.13/data-experiment/src/contrib/hgu133plus2CellScore_1.11.0.tar.gz && rm -rf hgu133plus2CellScore.buildbin-libdir && mkdir hgu133plus2CellScore.buildbin-libdir && D:\biocbuild\bbs-3.13-bioc\R\bin\R.exe CMD INSTALL --merge-multiarch --build --library=hgu133plus2CellScore.buildbin-libdir hgu133plus2CellScore_1.11.0.tar.gz && D:\biocbuild\bbs-3.13-bioc\R\bin\R.exe CMD INSTALL hgu133plus2CellScore_1.11.0.zip && rm hgu133plus2CellScore_1.11.0.tar.gz hgu133plus2CellScore_1.11.0.zip |
StartedAt: 2021-01-21 10:03:39 -0500 (Thu, 21 Jan 2021) |
EndedAt: 2021-01-21 10:04:12 -0500 (Thu, 21 Jan 2021) |
EllapsedTime: 33.2 seconds |
RetCode: 0 |
Status: OK |
############################################################################## ############################################################################## ### ### Running command: ### ### C:\cygwin\bin\curl.exe -O http://172.29.0.4/BBS/3.13/data-experiment/src/contrib/hgu133plus2CellScore_1.11.0.tar.gz && rm -rf hgu133plus2CellScore.buildbin-libdir && mkdir hgu133plus2CellScore.buildbin-libdir && D:\biocbuild\bbs-3.13-bioc\R\bin\R.exe CMD INSTALL --merge-multiarch --build --library=hgu133plus2CellScore.buildbin-libdir hgu133plus2CellScore_1.11.0.tar.gz && D:\biocbuild\bbs-3.13-bioc\R\bin\R.exe CMD INSTALL hgu133plus2CellScore_1.11.0.zip && rm hgu133plus2CellScore_1.11.0.tar.gz hgu133plus2CellScore_1.11.0.zip ### ############################################################################## ############################################################################## % Total % Received % Xferd Average Speed Time Time Time Current Dload Upload Total Spent Left Speed 0 0 0 0 0 0 0 0 --:--:-- --:--:-- --:--:-- 0 100 40.8M 100 40.8M 0 0 96.6M 0 --:--:-- --:--:-- --:--:-- 96.6M install for i386 * installing *source* package 'hgu133plus2CellScore' ... ** using staged installation ** R ** data *** moving datasets to lazyload DB ** byte-compile and prepare package for lazy loading ** help *** installing help indices converting help for package 'hgu133plus2CellScore' finding HTML links ... done hgu133plus2CellScore html REDIRECT:topic hgu133plus2CellScore -> hgu133plus2CellScore.html [ SUCCESS ] REDIRECT:topic eset.std -> hgu133plus2CellScore.html [ SUCCESS ] ** building package indices ** installing vignettes ** testing if installed package can be loaded from temporary location ** testing if installed package can be loaded from final location ** testing if installed package keeps a record of temporary installation path install for x64 * installing *source* package 'hgu133plus2CellScore' ... ** testing if installed package can be loaded * MD5 sums packaged installation of 'hgu133plus2CellScore' as hgu133plus2CellScore_1.11.0.zip * DONE (hgu133plus2CellScore) * installing to library 'D:/biocbuild/bbs-3.13-bioc/R/library' package 'hgu133plus2CellScore' successfully unpacked and MD5 sums checked