Back to Multiple platform build/check report for BioC 3.13 experimental data |
|
This page was generated on 2021-01-14 15:59:08 -0500 (Thu, 14 Jan 2021).
TO THE DEVELOPERS/MAINTAINERS OF THE hgu133plus2CellScore PACKAGE: Please make sure to use the following settings in order to reproduce any error or warning you see on this page. |
Package 170/385 | Hostname | OS / Arch | INSTALL | BUILD | CHECK | ||||||
hgu133plus2CellScore 1.11.0 Nancy Mah
| malbec2 | Linux (Ubuntu 20.04.1 LTS) / x86_64 | OK | OK | OK | ![]() | |||||
riesling1 | Windows Server 2019 Standard / x64 | OK | OK | [ OK ] |
Package: hgu133plus2CellScore |
Version: 1.11.0 |
Command: D:\biocbuild\bbs-3.13-bioc\R\bin\R.exe CMD check --force-multiarch --install=check:hgu133plus2CellScore.install-out.txt --library=D:\biocbuild\bbs-3.13-bioc\R\library --no-vignettes --timings hgu133plus2CellScore_1.11.0.tar.gz |
StartedAt: 2021-01-14 11:22:52 -0500 (Thu, 14 Jan 2021) |
EndedAt: 2021-01-14 11:23:45 -0500 (Thu, 14 Jan 2021) |
EllapsedTime: 52.9 seconds |
RetCode: 0 |
Status: OK |
CheckDir: hgu133plus2CellScore.Rcheck |
Warnings: 0 |
############################################################################## ############################################################################## ### ### Running command: ### ### D:\biocbuild\bbs-3.13-bioc\R\bin\R.exe CMD check --force-multiarch --install=check:hgu133plus2CellScore.install-out.txt --library=D:\biocbuild\bbs-3.13-bioc\R\library --no-vignettes --timings hgu133plus2CellScore_1.11.0.tar.gz ### ############################################################################## ############################################################################## * using log directory 'D:/biocbuild/bbs-3.13-data-experiment/meat/hgu133plus2CellScore.Rcheck' * using R Under development (unstable) (2020-12-30 r79736) * using platform: x86_64-w64-mingw32 (64-bit) * using session charset: ISO8859-1 * using option '--no-vignettes' * checking for file 'hgu133plus2CellScore/DESCRIPTION' ... OK * this is package 'hgu133plus2CellScore' version '1.11.0' * package encoding: UTF-8 * checking package namespace information ... OK * checking package dependencies ... OK * checking if this is a source package ... OK * checking if there is a namespace ... OK * checking for hidden files and directories ... OK * checking for portable file names ... OK * checking whether package 'hgu133plus2CellScore' can be installed ... OK * checking installed package size ... NOTE installed size is 47.2Mb sub-directories of 1Mb or more: data 47.1Mb * checking package directory ... OK * checking 'build' directory ... OK * checking DESCRIPTION meta-information ... OK * checking top-level files ... OK * checking for left-over files ... OK * checking index information ... OK * checking package subdirectories ... OK * checking R files for non-ASCII characters ... OK * checking R files for syntax errors ... OK * loading checks for arch 'i386' ** checking whether the package can be loaded ... OK ** checking whether the package can be loaded with stated dependencies ... OK ** checking whether the package can be unloaded cleanly ... OK ** checking whether the namespace can be loaded with stated dependencies ... OK ** checking whether the namespace can be unloaded cleanly ... OK * loading checks for arch 'x64' ** checking whether the package can be loaded ... OK ** checking whether the package can be loaded with stated dependencies ... OK ** checking whether the package can be unloaded cleanly ... OK ** checking whether the namespace can be loaded with stated dependencies ... OK ** checking whether the namespace can be unloaded cleanly ... OK * checking dependencies in R code ... OK * checking S3 generic/method consistency ... OK * checking replacement functions ... OK * checking foreign function calls ... OK * checking R code for possible problems ... OK * checking Rd files ... OK * checking Rd metadata ... OK * checking Rd cross-references ... OK * checking for missing documentation entries ... OK * checking for code/documentation mismatches ... OK * checking Rd \usage sections ... OK * checking Rd contents ... OK * checking for unstated dependencies in examples ... OK * checking contents of 'data' directory ... OK * checking data for non-ASCII characters ... OK * checking data for ASCII and uncompressed saves ... OK * checking files in 'vignettes' ... OK * checking examples ... NONE * checking for unstated dependencies in vignettes ... OK * checking package vignettes in 'inst/doc' ... OK * checking running R code from vignettes ... SKIPPED * checking re-building of vignette outputs ... SKIPPED * checking PDF version of manual ... OK * DONE Status: 1 NOTE See 'D:/biocbuild/bbs-3.13-data-experiment/meat/hgu133plus2CellScore.Rcheck/00check.log' for details.
hgu133plus2CellScore.Rcheck/00install.out
############################################################################## ############################################################################## ### ### Running command: ### ### C:\cygwin\bin\curl.exe -O http://172.29.0.4/BBS/3.13/data-experiment/src/contrib/hgu133plus2CellScore_1.11.0.tar.gz && rm -rf hgu133plus2CellScore.buildbin-libdir && mkdir hgu133plus2CellScore.buildbin-libdir && D:\biocbuild\bbs-3.13-bioc\R\bin\R.exe CMD INSTALL --merge-multiarch --build --library=hgu133plus2CellScore.buildbin-libdir hgu133plus2CellScore_1.11.0.tar.gz && D:\biocbuild\bbs-3.13-bioc\R\bin\R.exe CMD INSTALL hgu133plus2CellScore_1.11.0.zip && rm hgu133plus2CellScore_1.11.0.tar.gz hgu133plus2CellScore_1.11.0.zip ### ############################################################################## ############################################################################## % Total % Received % Xferd Average Speed Time Time Time Current Dload Upload Total Spent Left Speed 0 0 0 0 0 0 0 0 --:--:-- --:--:-- --:--:-- 0 65 40.8M 65 26.8M 0 0 97.4M 0 --:--:-- --:--:-- --:--:-- 97.1M 100 40.8M 100 40.8M 0 0 102M 0 --:--:-- --:--:-- --:--:-- 102M install for i386 * installing *source* package 'hgu133plus2CellScore' ... ** using staged installation ** R ** data *** moving datasets to lazyload DB ** byte-compile and prepare package for lazy loading ** help *** installing help indices converting help for package 'hgu133plus2CellScore' finding HTML links ... done hgu133plus2CellScore html REDIRECT:topic hgu133plus2CellScore -> hgu133plus2CellScore.html [ SUCCESS ] REDIRECT:topic eset.std -> hgu133plus2CellScore.html [ SUCCESS ] ** building package indices ** installing vignettes ** testing if installed package can be loaded from temporary location ** testing if installed package can be loaded from final location ** testing if installed package keeps a record of temporary installation path install for x64 * installing *source* package 'hgu133plus2CellScore' ... ** testing if installed package can be loaded * MD5 sums packaged installation of 'hgu133plus2CellScore' as hgu133plus2CellScore_1.11.0.zip * DONE (hgu133plus2CellScore) * installing to library 'D:/biocbuild/bbs-3.13-bioc/R/library' package 'hgu133plus2CellScore' successfully unpacked and MD5 sums checked