Back to Multiple platform build/check report for BioC 3.13 experimental data |
|
This page was generated on 2021-01-14 15:59:08 -0500 (Thu, 14 Jan 2021).
TO THE DEVELOPERS/MAINTAINERS OF THE hgu133abarcodevecs PACKAGE: Please make sure to use the following settings in order to reproduce any error or warning you see on this page. |
Package 168/385 | Hostname | OS / Arch | INSTALL | BUILD | CHECK | ||||||
hgu133abarcodevecs 1.29.0 Matthew N. McCall
| malbec2 | Linux (Ubuntu 20.04.1 LTS) / x86_64 | OK | OK | OK | ![]() | |||||
riesling1 | Windows Server 2019 Standard / x64 | OK | [ OK ] | OK |
Package: hgu133abarcodevecs |
Version: 1.29.0 |
Command: chmod a+r hgu133abarcodevecs -R && D:\biocbuild\bbs-3.13-bioc\R\bin\R.exe CMD build --keep-empty-dirs --no-resave-data hgu133abarcodevecs |
StartedAt: 2021-01-14 10:40:13 -0500 (Thu, 14 Jan 2021) |
EndedAt: 2021-01-14 10:40:14 -0500 (Thu, 14 Jan 2021) |
EllapsedTime: 0.5 seconds |
RetCode: 0 |
Status: OK |
PackageFile: hgu133abarcodevecs_1.29.0.tar.gz |
PackageFileSize: 500.8 KiB |
############################################################################## ############################################################################## ### ### Running command: ### ### chmod a+r hgu133abarcodevecs -R && D:\biocbuild\bbs-3.13-bioc\R\bin\R.exe CMD build --keep-empty-dirs --no-resave-data hgu133abarcodevecs ### ############################################################################## ############################################################################## * checking for file 'hgu133abarcodevecs/DESCRIPTION' ... OK * preparing 'hgu133abarcodevecs': * checking DESCRIPTION meta-information ... OK * checking for LF line-endings in source and make files and shell scripts * checking for empty or unneeded directories * looking to see if a 'data/datalist' file should be added * building 'hgu133abarcodevecs_1.29.0.tar.gz'