Back to Multiple platform build/check report for BioC 3.13 experimental data
ABCDEFG[H]IJKLMNOPQRSTUVWXYZ

INSTALL report for healthyFlowData on riesling1

This page was generated on 2021-01-14 15:59:08 -0500 (Thu, 14 Jan 2021).

TO THE DEVELOPERS/MAINTAINERS OF THE healthyFlowData PACKAGE: Please make sure to use the following settings in order to reproduce any error or warning you see on this page.
Package 165/385HostnameOS / ArchINSTALLBUILDCHECK
healthyFlowData 1.29.0
Ariful Azad
Snapshot Date: 2021-01-14 09:00:13 -0500 (Thu, 14 Jan 2021)
URL: https://git.bioconductor.org/packages/healthyFlowData
Branch: master
Last Commit: ab2f22d
Last Changed Date: 2020-10-27 10:07:33 -0500 (Tue, 27 Oct 2020)
malbec2 Linux (Ubuntu 20.04.1 LTS) / x86_64  OK  OK  OK UNNEEDED, same version exists in internal repository
riesling1 Windows Server 2019 Standard / x64 [ OK ] OK  OK 

Summary

Package: healthyFlowData
Version: 1.29.0
Command: C:\cygwin\bin\curl.exe -O http://172.29.0.4/BBS/3.13/data-experiment/src/contrib/healthyFlowData_1.29.0.tar.gz && rm -rf healthyFlowData.buildbin-libdir && mkdir healthyFlowData.buildbin-libdir && D:\biocbuild\bbs-3.13-bioc\R\bin\R.exe CMD INSTALL --merge-multiarch --build --library=healthyFlowData.buildbin-libdir healthyFlowData_1.29.0.tar.gz && D:\biocbuild\bbs-3.13-bioc\R\bin\R.exe CMD INSTALL healthyFlowData_1.29.0.zip && rm healthyFlowData_1.29.0.tar.gz healthyFlowData_1.29.0.zip
StartedAt: 2021-01-14 10:07:02 -0500 (Thu, 14 Jan 2021)
EndedAt: 2021-01-14 10:07:22 -0500 (Thu, 14 Jan 2021)
EllapsedTime: 20.2 seconds
RetCode: 0
Status:  OK  

Command output

##############################################################################
##############################################################################
###
### Running command:
###
###   C:\cygwin\bin\curl.exe -O http://172.29.0.4/BBS/3.13/data-experiment/src/contrib/healthyFlowData_1.29.0.tar.gz && rm -rf healthyFlowData.buildbin-libdir && mkdir healthyFlowData.buildbin-libdir && D:\biocbuild\bbs-3.13-bioc\R\bin\R.exe CMD INSTALL --merge-multiarch --build --library=healthyFlowData.buildbin-libdir healthyFlowData_1.29.0.tar.gz && D:\biocbuild\bbs-3.13-bioc\R\bin\R.exe CMD INSTALL healthyFlowData_1.29.0.zip && rm healthyFlowData_1.29.0.tar.gz healthyFlowData_1.29.0.zip
###
##############################################################################
##############################################################################


  % Total    % Received % Xferd  Average Speed   Time    Time     Time  Current
                                 Dload  Upload   Total   Spent    Left  Speed

  0     0    0     0    0     0      0      0 --:--:-- --:--:-- --:--:--     0
  0 10.7M    0  1214    0     0    98k      0  0:01:51 --:--:--  0:01:51   98k
100 10.7M  100 10.7M    0     0  77.9M      0 --:--:-- --:--:-- --:--:-- 77.9M

install for i386

* installing *source* package 'healthyFlowData' ...
** using staged installation
** data
** help
*** installing help indices
  converting help for package 'healthyFlowData'
    finding HTML links ... done
    hd                                      html  
REDIRECT:topic	 hd -> hd.html [ SUCCESS ]
REDIRECT:topic	 hd.flowSet -> hd.html [ SUCCESS ]
** building package indices
** installing vignettes
** testing if installed package can be loaded from temporary location
** testing if installed package can be loaded from final location
** testing if installed package keeps a record of temporary installation path

install for x64

* installing *source* package 'healthyFlowData' ...
** testing if installed package can be loaded
* MD5 sums
packaged installation of 'healthyFlowData' as healthyFlowData_1.29.0.zip
* DONE (healthyFlowData)
* installing to library 'D:/biocbuild/bbs-3.13-bioc/R/library'
package 'healthyFlowData' successfully unpacked and MD5 sums checked