Back to Multiple platform build/check report for BioC 3.13 experimental data
ABCDEFG[H]IJKLMNOPQRSTUVWXYZ

INSTALL report for harbChIP on riesling1

This page was generated on 2021-01-14 15:59:08 -0500 (Thu, 14 Jan 2021).

TO THE DEVELOPERS/MAINTAINERS OF THE harbChIP PACKAGE: Please make sure to use the following settings in order to reproduce any error or warning you see on this page.
Package 159/385HostnameOS / ArchINSTALLBUILDCHECK
harbChIP 1.29.0
VJ Carey
Snapshot Date: 2021-01-14 09:00:13 -0500 (Thu, 14 Jan 2021)
URL: https://git.bioconductor.org/packages/harbChIP
Branch: master
Last Commit: c4fd961
Last Changed Date: 2020-10-27 09:46:24 -0500 (Tue, 27 Oct 2020)
malbec2 Linux (Ubuntu 20.04.1 LTS) / x86_64  OK  OK  OK UNNEEDED, same version exists in internal repository
riesling1 Windows Server 2019 Standard / x64 [ OK ] OK  OK 

Summary

Package: harbChIP
Version: 1.29.0
Command: C:\cygwin\bin\curl.exe -O http://172.29.0.4/BBS/3.13/data-experiment/src/contrib/harbChIP_1.29.0.tar.gz && rm -rf harbChIP.buildbin-libdir && mkdir harbChIP.buildbin-libdir && D:\biocbuild\bbs-3.13-bioc\R\bin\R.exe CMD INSTALL --merge-multiarch --build --library=harbChIP.buildbin-libdir harbChIP_1.29.0.tar.gz && D:\biocbuild\bbs-3.13-bioc\R\bin\R.exe CMD INSTALL harbChIP_1.29.0.zip && rm harbChIP_1.29.0.tar.gz harbChIP_1.29.0.zip
StartedAt: 2021-01-14 10:05:59 -0500 (Thu, 14 Jan 2021)
EndedAt: 2021-01-14 10:06:21 -0500 (Thu, 14 Jan 2021)
EllapsedTime: 21.7 seconds
RetCode: 0
Status:  OK  

Command output

##############################################################################
##############################################################################
###
### Running command:
###
###   C:\cygwin\bin\curl.exe -O http://172.29.0.4/BBS/3.13/data-experiment/src/contrib/harbChIP_1.29.0.tar.gz && rm -rf harbChIP.buildbin-libdir && mkdir harbChIP.buildbin-libdir && D:\biocbuild\bbs-3.13-bioc\R\bin\R.exe CMD INSTALL --merge-multiarch --build --library=harbChIP.buildbin-libdir harbChIP_1.29.0.tar.gz && D:\biocbuild\bbs-3.13-bioc\R\bin\R.exe CMD INSTALL harbChIP_1.29.0.zip && rm harbChIP_1.29.0.tar.gz harbChIP_1.29.0.zip
###
##############################################################################
##############################################################################


  % Total    % Received % Xferd  Average Speed   Time    Time     Time  Current
                                 Dload  Upload   Total   Spent    Left  Speed

  0     0    0     0    0     0      0      0 --:--:-- --:--:-- --:--:--     0
100 7235k  100 7235k    0     0  31.5M      0 --:--:-- --:--:-- --:--:-- 31.5M

install for i386

* installing *source* package 'harbChIP' ...
** using staged installation
** R
** data
** byte-compile and prepare package for lazy loading
** help
*** installing help indices
  converting help for package 'harbChIP'
    finding HTML links ... done
    allhex                                  html  
REDIRECT:topic	 allhex -> allhex.html [ SUCCESS ]
    buildUpstreamSeqs2                      html  
REDIRECT:topic	 buildUpstreamSeqs2 -> buildUpstreamSeqs2.html [ SUCCESS ]
    chkMotif4TF                             html  
REDIRECT:topic	 chkMotif4TF -> chkMotif4TF.html [ SUCCESS ]
REDIRECT:topic	 chkAllUS -> chkMotif4TF.html [ SUCCESS ]
    harbChIP                                html  
REDIRECT:topic	 harbChIP -> harbChIP.html [ SUCCESS ]
    sceUpstream                             html  
REDIRECT:topic	 sceUpstr -> sceUpstream.html [ SUCCESS ]
REDIRECT:file	 sceUpstream.html -> sceUpstream.html [ SUCCESS ]
    upstreamSeqs-class                      html  
REDIRECT:topic	 upstreamSeqs-class -> upstreamSeqs-class.html [ SUCCESS ]
REDIRECT:topic	 Nmers,numeric,character,upstreamSeqs-method -> upstreamSeqs-class.html [ SUCCESS ]
REDIRECT:topic	 keys,upstreamSeqs-method -> upstreamSeqs-class.html [ SUCCESS ]
REDIRECT:topic	 organism,upstreamSeqs-method -> upstreamSeqs-class.html [ SUCCESS ]
REDIRECT:topic	 seqs,upstreamSeqs-method -> upstreamSeqs-class.html [ SUCCESS ]
REDIRECT:topic	 show,upstreamSeqs-method -> upstreamSeqs-class.html [ SUCCESS ]
REDIRECT:topic	 Nmers -> upstreamSeqs-class.html [ SUCCESS ]
REDIRECT:topic	 getUpstream -> upstreamSeqs-class.html [ SUCCESS ]
REDIRECT:topic	 keys -> upstreamSeqs-class.html [ SUCCESS ]
REDIRECT:topic	 organism -> upstreamSeqs-class.html [ SUCCESS ]
REDIRECT:topic	 seqs -> upstreamSeqs-class.html [ SUCCESS ]
** building package indices
** installing vignettes
** testing if installed package can be loaded from temporary location
** testing if installed package can be loaded from final location
** testing if installed package keeps a record of temporary installation path

install for x64

* installing *source* package 'harbChIP' ...
** testing if installed package can be loaded
* MD5 sums
packaged installation of 'harbChIP' as harbChIP_1.29.0.zip
* DONE (harbChIP)
* installing to library 'D:/biocbuild/bbs-3.13-bioc/R/library'
package 'harbChIP' successfully unpacked and MD5 sums checked