Back to Multiple platform build/check report for BioC 3.13 experimental data
ABCDEFG[H]IJKLMNOPQRSTUVWXYZ

BUILD report for harbChIP on riesling1

This page was generated on 2021-01-11 15:59:31 -0500 (Mon, 11 Jan 2021).

TO THE DEVELOPERS/MAINTAINERS OF THE harbChIP PACKAGE: Please make sure to use the following settings in order to reproduce any error or warning you see on this page.
Package 159/385HostnameOS / ArchINSTALLBUILDCHECK
harbChIP 1.29.0
VJ Carey
Snapshot Date: 2021-01-11 09:00:09 -0500 (Mon, 11 Jan 2021)
URL: https://git.bioconductor.org/packages/harbChIP
Branch: master
Last Commit: c4fd961
Last Changed Date: 2020-10-27 09:46:24 -0500 (Tue, 27 Oct 2020)
malbec2 Linux (Ubuntu 20.04.1 LTS) / x86_64  OK  OK  OK UNNEEDED, same version exists in internal repository
riesling1 Windows Server 2019 Standard / x64  OK [ OK ] OK 

Summary

Package: harbChIP
Version: 1.29.0
Command: chmod a+r harbChIP -R && D:\biocbuild\bbs-3.13-bioc\R\bin\R.exe CMD build --keep-empty-dirs --no-resave-data harbChIP
StartedAt: 2021-01-11 10:44:34 -0500 (Mon, 11 Jan 2021)
EndedAt: 2021-01-11 10:44:56 -0500 (Mon, 11 Jan 2021)
EllapsedTime: 21.9 seconds
RetCode: 0
Status:  OK  
PackageFile: harbChIP_1.29.0.tar.gz
PackageFileSize: 7.133 MiB

Command output

##############################################################################
##############################################################################
###
### Running command:
###
###   chmod a+r harbChIP -R && D:\biocbuild\bbs-3.13-bioc\R\bin\R.exe CMD build --keep-empty-dirs --no-resave-data harbChIP
###
##############################################################################
##############################################################################


* checking for file 'harbChIP/DESCRIPTION' ... OK
* preparing 'harbChIP':
* checking DESCRIPTION meta-information ... OK
* installing the package to build vignettes
* creating vignettes ... OK
* checking for LF line-endings in source and make files and shell scripts
* checking for empty or unneeded directories
* looking to see if a 'data/datalist' file should be added
* building 'harbChIP_1.29.0.tar.gz'