Back to Multiple platform build/check report for BioC 3.13 experimental data
ABCDEFG[H]IJKLMNOPQRSTUVWXYZ

INSTALL report for hapmapsnp6 on riesling1

This page was generated on 2021-01-21 16:01:29 -0500 (Thu, 21 Jan 2021).

TO THE DEVELOPERS/MAINTAINERS OF THE hapmapsnp6 PACKAGE: Please make sure to use the following settings in order to reproduce any error or warning you see on this page.
Package 158/386HostnameOS / ArchINSTALLBUILDCHECK
hapmapsnp6 1.33.0
Benilton Carvalho
Snapshot Date: 2021-01-21 09:00:14 -0500 (Thu, 21 Jan 2021)
URL: https://git.bioconductor.org/packages/hapmapsnp6
Branch: master
Last Commit: 0255ee0
Last Changed Date: 2020-10-27 09:49:22 -0500 (Tue, 27 Oct 2020)
malbec2 Linux (Ubuntu 20.04.1 LTS) / x86_64  OK  OK  OK UNNEEDED, same version exists in internal repository
riesling1 Windows Server 2019 Standard / x64 [ OK ] OK  OK 

Summary

Package: hapmapsnp6
Version: 1.33.0
Command: C:\cygwin\bin\curl.exe -O http://172.29.0.4/BBS/3.13/data-experiment/src/contrib/hapmapsnp6_1.33.0.tar.gz && rm -rf hapmapsnp6.buildbin-libdir && mkdir hapmapsnp6.buildbin-libdir && D:\biocbuild\bbs-3.13-bioc\R\bin\R.exe CMD INSTALL --merge-multiarch --build --library=hapmapsnp6.buildbin-libdir hapmapsnp6_1.33.0.tar.gz && D:\biocbuild\bbs-3.13-bioc\R\bin\R.exe CMD INSTALL hapmapsnp6_1.33.0.zip && rm hapmapsnp6_1.33.0.tar.gz hapmapsnp6_1.33.0.zip
StartedAt: 2021-01-21 09:49:33 -0500 (Thu, 21 Jan 2021)
EndedAt: 2021-01-21 09:54:37 -0500 (Thu, 21 Jan 2021)
EllapsedTime: 303.8 seconds
RetCode: 0
Status:  OK  

Command output

##############################################################################
##############################################################################
###
### Running command:
###
###   C:\cygwin\bin\curl.exe -O http://172.29.0.4/BBS/3.13/data-experiment/src/contrib/hapmapsnp6_1.33.0.tar.gz && rm -rf hapmapsnp6.buildbin-libdir && mkdir hapmapsnp6.buildbin-libdir && D:\biocbuild\bbs-3.13-bioc\R\bin\R.exe CMD INSTALL --merge-multiarch --build --library=hapmapsnp6.buildbin-libdir hapmapsnp6_1.33.0.tar.gz && D:\biocbuild\bbs-3.13-bioc\R\bin\R.exe CMD INSTALL hapmapsnp6_1.33.0.zip && rm hapmapsnp6_1.33.0.tar.gz hapmapsnp6_1.33.0.zip
###
##############################################################################
##############################################################################


  % Total    % Received % Xferd  Average Speed   Time    Time     Time  Current
                                 Dload  Upload   Total   Spent    Left  Speed

  0     0    0     0    0     0      0      0 --:--:-- --:--:-- --:--:--     0
  0  266M    0 1221k    0     0  1865k      0  0:02:26 --:--:--  0:02:26 1862k
  1  266M    1 3651k    0     0  2244k      0  0:02:01  0:00:01  0:02:00 2242k
  2  266M    2 6534k    0     0  2475k      0  0:01:50  0:00:02  0:01:48 2475k
  2  266M    2 7731k    0     0  1948k      0  0:02:20  0:00:03  0:02:17 1947k
  3  266M    3 8983k    0     0  1948k      0  0:02:20  0:00:04  0:02:16 1948k
  4  266M    4 11.2M    0     0  2067k      0  0:02:12  0:00:05  0:02:07 2094k
  5  266M    5 13.5M    0     0  2066k      0  0:02:12  0:00:06  0:02:06 2010k
  5  266M    5 15.3M    0     0  2048k      0  0:02:13  0:00:07  0:02:06 1823k
  6  266M    6 17.3M    0     0  2055k      0  0:02:13  0:00:08  0:02:05 2146k
  7  266M    7 19.8M    0     0  2123k      0  0:02:08  0:00:09  0:01:59 2286k
 11  266M   11 30.2M    0     0  2873k      0  0:01:35  0:00:10  0:01:25 3727k
 12  266M   12 33.2M    0     0  2897k      0  0:01:34  0:00:11  0:01:23 4010k
 13  266M   13 36.2M    0     0  2908k      0  0:01:34  0:00:12  0:01:22 4196k
 14  266M   14 39.3M    0     0  2912k      0  0:01:33  0:00:13  0:01:20 4334k
 15  266M   15 40.7M    0     0  2786k      0  0:01:38  0:00:14  0:01:24 3950k
 15  266M   15 42.2M    0     0  2781k      0  0:01:38  0:00:15  0:01:23 2573k
 16  266M   16 43.9M    0     0  2722k      0  0:01:40  0:00:16  0:01:24 2292k
 17  266M   17 46.7M    0     0  2729k      0  0:01:40  0:00:17  0:01:23 2249k
 18  266M   18 48.2M    0     0  2666k      0  0:01:42  0:00:18  0:01:24 1940k
 20  266M   20 54.4M    0     0  2858k      0  0:01:35  0:00:19  0:01:16 3098k
 37  266M   37  100M    0     0  4985k      0  0:00:54  0:00:20  0:00:34 11.3M
 43  266M   43  116M    0     0  5494k      0  0:00:49  0:00:21  0:00:28 14.0M
 55  266M   55  148M    0     0  6732k      0  0:00:40  0:00:22  0:00:18 20.1M
 56  266M   56  150M    0     0  6398k      0  0:00:42  0:00:24  0:00:18 18.3M
 57  266M   57  152M    0     0  6234k      0  0:00:43  0:00:25  0:00:18 17.8M
 57  266M   57  153M    0     0  6175k      0  0:00:44  0:00:25  0:00:19 11.0M
 57  266M   57  154M    0     0  5943k      0  0:00:45  0:00:26  0:00:19 7928k
 65  266M   65  176M    0     0  6554k      0  0:00:41  0:00:27  0:00:14 5732k
 74  266M   74  198M    0     0  7113k      0  0:00:38  0:00:28  0:00:10 10.7M
 76  266M   76  205M    0     0  7120k      0  0:00:38  0:00:29  0:00:09 11.7M
 80  266M   80  215M    0     0  7121k      0  0:00:38  0:00:30  0:00:08 11.3M
 95  266M   95  255M    0     0  8290k      0  0:00:32  0:00:31  0:00:01 20.3M
100  266M  100  266M    0     0  8618k      0  0:00:31  0:00:31 --:--:-- 21.5M

install for i386

* installing *source* package 'hapmapsnp6' ...
** using staged installation
** R
** data
** inst
** byte-compile and prepare package for lazy loading
** help
*** installing help indices
  converting help for package 'hapmapsnp6'
    finding HTML links ... done
    crlmmResult                             html  
REDIRECT:topic	 crlmmResult -> crlmmResult.html [ SUCCESS ]
    hapmapsnp6-package                      html  
REDIRECT:topic	 hapmapsnp6-package -> hapmapsnp6-package.html [ SUCCESS ]
REDIRECT:topic	 hapmapsnp6 -> hapmapsnp6-package.html [ SUCCESS ]
** building package indices
** testing if installed package can be loaded from temporary location
** testing if installed package can be loaded from final location
** testing if installed package keeps a record of temporary installation path

install for x64

* installing *source* package 'hapmapsnp6' ...
** testing if installed package can be loaded
* MD5 sums
packaged installation of 'hapmapsnp6' as hapmapsnp6_1.33.0.zip
* DONE (hapmapsnp6)
* installing to library 'D:/biocbuild/bbs-3.13-bioc/R/library'
package 'hapmapsnp6' successfully unpacked and MD5 sums checked