Back to Multiple platform build/check report for BioC 3.13 experimental data
ABCDEFG[H]IJKLMNOPQRSTUVWXYZ

BUILD report for hapmapsnp6 on riesling1

This page was generated on 2021-01-14 15:59:08 -0500 (Thu, 14 Jan 2021).

TO THE DEVELOPERS/MAINTAINERS OF THE hapmapsnp6 PACKAGE: Please make sure to use the following settings in order to reproduce any error or warning you see on this page.
Package 158/385HostnameOS / ArchINSTALLBUILDCHECK
hapmapsnp6 1.33.0
Benilton Carvalho
Snapshot Date: 2021-01-14 09:00:13 -0500 (Thu, 14 Jan 2021)
URL: https://git.bioconductor.org/packages/hapmapsnp6
Branch: master
Last Commit: 0255ee0
Last Changed Date: 2020-10-27 09:49:22 -0500 (Tue, 27 Oct 2020)
malbec2 Linux (Ubuntu 20.04.1 LTS) / x86_64  OK  OK  OK UNNEEDED, same version exists in internal repository
riesling1 Windows Server 2019 Standard / x64  OK [ OK ] OK 

Summary

Package: hapmapsnp6
Version: 1.33.0
Command: chmod a+r hapmapsnp6 -R && D:\biocbuild\bbs-3.13-bioc\R\bin\R.exe CMD build --keep-empty-dirs --no-resave-data hapmapsnp6
StartedAt: 2021-01-14 10:39:04 -0500 (Thu, 14 Jan 2021)
EndedAt: 2021-01-14 10:42:43 -0500 (Thu, 14 Jan 2021)
EllapsedTime: 219.6 seconds
RetCode: 0
Status:  OK  
PackageFile: hapmapsnp6_1.33.0.tar.gz
PackageFileSize: 263.2 MiB

Command output

##############################################################################
##############################################################################
###
### Running command:
###
###   chmod a+r hapmapsnp6 -R && D:\biocbuild\bbs-3.13-bioc\R\bin\R.exe CMD build --keep-empty-dirs --no-resave-data hapmapsnp6
###
##############################################################################
##############################################################################


* checking for file 'hapmapsnp6/DESCRIPTION' ... OK
* preparing 'hapmapsnp6':
* checking DESCRIPTION meta-information ... OK
* checking for LF line-endings in source and make files and shell scripts
* checking for empty or unneeded directories
* looking to see if a 'data/datalist' file should be added
* building 'hapmapsnp6_1.33.0.tar.gz'