Back to Multiple platform build/check report for BioC 3.13 experimental data
ABCDEFG[H]IJKLMNOPQRSTUVWXYZ

INSTALL report for hapmapsnp5 on riesling1

This page was generated on 2021-01-14 15:59:08 -0500 (Thu, 14 Jan 2021).

TO THE DEVELOPERS/MAINTAINERS OF THE hapmapsnp5 PACKAGE: Please make sure to use the following settings in order to reproduce any error or warning you see on this page.
Package 157/385HostnameOS / ArchINSTALLBUILDCHECK
hapmapsnp5 1.33.0
Benilton Carvalho
Snapshot Date: 2021-01-14 09:00:13 -0500 (Thu, 14 Jan 2021)
URL: https://git.bioconductor.org/packages/hapmapsnp5
Branch: master
Last Commit: 0437731
Last Changed Date: 2020-10-27 09:49:14 -0500 (Tue, 27 Oct 2020)
malbec2 Linux (Ubuntu 20.04.1 LTS) / x86_64  OK  OK  OK UNNEEDED, same version exists in internal repository
riesling1 Windows Server 2019 Standard / x64 [ OK ] OK  OK 

Summary

Package: hapmapsnp5
Version: 1.33.0
Command: C:\cygwin\bin\curl.exe -O http://172.29.0.4/BBS/3.13/data-experiment/src/contrib/hapmapsnp5_1.33.0.tar.gz && rm -rf hapmapsnp5.buildbin-libdir && mkdir hapmapsnp5.buildbin-libdir && D:\biocbuild\bbs-3.13-bioc\R\bin\R.exe CMD INSTALL --merge-multiarch --build --library=hapmapsnp5.buildbin-libdir hapmapsnp5_1.33.0.tar.gz && D:\biocbuild\bbs-3.13-bioc\R\bin\R.exe CMD INSTALL hapmapsnp5_1.33.0.zip && rm hapmapsnp5_1.33.0.tar.gz hapmapsnp5_1.33.0.zip
StartedAt: 2021-01-14 09:49:24 -0500 (Thu, 14 Jan 2021)
EndedAt: 2021-01-14 09:51:35 -0500 (Thu, 14 Jan 2021)
EllapsedTime: 130.9 seconds
RetCode: 0
Status:  OK  

Command output

##############################################################################
##############################################################################
###
### Running command:
###
###   C:\cygwin\bin\curl.exe -O http://172.29.0.4/BBS/3.13/data-experiment/src/contrib/hapmapsnp5_1.33.0.tar.gz && rm -rf hapmapsnp5.buildbin-libdir && mkdir hapmapsnp5.buildbin-libdir && D:\biocbuild\bbs-3.13-bioc\R\bin\R.exe CMD INSTALL --merge-multiarch --build --library=hapmapsnp5.buildbin-libdir hapmapsnp5_1.33.0.tar.gz && D:\biocbuild\bbs-3.13-bioc\R\bin\R.exe CMD INSTALL hapmapsnp5_1.33.0.zip && rm hapmapsnp5_1.33.0.tar.gz hapmapsnp5_1.33.0.zip
###
##############################################################################
##############################################################################


  % Total    % Received % Xferd  Average Speed   Time    Time     Time  Current
                                 Dload  Upload   Total   Spent    Left  Speed

  0     0    0     0    0     0      0      0 --:--:-- --:--:-- --:--:--     0
  0 61.6M    0  185k    0     0  1179k      0  0:00:53 --:--:--  0:00:53 1171k
 56 61.6M   56 34.7M    0     0  31.8M      0  0:00:01  0:00:01 --:--:-- 31.8M
100 61.6M  100 61.6M    0     0  39.1M      0  0:00:01  0:00:01 --:--:-- 39.1M

install for i386

* installing *source* package 'hapmapsnp5' ...
** using staged installation
** R
** inst
** byte-compile and prepare package for lazy loading
** help
*** installing help indices
  converting help for package 'hapmapsnp5'
    finding HTML links ... done
    hapmapsnp5-package                      html  
REDIRECT:topic	 hapmapsnp5-package -> hapmapsnp5-package.html [ SUCCESS ]
REDIRECT:topic	 hapmapsnp5 -> hapmapsnp5-package.html [ SUCCESS ]
** building package indices
** testing if installed package can be loaded from temporary location
** testing if installed package can be loaded from final location
** testing if installed package keeps a record of temporary installation path

install for x64

* installing *source* package 'hapmapsnp5' ...
** testing if installed package can be loaded
* MD5 sums
packaged installation of 'hapmapsnp5' as hapmapsnp5_1.33.0.zip
* DONE (hapmapsnp5)
* installing to library 'D:/biocbuild/bbs-3.13-bioc/R/library'
package 'hapmapsnp5' successfully unpacked and MD5 sums checked