Back to Multiple platform build/check report for BioC 3.13 experimental data
ABCDEFG[H]IJKLMNOPQRSTUVWXYZ

BUILD report for hapmapsnp5 on riesling1

This page was generated on 2021-01-14 15:59:08 -0500 (Thu, 14 Jan 2021).

TO THE DEVELOPERS/MAINTAINERS OF THE hapmapsnp5 PACKAGE: Please make sure to use the following settings in order to reproduce any error or warning you see on this page.
Package 157/385HostnameOS / ArchINSTALLBUILDCHECK
hapmapsnp5 1.33.0
Benilton Carvalho
Snapshot Date: 2021-01-14 09:00:13 -0500 (Thu, 14 Jan 2021)
URL: https://git.bioconductor.org/packages/hapmapsnp5
Branch: master
Last Commit: 0437731
Last Changed Date: 2020-10-27 09:49:14 -0500 (Tue, 27 Oct 2020)
malbec2 Linux (Ubuntu 20.04.1 LTS) / x86_64  OK  OK  OK UNNEEDED, same version exists in internal repository
riesling1 Windows Server 2019 Standard / x64  OK [ OK ] OK 

Summary

Package: hapmapsnp5
Version: 1.33.0
Command: chmod a+r hapmapsnp5 -R && D:\biocbuild\bbs-3.13-bioc\R\bin\R.exe CMD build --keep-empty-dirs --no-resave-data hapmapsnp5
StartedAt: 2021-01-14 10:38:38 -0500 (Thu, 14 Jan 2021)
EndedAt: 2021-01-14 10:40:32 -0500 (Thu, 14 Jan 2021)
EllapsedTime: 114.5 seconds
RetCode: 0
Status:  OK  
PackageFile: hapmapsnp5_1.33.0.tar.gz
PackageFileSize: 59.41 MiB

Command output

##############################################################################
##############################################################################
###
### Running command:
###
###   chmod a+r hapmapsnp5 -R && D:\biocbuild\bbs-3.13-bioc\R\bin\R.exe CMD build --keep-empty-dirs --no-resave-data hapmapsnp5
###
##############################################################################
##############################################################################


* checking for file 'hapmapsnp5/DESCRIPTION' ... OK
* preparing 'hapmapsnp5':
* checking DESCRIPTION meta-information ... OK
* checking for LF line-endings in source and make files and shell scripts
* checking for empty or unneeded directories
* building 'hapmapsnp5_1.33.0.tar.gz'