Back to Multiple platform build/check report for BioC 3.13 experimental data
ABCDEFG[H]IJKLMNOPQRSTUVWXYZ

INSTALL report for hapmap500ksty on riesling1

This page was generated on 2021-01-11 15:59:31 -0500 (Mon, 11 Jan 2021).

TO THE DEVELOPERS/MAINTAINERS OF THE hapmap500ksty PACKAGE: Please make sure to use the following settings in order to reproduce any error or warning you see on this page.
Package 156/385HostnameOS / ArchINSTALLBUILDCHECK
hapmap500ksty 1.33.0
Benilton Carvalho
Snapshot Date: 2021-01-11 09:00:09 -0500 (Mon, 11 Jan 2021)
URL: https://git.bioconductor.org/packages/hapmap500ksty
Branch: master
Last Commit: bbd79b1
Last Changed Date: 2020-10-27 09:48:18 -0500 (Tue, 27 Oct 2020)
malbec2 Linux (Ubuntu 20.04.1 LTS) / x86_64  OK  OK  OK UNNEEDED, same version exists in internal repository
riesling1 Windows Server 2019 Standard / x64 [ OK ] OK  OK 

Summary

Package: hapmap500ksty
Version: 1.33.0
Command: C:\cygwin\bin\curl.exe -O http://172.29.0.4/BBS/3.13/data-experiment/src/contrib/hapmap500ksty_1.33.0.tar.gz && rm -rf hapmap500ksty.buildbin-libdir && mkdir hapmap500ksty.buildbin-libdir && D:\biocbuild\bbs-3.13-bioc\R\bin\R.exe CMD INSTALL --merge-multiarch --build --library=hapmap500ksty.buildbin-libdir hapmap500ksty_1.33.0.tar.gz && D:\biocbuild\bbs-3.13-bioc\R\bin\R.exe CMD INSTALL hapmap500ksty_1.33.0.zip && rm hapmap500ksty_1.33.0.tar.gz hapmap500ksty_1.33.0.zip
StartedAt: 2021-01-11 09:50:27 -0500 (Mon, 11 Jan 2021)
EndedAt: 2021-01-11 09:58:10 -0500 (Mon, 11 Jan 2021)
EllapsedTime: 462.4 seconds
RetCode: 0
Status:  OK  

Command output

##############################################################################
##############################################################################
###
### Running command:
###
###   C:\cygwin\bin\curl.exe -O http://172.29.0.4/BBS/3.13/data-experiment/src/contrib/hapmap500ksty_1.33.0.tar.gz && rm -rf hapmap500ksty.buildbin-libdir && mkdir hapmap500ksty.buildbin-libdir && D:\biocbuild\bbs-3.13-bioc\R\bin\R.exe CMD INSTALL --merge-multiarch --build --library=hapmap500ksty.buildbin-libdir hapmap500ksty_1.33.0.tar.gz && D:\biocbuild\bbs-3.13-bioc\R\bin\R.exe CMD INSTALL hapmap500ksty_1.33.0.zip && rm hapmap500ksty_1.33.0.tar.gz hapmap500ksty_1.33.0.zip
###
##############################################################################
##############################################################################


  % Total    % Received % Xferd  Average Speed   Time    Time     Time  Current
                                 Dload  Upload   Total   Spent    Left  Speed

  0     0    0     0    0     0      0      0 --:--:-- --:--:-- --:--:--     0
  0 80.2M    0  179k    0     0   202k      0  0:06:44 --:--:--  0:06:44  202k
  1 80.2M    1 1270k    0     0   722k      0  0:01:53  0:00:01  0:01:52  721k
 13 80.2M   13 10.9M    0     0  4263k      0  0:00:19  0:00:02  0:00:17 4262k
 45 80.2M   45 36.3M    0     0  10.0M      0  0:00:08  0:00:03  0:00:05 10.0M
100 80.2M  100 80.2M    0     0  19.0M      0  0:00:04  0:00:04 --:--:-- 19.0M

install for i386

* installing *source* package 'hapmap500ksty' ...
** using staged installation
** R
** inst
** byte-compile and prepare package for lazy loading
** help
*** installing help indices
  converting help for package 'hapmap500ksty'
    finding HTML links ... done
    hapmap500ksty-package                   html  
REDIRECT:topic	 hapmap500ksty-package -> hapmap500ksty-package.html [ SUCCESS ]
REDIRECT:topic	 hapmap500ksty -> hapmap500ksty-package.html [ SUCCESS ]
** building package indices
** testing if installed package can be loaded from temporary location
** testing if installed package can be loaded from final location
** testing if installed package keeps a record of temporary installation path

install for x64

* installing *source* package 'hapmap500ksty' ...
** testing if installed package can be loaded
* MD5 sums
packaged installation of 'hapmap500ksty' as hapmap500ksty_1.33.0.zip
* DONE (hapmap500ksty)
* installing to library 'D:/biocbuild/bbs-3.13-bioc/R/library'
package 'hapmap500ksty' successfully unpacked and MD5 sums checked