Back to Multiple platform build/check report for BioC 3.13 experimental data
ABCDEFG[H]IJKLMNOPQRSTUVWXYZ

BUILD report for hapmap500ksty on riesling1

This page was generated on 2021-01-18 15:58:48 -0500 (Mon, 18 Jan 2021).

TO THE DEVELOPERS/MAINTAINERS OF THE hapmap500ksty PACKAGE: Please make sure to use the following settings in order to reproduce any error or warning you see on this page.
Package 156/385HostnameOS / ArchINSTALLBUILDCHECK
hapmap500ksty 1.33.0
Benilton Carvalho
Snapshot Date: 2021-01-18 09:00:15 -0500 (Mon, 18 Jan 2021)
URL: https://git.bioconductor.org/packages/hapmap500ksty
Branch: master
Last Commit: bbd79b1
Last Changed Date: 2020-10-27 09:48:18 -0500 (Tue, 27 Oct 2020)
malbec2 Linux (Ubuntu 20.04.1 LTS) / x86_64  OK  OK  OK UNNEEDED, same version exists in internal repository
riesling1 Windows Server 2019 Standard / x64  OK [ OK ] OK 

Summary

Package: hapmap500ksty
Version: 1.33.0
Command: chmod a+r hapmap500ksty -R && D:\biocbuild\bbs-3.13-bioc\R\bin\R.exe CMD build --keep-empty-dirs --no-resave-data hapmap500ksty
StartedAt: 2021-01-18 10:42:05 -0500 (Mon, 18 Jan 2021)
EndedAt: 2021-01-18 10:44:57 -0500 (Mon, 18 Jan 2021)
EllapsedTime: 172.6 seconds
RetCode: 0
Status:  OK  
PackageFile: hapmap500ksty_1.33.0.tar.gz
PackageFileSize: 77.63 MiB

Command output

##############################################################################
##############################################################################
###
### Running command:
###
###   chmod a+r hapmap500ksty -R && D:\biocbuild\bbs-3.13-bioc\R\bin\R.exe CMD build --keep-empty-dirs --no-resave-data hapmap500ksty
###
##############################################################################
##############################################################################


* checking for file 'hapmap500ksty/DESCRIPTION' ... OK
* preparing 'hapmap500ksty':
* checking DESCRIPTION meta-information ... OK
* checking for LF line-endings in source and make files and shell scripts
* checking for empty or unneeded directories
* building 'hapmap500ksty_1.33.0.tar.gz'