Back to Multiple platform build/check report for BioC 3.13 experimental data
ABCDEFG[H]IJKLMNOPQRSTUVWXYZ

INSTALL report for hapmap500knsp on riesling1

This page was generated on 2021-01-21 16:01:29 -0500 (Thu, 21 Jan 2021).

TO THE DEVELOPERS/MAINTAINERS OF THE hapmap500knsp PACKAGE: Please make sure to use the following settings in order to reproduce any error or warning you see on this page.
Package 155/386HostnameOS / ArchINSTALLBUILDCHECK
hapmap500knsp 1.33.0
Benilton Carvalho
Snapshot Date: 2021-01-21 09:00:14 -0500 (Thu, 21 Jan 2021)
URL: https://git.bioconductor.org/packages/hapmap500knsp
Branch: master
Last Commit: 7c2d418
Last Changed Date: 2020-10-27 09:48:09 -0500 (Tue, 27 Oct 2020)
malbec2 Linux (Ubuntu 20.04.1 LTS) / x86_64  OK  OK  OK UNNEEDED, same version exists in internal repository
riesling1 Windows Server 2019 Standard / x64 [ OK ] OK  OK 

Summary

Package: hapmap500knsp
Version: 1.33.0
Command: C:\cygwin\bin\curl.exe -O http://172.29.0.4/BBS/3.13/data-experiment/src/contrib/hapmap500knsp_1.33.0.tar.gz && rm -rf hapmap500knsp.buildbin-libdir && mkdir hapmap500knsp.buildbin-libdir && D:\biocbuild\bbs-3.13-bioc\R\bin\R.exe CMD INSTALL --merge-multiarch --build --library=hapmap500knsp.buildbin-libdir hapmap500knsp_1.33.0.tar.gz && D:\biocbuild\bbs-3.13-bioc\R\bin\R.exe CMD INSTALL hapmap500knsp_1.33.0.zip && rm hapmap500knsp_1.33.0.tar.gz hapmap500knsp_1.33.0.zip
StartedAt: 2021-01-21 09:50:26 -0500 (Thu, 21 Jan 2021)
EndedAt: 2021-01-21 09:58:09 -0500 (Thu, 21 Jan 2021)
EllapsedTime: 463.0 seconds
RetCode: 0
Status:  OK  

Command output

##############################################################################
##############################################################################
###
### Running command:
###
###   C:\cygwin\bin\curl.exe -O http://172.29.0.4/BBS/3.13/data-experiment/src/contrib/hapmap500knsp_1.33.0.tar.gz && rm -rf hapmap500knsp.buildbin-libdir && mkdir hapmap500knsp.buildbin-libdir && D:\biocbuild\bbs-3.13-bioc\R\bin\R.exe CMD INSTALL --merge-multiarch --build --library=hapmap500knsp.buildbin-libdir hapmap500knsp_1.33.0.tar.gz && D:\biocbuild\bbs-3.13-bioc\R\bin\R.exe CMD INSTALL hapmap500knsp_1.33.0.zip && rm hapmap500knsp_1.33.0.tar.gz hapmap500knsp_1.33.0.zip
###
##############################################################################
##############################################################################


  % Total    % Received % Xferd  Average Speed   Time    Time     Time  Current
                                 Dload  Upload   Total   Spent    Left  Speed

  0     0    0     0    0     0      0      0 --:--:-- --:--:-- --:--:--     0
  1 83.2M    1 1445k    0     0  1438k      0  0:00:59  0:00:01  0:00:58 1438k
  4 83.2M    4 3829k    0     0  1960k      0  0:00:43  0:00:01  0:00:42 1959k
  8 83.2M    8 6849k    0     0  2340k      0  0:00:36  0:00:02  0:00:34 2340k
 10 83.2M   10 9223k    0     0  2343k      0  0:00:36  0:00:03  0:00:33 2343k
 14 83.2M   14 11.8M    0     0  2485k      0  0:00:34  0:00:04  0:00:30 2485k
 52 83.2M   52 43.3M    0     0  7396k      0  0:00:11  0:00:06  0:00:05 8595k
 94 83.2M   94 78.9M    0     0  11.2M      0  0:00:07  0:00:07 --:--:-- 14.8M
100 83.2M  100 83.2M    0     0  11.7M      0  0:00:07  0:00:07 --:--:-- 18.4M

install for i386

* installing *source* package 'hapmap500knsp' ...
** using staged installation
** R
** inst
** byte-compile and prepare package for lazy loading
** help
*** installing help indices
  converting help for package 'hapmap500knsp'
    finding HTML links ... done
    hapmap500knsp-package                   html  
REDIRECT:topic	 hapmap500knsp-package -> hapmap500knsp-package.html [ SUCCESS ]
REDIRECT:topic	 hapmap500knsp -> hapmap500knsp-package.html [ SUCCESS ]
** building package indices
** testing if installed package can be loaded from temporary location
** testing if installed package can be loaded from final location
** testing if installed package keeps a record of temporary installation path

install for x64

* installing *source* package 'hapmap500knsp' ...
** testing if installed package can be loaded
* MD5 sums
packaged installation of 'hapmap500knsp' as hapmap500knsp_1.33.0.zip
* DONE (hapmap500knsp)
* installing to library 'D:/biocbuild/bbs-3.13-bioc/R/library'
package 'hapmap500knsp' successfully unpacked and MD5 sums checked