Back to Multiple platform build/check report for BioC 3.13 experimental data
ABCDEFG[H]IJKLMNOPQRSTUVWXYZ

INSTALL report for hapmap100kxba on riesling1

This page was generated on 2021-01-14 15:59:08 -0500 (Thu, 14 Jan 2021).

TO THE DEVELOPERS/MAINTAINERS OF THE hapmap100kxba PACKAGE: Please make sure to use the following settings in order to reproduce any error or warning you see on this page.
Package 154/385HostnameOS / ArchINSTALLBUILDCHECK
hapmap100kxba 1.33.0
Benilton Carvalho
Snapshot Date: 2021-01-14 09:00:13 -0500 (Thu, 14 Jan 2021)
URL: https://git.bioconductor.org/packages/hapmap100kxba
Branch: master
Last Commit: a8e5e91
Last Changed Date: 2020-10-27 09:47:25 -0500 (Tue, 27 Oct 2020)
malbec2 Linux (Ubuntu 20.04.1 LTS) / x86_64  OK  OK  OK UNNEEDED, same version exists in internal repository
riesling1 Windows Server 2019 Standard / x64 [ OK ] OK  OK 

Summary

Package: hapmap100kxba
Version: 1.33.0
Command: C:\cygwin\bin\curl.exe -O http://172.29.0.4/BBS/3.13/data-experiment/src/contrib/hapmap100kxba_1.33.0.tar.gz && rm -rf hapmap100kxba.buildbin-libdir && mkdir hapmap100kxba.buildbin-libdir && D:\biocbuild\bbs-3.13-bioc\R\bin\R.exe CMD INSTALL --merge-multiarch --build --library=hapmap100kxba.buildbin-libdir hapmap100kxba_1.33.0.tar.gz && D:\biocbuild\bbs-3.13-bioc\R\bin\R.exe CMD INSTALL hapmap100kxba_1.33.0.zip && rm hapmap100kxba_1.33.0.tar.gz hapmap100kxba_1.33.0.zip
StartedAt: 2021-01-14 09:50:20 -0500 (Thu, 14 Jan 2021)
EndedAt: 2021-01-14 09:51:23 -0500 (Thu, 14 Jan 2021)
EllapsedTime: 63.4 seconds
RetCode: 0
Status:  OK  

Command output

##############################################################################
##############################################################################
###
### Running command:
###
###   C:\cygwin\bin\curl.exe -O http://172.29.0.4/BBS/3.13/data-experiment/src/contrib/hapmap100kxba_1.33.0.tar.gz && rm -rf hapmap100kxba.buildbin-libdir && mkdir hapmap100kxba.buildbin-libdir && D:\biocbuild\bbs-3.13-bioc\R\bin\R.exe CMD INSTALL --merge-multiarch --build --library=hapmap100kxba.buildbin-libdir hapmap100kxba_1.33.0.tar.gz && D:\biocbuild\bbs-3.13-bioc\R\bin\R.exe CMD INSTALL hapmap100kxba_1.33.0.zip && rm hapmap100kxba_1.33.0.tar.gz hapmap100kxba_1.33.0.zip
###
##############################################################################
##############################################################################


  % Total    % Received % Xferd  Average Speed   Time    Time     Time  Current
                                 Dload  Upload   Total   Spent    Left  Speed

  0     0    0     0    0     0      0      0 --:--:-- --:--:-- --:--:--     0
  1 39.6M    1  779k    0     0  1409k      0  0:00:28 --:--:--  0:00:28 1407k
  5 39.6M    5 2233k    0     0  1493k      0  0:00:27  0:00:01  0:00:26 1492k
 38 39.6M   38 15.1M    0     0  6249k      0  0:00:06  0:00:02  0:00:04 6246k
100 39.6M  100 39.6M    0     0  14.5M      0  0:00:02  0:00:02 --:--:-- 14.5M

install for i386

* installing *source* package 'hapmap100kxba' ...
** using staged installation
** R
** inst
** byte-compile and prepare package for lazy loading
** help
*** installing help indices
  converting help for package 'hapmap100kxba'
    finding HTML links ... done
    hapmap100kxba-package                   html  
REDIRECT:topic	 hapmap100kxba-package -> hapmap100kxba-package.html [ SUCCESS ]
REDIRECT:topic	 hapmap100kxba -> hapmap100kxba-package.html [ SUCCESS ]
** building package indices
** testing if installed package can be loaded from temporary location
** testing if installed package can be loaded from final location
** testing if installed package keeps a record of temporary installation path

install for x64

* installing *source* package 'hapmap100kxba' ...
** testing if installed package can be loaded
* MD5 sums
packaged installation of 'hapmap100kxba' as hapmap100kxba_1.33.0.zip
* DONE (hapmap100kxba)
* installing to library 'D:/biocbuild/bbs-3.13-bioc/R/library'
package 'hapmap100kxba' successfully unpacked and MD5 sums checked