Back to Multiple platform build/check report for BioC 3.13 experimental data |
|
This page was generated on 2021-01-21 16:01:29 -0500 (Thu, 21 Jan 2021).
TO THE DEVELOPERS/MAINTAINERS OF THE hapmap100kxba PACKAGE: Please make sure to use the following settings in order to reproduce any error or warning you see on this page. |
Package 154/386 | Hostname | OS / Arch | INSTALL | BUILD | CHECK | ||||||
hapmap100kxba 1.33.0 Benilton Carvalho
| malbec2 | Linux (Ubuntu 20.04.1 LTS) / x86_64 | OK | OK | OK | ![]() | |||||
riesling1 | Windows Server 2019 Standard / x64 | OK | OK | [ OK ] |
Package: hapmap100kxba |
Version: 1.33.0 |
Command: D:\biocbuild\bbs-3.13-bioc\R\bin\R.exe CMD check --force-multiarch --install=check:hapmap100kxba.install-out.txt --library=D:\biocbuild\bbs-3.13-bioc\R\library --no-vignettes --timings hapmap100kxba_1.33.0.tar.gz |
StartedAt: 2021-01-21 11:26:25 -0500 (Thu, 21 Jan 2021) |
EndedAt: 2021-01-21 11:26:45 -0500 (Thu, 21 Jan 2021) |
EllapsedTime: 19.6 seconds |
RetCode: 0 |
Status: OK |
CheckDir: hapmap100kxba.Rcheck |
Warnings: 0 |
############################################################################## ############################################################################## ### ### Running command: ### ### D:\biocbuild\bbs-3.13-bioc\R\bin\R.exe CMD check --force-multiarch --install=check:hapmap100kxba.install-out.txt --library=D:\biocbuild\bbs-3.13-bioc\R\library --no-vignettes --timings hapmap100kxba_1.33.0.tar.gz ### ############################################################################## ############################################################################## * using log directory 'D:/biocbuild/bbs-3.13-data-experiment/meat/hapmap100kxba.Rcheck' * using R Under development (unstable) (2020-12-30 r79736) * using platform: x86_64-w64-mingw32 (64-bit) * using session charset: ISO8859-1 * using option '--no-vignettes' * checking for file 'hapmap100kxba/DESCRIPTION' ... OK * this is package 'hapmap100kxba' version '1.33.0' * checking package namespace information ... OK * checking package dependencies ... OK * checking if this is a source package ... OK * checking if there is a namespace ... OK * checking for hidden files and directories ... OK * checking for portable file names ... OK * checking whether package 'hapmap100kxba' can be installed ... OK * checking installed package size ... NOTE installed size is 73.5Mb sub-directories of 1Mb or more: celFiles 73.4Mb * checking package directory ... OK * checking DESCRIPTION meta-information ... NOTE Malformed Description field: should contain one or more complete sentences. * checking top-level files ... OK * checking for left-over files ... OK * checking index information ... OK * checking package subdirectories ... OK * checking R files for non-ASCII characters ... OK * checking R files for syntax errors ... OK * loading checks for arch 'i386' ** checking whether the package can be loaded ... OK ** checking whether the package can be loaded with stated dependencies ... OK ** checking whether the package can be unloaded cleanly ... OK ** checking whether the namespace can be loaded with stated dependencies ... OK ** checking whether the namespace can be unloaded cleanly ... OK * loading checks for arch 'x64' ** checking whether the package can be loaded ... OK ** checking whether the package can be loaded with stated dependencies ... OK ** checking whether the package can be unloaded cleanly ... OK ** checking whether the namespace can be loaded with stated dependencies ... OK ** checking whether the namespace can be unloaded cleanly ... OK * checking dependencies in R code ... OK * checking S3 generic/method consistency ... OK * checking replacement functions ... OK * checking foreign function calls ... OK * checking R code for possible problems ... OK * checking Rd files ... OK * checking Rd metadata ... OK * checking Rd cross-references ... OK * checking for missing documentation entries ... OK * checking for code/documentation mismatches ... OK * checking Rd \usage sections ... OK * checking Rd contents ... OK * checking for unstated dependencies in examples ... OK * checking examples ... ** running examples for arch 'i386' ... OK ** running examples for arch 'x64' ... OK * checking PDF version of manual ... OK * DONE Status: 2 NOTEs See 'D:/biocbuild/bbs-3.13-data-experiment/meat/hapmap100kxba.Rcheck/00check.log' for details.
hapmap100kxba.Rcheck/00install.out
############################################################################## ############################################################################## ### ### Running command: ### ### C:\cygwin\bin\curl.exe -O http://172.29.0.4/BBS/3.13/data-experiment/src/contrib/hapmap100kxba_1.33.0.tar.gz && rm -rf hapmap100kxba.buildbin-libdir && mkdir hapmap100kxba.buildbin-libdir && D:\biocbuild\bbs-3.13-bioc\R\bin\R.exe CMD INSTALL --merge-multiarch --build --library=hapmap100kxba.buildbin-libdir hapmap100kxba_1.33.0.tar.gz && D:\biocbuild\bbs-3.13-bioc\R\bin\R.exe CMD INSTALL hapmap100kxba_1.33.0.zip && rm hapmap100kxba_1.33.0.tar.gz hapmap100kxba_1.33.0.zip ### ############################################################################## ############################################################################## % Total % Received % Xferd Average Speed Time Time Time Current Dload Upload Total Spent Left Speed 0 0 0 0 0 0 0 0 --:--:-- --:--:-- --:--:-- 0 0 39.6M 0 169k 0 0 218k 0 0:03:06 --:--:-- 0:03:06 218k 4 39.6M 4 1868k 0 0 1121k 0 0:00:36 0:00:01 0:00:35 1121k 22 39.6M 22 9020k 0 0 3189k 0 0:00:12 0:00:02 0:00:10 3188k 78 39.6M 78 30.9M 0 0 8646k 0 0:00:04 0:00:03 0:00:01 8643k 85 39.6M 85 33.7M 0 0 7130k 0 0:00:05 0:00:04 0:00:01 7130k 89 39.6M 89 35.2M 0 0 6162k 0 0:00:06 0:00:05 0:00:01 7070k 90 39.6M 90 35.7M 0 0 5336k 0 0:00:07 0:00:06 0:00:01 6689k 100 39.6M 100 39.6M 0 0 5894k 0 0:00:06 0:00:06 --:--:-- 7783k install for i386 * installing *source* package 'hapmap100kxba' ... ** using staged installation ** R ** inst ** byte-compile and prepare package for lazy loading ** help *** installing help indices converting help for package 'hapmap100kxba' finding HTML links ... done hapmap100kxba-package html REDIRECT:topic hapmap100kxba-package -> hapmap100kxba-package.html [ SUCCESS ] REDIRECT:topic hapmap100kxba -> hapmap100kxba-package.html [ SUCCESS ] ** building package indices ** testing if installed package can be loaded from temporary location ** testing if installed package can be loaded from final location ** testing if installed package keeps a record of temporary installation path install for x64 * installing *source* package 'hapmap100kxba' ... ** testing if installed package can be loaded * MD5 sums packaged installation of 'hapmap100kxba' as hapmap100kxba_1.33.0.zip * DONE (hapmap100kxba) * installing to library 'D:/biocbuild/bbs-3.13-bioc/R/library' package 'hapmap100kxba' successfully unpacked and MD5 sums checked
hapmap100kxba.Rcheck/examples_i386/hapmap100kxba-Ex.timings
|
hapmap100kxba.Rcheck/examples_x64/hapmap100kxba-Ex.timings
|