Back to Multiple platform build/check report for BioC 3.13 experimental data
ABCDEFG[H]IJKLMNOPQRSTUVWXYZ

BUILD report for hapmap100kxba on riesling1

This page was generated on 2021-01-14 15:59:08 -0500 (Thu, 14 Jan 2021).

TO THE DEVELOPERS/MAINTAINERS OF THE hapmap100kxba PACKAGE: Please make sure to use the following settings in order to reproduce any error or warning you see on this page.
Package 154/385HostnameOS / ArchINSTALLBUILDCHECK
hapmap100kxba 1.33.0
Benilton Carvalho
Snapshot Date: 2021-01-14 09:00:13 -0500 (Thu, 14 Jan 2021)
URL: https://git.bioconductor.org/packages/hapmap100kxba
Branch: master
Last Commit: a8e5e91
Last Changed Date: 2020-10-27 09:47:25 -0500 (Tue, 27 Oct 2020)
malbec2 Linux (Ubuntu 20.04.1 LTS) / x86_64  OK  OK  OK UNNEEDED, same version exists in internal repository
riesling1 Windows Server 2019 Standard / x64  OK [ OK ] OK 

Summary

Package: hapmap100kxba
Version: 1.33.0
Command: chmod a+r hapmap100kxba -R && D:\biocbuild\bbs-3.13-bioc\R\bin\R.exe CMD build --keep-empty-dirs --no-resave-data hapmap100kxba
StartedAt: 2021-01-14 10:38:22 -0500 (Thu, 14 Jan 2021)
EndedAt: 2021-01-14 10:39:19 -0500 (Thu, 14 Jan 2021)
EllapsedTime: 57.0 seconds
RetCode: 0
Status:  OK  
PackageFile: hapmap100kxba_1.33.0.tar.gz
PackageFileSize: 38.99 MiB

Command output

##############################################################################
##############################################################################
###
### Running command:
###
###   chmod a+r hapmap100kxba -R && D:\biocbuild\bbs-3.13-bioc\R\bin\R.exe CMD build --keep-empty-dirs --no-resave-data hapmap100kxba
###
##############################################################################
##############################################################################


* checking for file 'hapmap100kxba/DESCRIPTION' ... OK
* preparing 'hapmap100kxba':
* checking DESCRIPTION meta-information ... OK
* checking for LF line-endings in source and make files and shell scripts
* checking for empty or unneeded directories
* building 'hapmap100kxba_1.33.0.tar.gz'