Back to Multiple platform build/check report for BioC 3.13 experimental data
ABCDEFG[H]IJKLMNOPQRSTUVWXYZ

INSTALL report for hapmap100khind on riesling1

This page was generated on 2021-01-14 15:59:08 -0500 (Thu, 14 Jan 2021).

TO THE DEVELOPERS/MAINTAINERS OF THE hapmap100khind PACKAGE: Please make sure to use the following settings in order to reproduce any error or warning you see on this page.
Package 153/385HostnameOS / ArchINSTALLBUILDCHECK
hapmap100khind 1.33.0
Benilton Carvalho
Snapshot Date: 2021-01-14 09:00:13 -0500 (Thu, 14 Jan 2021)
URL: https://git.bioconductor.org/packages/hapmap100khind
Branch: master
Last Commit: 9b84b62
Last Changed Date: 2020-10-27 09:48:03 -0500 (Tue, 27 Oct 2020)
malbec2 Linux (Ubuntu 20.04.1 LTS) / x86_64  OK  OK  OK UNNEEDED, same version exists in internal repository
riesling1 Windows Server 2019 Standard / x64 [ OK ] OK  OK 

Summary

Package: hapmap100khind
Version: 1.33.0
Command: C:\cygwin\bin\curl.exe -O http://172.29.0.4/BBS/3.13/data-experiment/src/contrib/hapmap100khind_1.33.0.tar.gz && rm -rf hapmap100khind.buildbin-libdir && mkdir hapmap100khind.buildbin-libdir && D:\biocbuild\bbs-3.13-bioc\R\bin\R.exe CMD INSTALL --merge-multiarch --build --library=hapmap100khind.buildbin-libdir hapmap100khind_1.33.0.tar.gz && D:\biocbuild\bbs-3.13-bioc\R\bin\R.exe CMD INSTALL hapmap100khind_1.33.0.zip && rm hapmap100khind_1.33.0.tar.gz hapmap100khind_1.33.0.zip
StartedAt: 2021-01-14 09:57:41 -0500 (Thu, 14 Jan 2021)
EndedAt: 2021-01-14 09:59:47 -0500 (Thu, 14 Jan 2021)
EllapsedTime: 126.2 seconds
RetCode: 0
Status:  OK  

Command output

##############################################################################
##############################################################################
###
### Running command:
###
###   C:\cygwin\bin\curl.exe -O http://172.29.0.4/BBS/3.13/data-experiment/src/contrib/hapmap100khind_1.33.0.tar.gz && rm -rf hapmap100khind.buildbin-libdir && mkdir hapmap100khind.buildbin-libdir && D:\biocbuild\bbs-3.13-bioc\R\bin\R.exe CMD INSTALL --merge-multiarch --build --library=hapmap100khind.buildbin-libdir hapmap100khind_1.33.0.tar.gz && D:\biocbuild\bbs-3.13-bioc\R\bin\R.exe CMD INSTALL hapmap100khind_1.33.0.zip && rm hapmap100khind_1.33.0.tar.gz hapmap100khind_1.33.0.zip
###
##############################################################################
##############################################################################


  % Total    % Received % Xferd  Average Speed   Time    Time     Time  Current
                                 Dload  Upload   Total   Spent    Left  Speed

  0     0    0     0    0     0      0      0 --:--:-- --:--:-- --:--:--     0
  0 38.7M    0 15813    0     0  36689      0  0:18:27 --:--:--  0:18:27 36604
100 38.7M  100 38.7M    0     0  29.1M      0  0:00:01  0:00:01 --:--:-- 29.1M

install for i386

* installing *source* package 'hapmap100khind' ...
** using staged installation
** R
** inst
** byte-compile and prepare package for lazy loading
** help
*** installing help indices
  converting help for package 'hapmap100khind'
    finding HTML links ... done
    hapmap100khind-package                  html  
REDIRECT:topic	 hapmap100khind-package -> hapmap100khind-package.html [ SUCCESS ]
REDIRECT:topic	 hapmap100khind -> hapmap100khind-package.html [ SUCCESS ]
** building package indices
** testing if installed package can be loaded from temporary location
** testing if installed package can be loaded from final location
** testing if installed package keeps a record of temporary installation path

install for x64

* installing *source* package 'hapmap100khind' ...
** testing if installed package can be loaded
* MD5 sums
packaged installation of 'hapmap100khind' as hapmap100khind_1.33.0.zip
* DONE (hapmap100khind)
* installing to library 'D:/biocbuild/bbs-3.13-bioc/R/library'
package 'hapmap100khind' successfully unpacked and MD5 sums checked