Back to Multiple platform build/check report for BioC 3.13 experimental data
ABCDEFG[H]IJKLMNOPQRSTUVWXYZ

BUILD report for hapmap100khind on riesling1

This page was generated on 2021-01-11 15:59:31 -0500 (Mon, 11 Jan 2021).

TO THE DEVELOPERS/MAINTAINERS OF THE hapmap100khind PACKAGE: Please make sure to use the following settings in order to reproduce any error or warning you see on this page.
Package 153/385HostnameOS / ArchINSTALLBUILDCHECK
hapmap100khind 1.33.0
Benilton Carvalho
Snapshot Date: 2021-01-11 09:00:09 -0500 (Mon, 11 Jan 2021)
URL: https://git.bioconductor.org/packages/hapmap100khind
Branch: master
Last Commit: 9b84b62
Last Changed Date: 2020-10-27 09:48:03 -0500 (Tue, 27 Oct 2020)
malbec2 Linux (Ubuntu 20.04.1 LTS) / x86_64  OK  OK  OK UNNEEDED, same version exists in internal repository
riesling1 Windows Server 2019 Standard / x64  OK [ OK ] OK 

Summary

Package: hapmap100khind
Version: 1.33.0
Command: chmod a+r hapmap100khind -R && D:\biocbuild\bbs-3.13-bioc\R\bin\R.exe CMD build --keep-empty-dirs --no-resave-data hapmap100khind
StartedAt: 2021-01-11 10:43:42 -0500 (Mon, 11 Jan 2021)
EndedAt: 2021-01-11 10:44:39 -0500 (Mon, 11 Jan 2021)
EllapsedTime: 57.0 seconds
RetCode: 0
Status:  OK  
PackageFile: hapmap100khind_1.33.0.tar.gz
PackageFileSize: 38.05 MiB

Command output

##############################################################################
##############################################################################
###
### Running command:
###
###   chmod a+r hapmap100khind -R && D:\biocbuild\bbs-3.13-bioc\R\bin\R.exe CMD build --keep-empty-dirs --no-resave-data hapmap100khind
###
##############################################################################
##############################################################################


* checking for file 'hapmap100khind/DESCRIPTION' ... OK
* preparing 'hapmap100khind':
* checking DESCRIPTION meta-information ... OK
* checking for LF line-endings in source and make files and shell scripts
* checking for empty or unneeded directories
* building 'hapmap100khind_1.33.0.tar.gz'