Back to Multiple platform build/check report for BioC 3.13 experimental data
ABCDEFG[H]IJKLMNOPQRSTUVWXYZ

CHECK report for h5vcData on riesling1

This page was generated on 2021-01-14 15:59:07 -0500 (Thu, 14 Jan 2021).

TO THE DEVELOPERS/MAINTAINERS OF THE h5vcData PACKAGE: Please make sure to use the following settings in order to reproduce any error or warning you see on this page.
Package 152/385HostnameOS / ArchINSTALLBUILDCHECK
h5vcData 2.11.0
Paul Theodor Pyl
Snapshot Date: 2021-01-14 09:00:13 -0500 (Thu, 14 Jan 2021)
URL: https://git.bioconductor.org/packages/h5vcData
Branch: master
Last Commit: f08040b
Last Changed Date: 2020-10-27 10:06:41 -0500 (Tue, 27 Oct 2020)
malbec2 Linux (Ubuntu 20.04.1 LTS) / x86_64  OK  OK  OK UNNEEDED, same version exists in internal repository
riesling1 Windows Server 2019 Standard / x64  OK  OK [ OK ]

Summary

Package: h5vcData
Version: 2.11.0
Command: D:\biocbuild\bbs-3.13-bioc\R\bin\R.exe CMD check --force-multiarch --install=check:h5vcData.install-out.txt --library=D:\biocbuild\bbs-3.13-bioc\R\library --no-vignettes --timings h5vcData_2.11.0.tar.gz
StartedAt: 2021-01-14 11:21:12 -0500 (Thu, 14 Jan 2021)
EndedAt: 2021-01-14 11:22:25 -0500 (Thu, 14 Jan 2021)
EllapsedTime: 72.4 seconds
RetCode: 0
Status:  OK  
CheckDir: h5vcData.Rcheck
Warnings: 0

Command output

##############################################################################
##############################################################################
###
### Running command:
###
###   D:\biocbuild\bbs-3.13-bioc\R\bin\R.exe CMD check --force-multiarch --install=check:h5vcData.install-out.txt --library=D:\biocbuild\bbs-3.13-bioc\R\library --no-vignettes --timings h5vcData_2.11.0.tar.gz
###
##############################################################################
##############################################################################


* using log directory 'D:/biocbuild/bbs-3.13-data-experiment/meat/h5vcData.Rcheck'
* using R Under development (unstable) (2020-12-30 r79736)
* using platform: x86_64-w64-mingw32 (64-bit)
* using session charset: ISO8859-1
* using option '--no-vignettes'
* checking for file 'h5vcData/DESCRIPTION' ... OK
* checking extension type ... Package
* this is package 'h5vcData' version '2.11.0'
* checking package namespace information ... OK
* checking package dependencies ... OK
* checking if this is a source package ... OK
* checking if there is a namespace ... OK
* checking for hidden files and directories ... OK
* checking for portable file names ... OK
* checking whether package 'h5vcData' can be installed ... OK
* checking installed package size ... NOTE
  installed size is 25.9Mb
  sub-directories of 1Mb or more:
    extdata  25.8Mb
* checking package directory ... OK
* checking DESCRIPTION meta-information ... NOTE
Malformed Description field: should contain one or more complete sentences.
* checking top-level files ... OK
* checking for left-over files ... OK
* checking index information ... OK
* checking package subdirectories ... OK
* checking R files for non-ASCII characters ... OK
* checking R files for syntax errors ... OK
* loading checks for arch 'i386'
** checking whether the package can be loaded ... OK
** checking whether the package can be loaded with stated dependencies ... OK
** checking whether the package can be unloaded cleanly ... OK
** checking whether the namespace can be loaded with stated dependencies ... OK
** checking whether the namespace can be unloaded cleanly ... OK
* loading checks for arch 'x64'
** checking whether the package can be loaded ... OK
** checking whether the package can be loaded with stated dependencies ... OK
** checking whether the package can be unloaded cleanly ... OK
** checking whether the namespace can be loaded with stated dependencies ... OK
** checking whether the namespace can be unloaded cleanly ... OK
* checking dependencies in R code ... OK
* checking S3 generic/method consistency ... OK
* checking replacement functions ... OK
* checking foreign function calls ... OK
* checking R code for possible problems ... OK
* checking Rd files ... OK
* checking Rd metadata ... OK
* checking Rd cross-references ... OK
* checking for missing documentation entries ... OK
* checking for code/documentation mismatches ... OK
* checking Rd \usage sections ... OK
* checking Rd contents ... OK
* checking for unstated dependencies in examples ... OK
* checking contents of 'data' directory ... OK
* checking data for non-ASCII characters ... OK
* checking data for ASCII and uncompressed saves ... OK
* checking examples ...
** running examples for arch 'i386' ... OK
** running examples for arch 'x64' ... OK
* checking PDF version of manual ... OK
* DONE

Status: 2 NOTEs
See
  'D:/biocbuild/bbs-3.13-data-experiment/meat/h5vcData.Rcheck/00check.log'
for details.



Installation output

h5vcData.Rcheck/00install.out

##############################################################################
##############################################################################
###
### Running command:
###
###   C:\cygwin\bin\curl.exe -O http://172.29.0.4/BBS/3.13/data-experiment/src/contrib/h5vcData_2.11.0.tar.gz && rm -rf h5vcData.buildbin-libdir && mkdir h5vcData.buildbin-libdir && D:\biocbuild\bbs-3.13-bioc\R\bin\R.exe CMD INSTALL --merge-multiarch --build --library=h5vcData.buildbin-libdir h5vcData_2.11.0.tar.gz && D:\biocbuild\bbs-3.13-bioc\R\bin\R.exe CMD INSTALL h5vcData_2.11.0.zip && rm h5vcData_2.11.0.tar.gz h5vcData_2.11.0.zip
###
##############################################################################
##############################################################################


  % Total    % Received % Xferd  Average Speed   Time    Time     Time  Current
                                 Dload  Upload   Total   Spent    Left  Speed

  0     0    0     0    0     0      0      0 --:--:-- --:--:-- --:--:--     0
  0     0    0     0    0     0      0      0 --:--:-- --:--:-- --:--:--     0
  0 24.8M    0  226k    0     0   157k      0  0:02:41  0:00:01  0:02:40  157k
 89 24.8M   89 22.1M    0     0  10.4M      0  0:00:02  0:00:02 --:--:-- 10.4M
100 24.8M  100 24.8M    0     0  11.2M      0  0:00:02  0:00:02 --:--:-- 11.2M

install for i386

* installing *source* package 'h5vcData' ...
** using staged installation
** R
** data
** inst
** byte-compile and prepare package for lazy loading
** help
*** installing help indices
  converting help for package 'h5vcData'
    finding HTML links ... done
    h5vcData-package                        html  
REDIRECT:topic	 h5vcData-package -> h5vcData-package.html [ SUCCESS ]
REDIRECT:topic	 h5vcData -> h5vcData-package.html [ SUCCESS ]
REDIRECT:topic	 variantCalls -> h5vcData-package.html [ SUCCESS ]
** building package indices
** testing if installed package can be loaded from temporary location
** testing if installed package can be loaded from final location
** testing if installed package keeps a record of temporary installation path

install for x64

* installing *source* package 'h5vcData' ...
** testing if installed package can be loaded
* MD5 sums
packaged installation of 'h5vcData' as h5vcData_2.11.0.zip
* DONE (h5vcData)
* installing to library 'D:/biocbuild/bbs-3.13-bioc/R/library'
package 'h5vcData' successfully unpacked and MD5 sums checked

Tests output


Example timings

h5vcData.Rcheck/examples_i386/h5vcData-Ex.timings

nameusersystemelapsed
h5vcData-package0.020.000.01

h5vcData.Rcheck/examples_x64/h5vcData-Ex.timings

nameusersystemelapsed
h5vcData-package0.000.020.01