Back to Multiple platform build/check report for BioC 3.13 experimental data
ABCDEF[G]HIJKLMNOPQRSTUVWXYZ

INSTALL report for grndata on riesling1

This page was generated on 2021-01-21 16:01:29 -0500 (Thu, 21 Jan 2021).

TO THE DEVELOPERS/MAINTAINERS OF THE grndata PACKAGE: Please make sure to use the following settings in order to reproduce any error or warning you see on this page.
Package 146/386HostnameOS / ArchINSTALLBUILDCHECK
grndata 1.23.0
Pau Bellot
Snapshot Date: 2021-01-21 09:00:14 -0500 (Thu, 21 Jan 2021)
URL: https://git.bioconductor.org/packages/grndata
Branch: master
Last Commit: bd81c00
Last Changed Date: 2020-10-27 10:11:46 -0500 (Tue, 27 Oct 2020)
malbec2 Linux (Ubuntu 20.04.1 LTS) / x86_64  OK  OK  OK UNNEEDED, same version exists in internal repository
riesling1 Windows Server 2019 Standard / x64 [ OK ] OK  OK 

Summary

Package: grndata
Version: 1.23.0
Command: C:\cygwin\bin\curl.exe -O http://172.29.0.4/BBS/3.13/data-experiment/src/contrib/grndata_1.23.0.tar.gz && rm -rf grndata.buildbin-libdir && mkdir grndata.buildbin-libdir && D:\biocbuild\bbs-3.13-bioc\R\bin\R.exe CMD INSTALL --merge-multiarch --build --library=grndata.buildbin-libdir grndata_1.23.0.tar.gz && D:\biocbuild\bbs-3.13-bioc\R\bin\R.exe CMD INSTALL grndata_1.23.0.zip && rm grndata_1.23.0.tar.gz grndata_1.23.0.zip
StartedAt: 2021-01-21 10:05:38 -0500 (Thu, 21 Jan 2021)
EndedAt: 2021-01-21 10:06:27 -0500 (Thu, 21 Jan 2021)
EllapsedTime: 49.2 seconds
RetCode: 0
Status:  OK  

Command output

##############################################################################
##############################################################################
###
### Running command:
###
###   C:\cygwin\bin\curl.exe -O http://172.29.0.4/BBS/3.13/data-experiment/src/contrib/grndata_1.23.0.tar.gz && rm -rf grndata.buildbin-libdir && mkdir grndata.buildbin-libdir && D:\biocbuild\bbs-3.13-bioc\R\bin\R.exe CMD INSTALL --merge-multiarch --build --library=grndata.buildbin-libdir grndata_1.23.0.tar.gz && D:\biocbuild\bbs-3.13-bioc\R\bin\R.exe CMD INSTALL grndata_1.23.0.zip && rm grndata_1.23.0.tar.gz grndata_1.23.0.zip
###
##############################################################################
##############################################################################


  % Total    % Received % Xferd  Average Speed   Time    Time     Time  Current
                                 Dload  Upload   Total   Spent    Left  Speed

  0     0    0     0    0     0      0      0 --:--:-- --:--:-- --:--:--     0
 37 30.1M   37 11.2M    0     0  22.8M      0  0:00:01 --:--:--  0:00:01 22.8M
100 30.1M  100 30.1M    0     0  40.5M      0 --:--:-- --:--:-- --:--:-- 40.5M

install for i386

* installing *source* package 'grndata' ...
** using staged installation
** R
** data
*** moving datasets to lazyload DB
** inst
** byte-compile and prepare package for lazy loading
** help
*** installing help indices
  converting help for package 'grndata'
    finding HTML links ... done
    Availabledata                           html  
REDIRECT:topic	 Availabledata -> Availabledata.html [ SUCCESS ]
    getData                                 html  
REDIRECT:topic	 getData -> getData.html [ SUCCESS ]
    gnw1565.data                            html  
REDIRECT:topic	 gnw1565.data -> gnw1565.data.html [ SUCCESS ]
    gnw1565.net                             html  
REDIRECT:topic	 gnw1565.net -> gnw1565.net.html [ SUCCESS ]
    gnw2000.data                            html  
REDIRECT:topic	 gnw2000.data -> gnw2000.data.html [ SUCCESS ]
    gnw2000.net                             html  
REDIRECT:topic	 gnw2000.net -> gnw2000.net.html [ SUCCESS ]
    rogers1000.data                         html  
REDIRECT:topic	 rogers1000.data -> rogers1000.data.html [ SUCCESS ]
    rogers1000.net                          html  
REDIRECT:topic	 rogers1000.net -> rogers1000.net.html [ SUCCESS ]
    syntren1000.data                        html  
REDIRECT:topic	 syntren1000.data -> syntren1000.data.html [ SUCCESS ]
    syntren1000.net                         html  
REDIRECT:topic	 syntren1000.net -> syntren1000.net.html [ SUCCESS ]
    syntren300.data                         html  
REDIRECT:topic	 syntren300.data -> syntren300.data.html [ SUCCESS ]
    syntren300.net                          html  
REDIRECT:topic	 syntren300.net -> syntren300.net.html [ SUCCESS ]
    toy.data                                html  
REDIRECT:topic	 toy.data -> toy.data.html [ SUCCESS ]
    toy.net                                 html  
REDIRECT:topic	 toy.net -> toy.net.html [ SUCCESS ]
** building package indices
** installing vignettes
** testing if installed package can be loaded from temporary location
** testing if installed package can be loaded from final location
** testing if installed package keeps a record of temporary installation path

install for x64

* installing *source* package 'grndata' ...
** testing if installed package can be loaded
* MD5 sums
packaged installation of 'grndata' as grndata_1.23.0.zip
* DONE (grndata)
* installing to library 'D:/biocbuild/bbs-3.13-bioc/R/library'
package 'grndata' successfully unpacked and MD5 sums checked