Back to Multiple platform build/check report for BioC 3.13 experimental data
ABCDEF[G]HIJKLMNOPQRSTUVWXYZ

INSTALL report for golubEsets on riesling1

This page was generated on 2021-01-14 15:59:07 -0500 (Thu, 14 Jan 2021).

TO THE DEVELOPERS/MAINTAINERS OF THE golubEsets PACKAGE: Please make sure to use the following settings in order to reproduce any error or warning you see on this page.
Package 144/385HostnameOS / ArchINSTALLBUILDCHECK
golubEsets 1.33.0
Vince Carey
Snapshot Date: 2021-01-14 09:00:13 -0500 (Thu, 14 Jan 2021)
URL: https://git.bioconductor.org/packages/golubEsets
Branch: master
Last Commit: 7675b7c
Last Changed Date: 2020-10-27 09:46:21 -0500 (Tue, 27 Oct 2020)
malbec2 Linux (Ubuntu 20.04.1 LTS) / x86_64  OK  OK  OK UNNEEDED, same version exists in internal repository
riesling1 Windows Server 2019 Standard / x64 [ OK ] OK  OK 

Summary

Package: golubEsets
Version: 1.33.0
Command: C:\cygwin\bin\curl.exe -O http://172.29.0.4/BBS/3.13/data-experiment/src/contrib/golubEsets_1.33.0.tar.gz && rm -rf golubEsets.buildbin-libdir && mkdir golubEsets.buildbin-libdir && D:\biocbuild\bbs-3.13-bioc\R\bin\R.exe CMD INSTALL --merge-multiarch --build --library=golubEsets.buildbin-libdir golubEsets_1.33.0.tar.gz && D:\biocbuild\bbs-3.13-bioc\R\bin\R.exe CMD INSTALL golubEsets_1.33.0.zip && rm golubEsets_1.33.0.tar.gz golubEsets_1.33.0.zip
StartedAt: 2021-01-14 10:01:54 -0500 (Thu, 14 Jan 2021)
EndedAt: 2021-01-14 10:02:11 -0500 (Thu, 14 Jan 2021)
EllapsedTime: 17.1 seconds
RetCode: 0
Status:  OK  

Command output

##############################################################################
##############################################################################
###
### Running command:
###
###   C:\cygwin\bin\curl.exe -O http://172.29.0.4/BBS/3.13/data-experiment/src/contrib/golubEsets_1.33.0.tar.gz && rm -rf golubEsets.buildbin-libdir && mkdir golubEsets.buildbin-libdir && D:\biocbuild\bbs-3.13-bioc\R\bin\R.exe CMD INSTALL --merge-multiarch --build --library=golubEsets.buildbin-libdir golubEsets_1.33.0.tar.gz && D:\biocbuild\bbs-3.13-bioc\R\bin\R.exe CMD INSTALL golubEsets_1.33.0.zip && rm golubEsets_1.33.0.tar.gz golubEsets_1.33.0.zip
###
##############################################################################
##############################################################################


  % Total    % Received % Xferd  Average Speed   Time    Time     Time  Current
                                 Dload  Upload   Total   Spent    Left  Speed

  0     0    0     0    0     0      0      0 --:--:-- --:--:-- --:--:--     0
100 4405k  100 4405k    0     0  59.7M      0 --:--:-- --:--:-- --:--:-- 59.7M

install for i386

* installing *source* package 'golubEsets' ...
** using staged installation
** data
** help
*** installing help indices
  converting help for package 'golubEsets'
    finding HTML links ... done
    golubMerge                              html  
REDIRECT:topic	 golubMerge -> golubMerge.html [ SUCCESS ]
REDIRECT:topic	 Golub_Merge -> golubMerge.html [ SUCCESS ]
    golubTest                               html  
REDIRECT:topic	 golubTest -> golubTest.html [ SUCCESS ]
REDIRECT:topic	 Golub_Test -> golubTest.html [ SUCCESS ]
    golubTrain                              html  
REDIRECT:topic	 golubTrain -> golubTrain.html [ SUCCESS ]
REDIRECT:topic	 Golub_Train -> golubTrain.html [ SUCCESS ]
** building package indices
** testing if installed package can be loaded from temporary location
** testing if installed package can be loaded from final location
** testing if installed package keeps a record of temporary installation path

install for x64

* installing *source* package 'golubEsets' ...
** testing if installed package can be loaded
* MD5 sums
packaged installation of 'golubEsets' as golubEsets_1.33.0.zip
* DONE (golubEsets)
* installing to library 'D:/biocbuild/bbs-3.13-bioc/R/library'
package 'golubEsets' successfully unpacked and MD5 sums checked