Back to Multiple platform build/check report for BioC 3.13 experimental data
ABCDEF[G]HIJKLMNOPQRSTUVWXYZ

INSTALL report for genomationData on riesling1

This page was generated on 2021-01-11 15:59:30 -0500 (Mon, 11 Jan 2021).

TO THE DEVELOPERS/MAINTAINERS OF THE genomationData PACKAGE: Please make sure to use the following settings in order to reproduce any error or warning you see on this page.
Package 140/385HostnameOS / ArchINSTALLBUILDCHECK
genomationData 1.23.0
Vedran Franke
Snapshot Date: 2021-01-11 09:00:09 -0500 (Mon, 11 Jan 2021)
URL: https://git.bioconductor.org/packages/genomationData
Branch: master
Last Commit: 6fab726
Last Changed Date: 2020-10-27 10:10:52 -0500 (Tue, 27 Oct 2020)
malbec2 Linux (Ubuntu 20.04.1 LTS) / x86_64  OK  OK  OK UNNEEDED, same version exists in internal repository
riesling1 Windows Server 2019 Standard / x64 [ OK ] OK  OK 

Summary

Package: genomationData
Version: 1.23.0
Command: C:\cygwin\bin\curl.exe -O http://172.29.0.4/BBS/3.13/data-experiment/src/contrib/genomationData_1.23.0.tar.gz && rm -rf genomationData.buildbin-libdir && mkdir genomationData.buildbin-libdir && D:\biocbuild\bbs-3.13-bioc\R\bin\R.exe CMD INSTALL --merge-multiarch --build --library=genomationData.buildbin-libdir genomationData_1.23.0.tar.gz && D:\biocbuild\bbs-3.13-bioc\R\bin\R.exe CMD INSTALL genomationData_1.23.0.zip && rm genomationData_1.23.0.tar.gz genomationData_1.23.0.zip
StartedAt: 2021-01-11 09:50:45 -0500 (Mon, 11 Jan 2021)
EndedAt: 2021-01-11 09:51:00 -0500 (Mon, 11 Jan 2021)
EllapsedTime: 15.6 seconds
RetCode: 0
Status:  OK  

Command output

##############################################################################
##############################################################################
###
### Running command:
###
###   C:\cygwin\bin\curl.exe -O http://172.29.0.4/BBS/3.13/data-experiment/src/contrib/genomationData_1.23.0.tar.gz && rm -rf genomationData.buildbin-libdir && mkdir genomationData.buildbin-libdir && D:\biocbuild\bbs-3.13-bioc\R\bin\R.exe CMD INSTALL --merge-multiarch --build --library=genomationData.buildbin-libdir genomationData_1.23.0.tar.gz && D:\biocbuild\bbs-3.13-bioc\R\bin\R.exe CMD INSTALL genomationData_1.23.0.zip && rm genomationData_1.23.0.tar.gz genomationData_1.23.0.zip
###
##############################################################################
##############################################################################


  % Total    % Received % Xferd  Average Speed   Time    Time     Time  Current
                                 Dload  Upload   Total   Spent    Left  Speed

  0     0    0     0    0     0      0      0 --:--:-- --:--:-- --:--:--     0
  0 66.4M    0 15813    0     0  21225      0  0:54:41 --:--:--  0:54:41 21225
 13 66.4M   13 8923k    0     0  5738k      0  0:00:11  0:00:01  0:00:10 5735k
100 66.4M  100 66.4M    0     0  27.6M      0  0:00:02  0:00:02 --:--:-- 27.6M

install for i386

* installing *source* package 'genomationData' ...
** using staged installation
** inst
** help
No man pages found in package  'genomationData' 
*** installing help indices
** building package indices
** installing vignettes
** testing if installed package can be loaded from temporary location
** testing if installed package can be loaded from final location
** testing if installed package keeps a record of temporary installation path

install for x64

* installing *source* package 'genomationData' ...
** testing if installed package can be loaded
* MD5 sums
packaged installation of 'genomationData' as genomationData_1.23.0.zip
* DONE (genomationData)
* installing to library 'D:/biocbuild/bbs-3.13-bioc/R/library'
package 'genomationData' successfully unpacked and MD5 sums checked