Back to Multiple platform build/check report for BioC 3.13 experimental data
ABCDEF[G]HIJKLMNOPQRSTUVWXYZ

INSTALL report for geneLenDataBase on riesling1

This page was generated on 2021-01-18 15:58:47 -0500 (Mon, 18 Jan 2021).

TO THE DEVELOPERS/MAINTAINERS OF THE geneLenDataBase PACKAGE: Please make sure to use the following settings in order to reproduce any error or warning you see on this page.
Package 139/385HostnameOS / ArchINSTALLBUILDCHECK
geneLenDataBase 1.27.0
Matthew Young , Nadia Davidson
Snapshot Date: 2021-01-18 09:00:15 -0500 (Mon, 18 Jan 2021)
URL: https://git.bioconductor.org/packages/geneLenDataBase
Branch: master
Last Commit: 3ec14d5
Last Changed Date: 2020-10-27 09:51:48 -0500 (Tue, 27 Oct 2020)
malbec2 Linux (Ubuntu 20.04.1 LTS) / x86_64  OK  OK  WARNINGS UNNEEDED, same version exists in internal repository
riesling1 Windows Server 2019 Standard / x64 [ OK ] OK  WARNINGS 

Summary

Package: geneLenDataBase
Version: 1.27.0
Command: C:\cygwin\bin\curl.exe -O http://172.29.0.4/BBS/3.13/data-experiment/src/contrib/geneLenDataBase_1.27.0.tar.gz && rm -rf geneLenDataBase.buildbin-libdir && mkdir geneLenDataBase.buildbin-libdir && D:\biocbuild\bbs-3.13-bioc\R\bin\R.exe CMD INSTALL --merge-multiarch --build --library=geneLenDataBase.buildbin-libdir geneLenDataBase_1.27.0.tar.gz && D:\biocbuild\bbs-3.13-bioc\R\bin\R.exe CMD INSTALL geneLenDataBase_1.27.0.zip && rm geneLenDataBase_1.27.0.tar.gz geneLenDataBase_1.27.0.zip
StartedAt: 2021-01-18 10:10:41 -0500 (Mon, 18 Jan 2021)
EndedAt: 2021-01-18 10:13:02 -0500 (Mon, 18 Jan 2021)
EllapsedTime: 141.4 seconds
RetCode: 0
Status:  OK  

Command output

##############################################################################
##############################################################################
###
### Running command:
###
###   C:\cygwin\bin\curl.exe -O http://172.29.0.4/BBS/3.13/data-experiment/src/contrib/geneLenDataBase_1.27.0.tar.gz && rm -rf geneLenDataBase.buildbin-libdir && mkdir geneLenDataBase.buildbin-libdir && D:\biocbuild\bbs-3.13-bioc\R\bin\R.exe CMD INSTALL --merge-multiarch --build --library=geneLenDataBase.buildbin-libdir geneLenDataBase_1.27.0.tar.gz && D:\biocbuild\bbs-3.13-bioc\R\bin\R.exe CMD INSTALL geneLenDataBase_1.27.0.zip && rm geneLenDataBase_1.27.0.tar.gz geneLenDataBase_1.27.0.zip
###
##############################################################################
##############################################################################


  % Total    % Received % Xferd  Average Speed   Time    Time     Time  Current
                                 Dload  Upload   Total   Spent    Left  Speed

  0     0    0     0    0     0      0      0 --:--:-- --:--:-- --:--:--     0
 33 95.7M   33 31.7M    0     0  77.3M      0  0:00:01 --:--:--  0:00:01 77.1M
 74 95.7M   74 71.4M    0     0  50.6M      0  0:00:01  0:00:01 --:--:-- 50.6M
100 95.7M  100 95.7M    0     0  49.4M      0  0:00:01  0:00:01 --:--:-- 49.3M

install for i386

* installing *source* package 'geneLenDataBase' ...
** using staged installation
** R
** data
** byte-compile and prepare package for lazy loading
** help
*** installing help indices
  converting help for package 'geneLenDataBase'
    finding HTML links ... done
    anoCar1.ensGene.LENGTH                  html  
REDIRECT:topic	 anoCar1.ensGene.LENGTH -> anoCar1.ensGene.LENGTH.html [ SUCCESS ]
    finding level-2 HTML links ... done

Rd warning: D:/biocbuild/bbs-3.13-data-experiment/tmpdir/RtmponfpXK/R.INSTALLd06057872baf/geneLenDataBase/man/anoCar1.ensGene.LENGTH.Rd:9: missing link 'downloadLengthFromUCSC'
    anoCar1.genscan.LENGTH                  html  
REDIRECT:topic	 anoCar1.genscan.LENGTH -> anoCar1.genscan.LENGTH.html [ SUCCESS ]
Rd warning: D:/biocbuild/bbs-3.13-data-experiment/tmpdir/RtmponfpXK/R.INSTALLd06057872baf/geneLenDataBase/man/anoCar1.genscan.LENGTH.Rd:9: missing link 'downloadLengthFromUCSC'
    anoCar1.xenoRefGene.LENGTH              html  
REDIRECT:topic	 anoCar1.xenoRefGene.LENGTH -> anoCar1.xenoRefGene.LENGTH.html [ SUCCESS ]
Rd warning: D:/biocbuild/bbs-3.13-data-experiment/tmpdir/RtmponfpXK/R.INSTALLd06057872baf/geneLenDataBase/man/anoCar1.xenoRefGene.LENGTH.Rd:9: missing link 'downloadLengthFromUCSC'
    anoGam1.ensGene.LENGTH                  html  
REDIRECT:topic	 anoGam1.ensGene.LENGTH -> anoGam1.ensGene.LENGTH.html [ SUCCESS ]
Rd warning: D:/biocbuild/bbs-3.13-data-experiment/tmpdir/RtmponfpXK/R.INSTALLd06057872baf/geneLenDataBase/man/anoGam1.ensGene.LENGTH.Rd:9: missing link 'downloadLengthFromUCSC'
    anoGam1.geneid.LENGTH                   html  
REDIRECT:topic	 anoGam1.geneid.LENGTH -> anoGam1.geneid.LENGTH.html [ SUCCESS ]
Rd warning: D:/biocbuild/bbs-3.13-data-experiment/tmpdir/RtmponfpXK/R.INSTALLd06057872baf/geneLenDataBase/man/anoGam1.geneid.LENGTH.Rd:9: missing link 'downloadLengthFromUCSC'
    anoGam1.genscan.LENGTH                  html  
REDIRECT:topic	 anoGam1.genscan.LENGTH -> anoGam1.genscan.LENGTH.html [ SUCCESS ]
Rd warning: D:/biocbuild/bbs-3.13-data-experiment/tmpdir/RtmponfpXK/R.INSTALLd06057872baf/geneLenDataBase/man/anoGam1.genscan.LENGTH.Rd:9: missing link 'downloadLengthFromUCSC'
    apiMel1.genscan.LENGTH                  html  
REDIRECT:topic	 apiMel1.genscan.LENGTH -> apiMel1.genscan.LENGTH.html [ SUCCESS ]
Rd warning: D:/biocbuild/bbs-3.13-data-experiment/tmpdir/RtmponfpXK/R.INSTALLd06057872baf/geneLenDataBase/man/apiMel1.genscan.LENGTH.Rd:9: missing link 'downloadLengthFromUCSC'
    apiMel2.ensGene.LENGTH                  html  
REDIRECT:topic	 apiMel2.ensGene.LENGTH -> apiMel2.ensGene.LENGTH.html [ SUCCESS ]
Rd warning: D:/biocbuild/bbs-3.13-data-experiment/tmpdir/RtmponfpXK/R.INSTALLd06057872baf/geneLenDataBase/man/apiMel2.ensGene.LENGTH.Rd:9: missing link 'downloadLengthFromUCSC'
    apiMel2.geneid.LENGTH                   html  
REDIRECT:topic	 apiMel2.geneid.LENGTH -> apiMel2.geneid.LENGTH.html [ SUCCESS ]
Rd warning: D:/biocbuild/bbs-3.13-data-experiment/tmpdir/RtmponfpXK/R.INSTALLd06057872baf/geneLenDataBase/man/apiMel2.geneid.LENGTH.Rd:9: missing link 'downloadLengthFromUCSC'
    apiMel2.genscan.LENGTH                  html  
REDIRECT:topic	 apiMel2.genscan.LENGTH -> apiMel2.genscan.LENGTH.html [ SUCCESS ]
Rd warning: D:/biocbuild/bbs-3.13-data-experiment/tmpdir/RtmponfpXK/R.INSTALLd06057872baf/geneLenDataBase/man/apiMel2.genscan.LENGTH.Rd:9: missing link 'downloadLengthFromUCSC'
    aplCal1.xenoRefGene.LENGTH              html  
REDIRECT:topic	 aplCal1.xenoRefGene.LENGTH -> aplCal1.xenoRefGene.LENGTH.html [ SUCCESS ]
Rd warning: D:/biocbuild/bbs-3.13-data-experiment/tmpdir/RtmponfpXK/R.INSTALLd06057872baf/geneLenDataBase/man/aplCal1.xenoRefGene.LENGTH.Rd:9: missing link 'downloadLengthFromUCSC'
    bosTau2.geneSymbol.LENGTH               html  
REDIRECT:topic	 bosTau2.geneSymbol.LENGTH -> bosTau2.geneSymbol.LENGTH.html [ SUCCESS ]
Rd warning: D:/biocbuild/bbs-3.13-data-experiment/tmpdir/RtmponfpXK/R.INSTALLd06057872baf/geneLenDataBase/man/bosTau2.geneSymbol.LENGTH.Rd:9: missing link 'downloadLengthFromUCSC'
    bosTau2.geneid.LENGTH                   html  
REDIRECT:topic	 bosTau2.geneid.LENGTH -> bosTau2.geneid.LENGTH.html [ SUCCESS ]
Rd warning: D:/biocbuild/bbs-3.13-data-experiment/tmpdir/RtmponfpXK/R.INSTALLd06057872baf/geneLenDataBase/man/bosTau2.geneid.LENGTH.Rd:9: missing link 'downloadLengthFromUCSC'
    bosTau2.genscan.LENGTH                  html  
REDIRECT:topic	 bosTau2.genscan.LENGTH -> bosTau2.genscan.LENGTH.html [ SUCCESS ]
Rd warning: D:/biocbuild/bbs-3.13-data-experiment/tmpdir/RtmponfpXK/R.INSTALLd06057872baf/geneLenDataBase/man/bosTau2.genscan.LENGTH.Rd:9: missing link 'downloadLengthFromUCSC'
    bosTau2.refGene.LENGTH                  html  
REDIRECT:topic	 bosTau2.refGene.LENGTH -> bosTau2.refGene.LENGTH.html [ SUCCESS ]
Rd warning: D:/biocbuild/bbs-3.13-data-experiment/tmpdir/RtmponfpXK/R.INSTALLd06057872baf/geneLenDataBase/man/bosTau2.refGene.LENGTH.Rd:9: missing link 'downloadLengthFromUCSC'
    bosTau2.sgpGene.LENGTH                  html  
REDIRECT:topic	 bosTau2.sgpGene.LENGTH -> bosTau2.sgpGene.LENGTH.html [ SUCCESS ]
Rd warning: D:/biocbuild/bbs-3.13-data-experiment/tmpdir/RtmponfpXK/R.INSTALLd06057872baf/geneLenDataBase/man/bosTau2.sgpGene.LENGTH.Rd:9: missing link 'downloadLengthFromUCSC'
    bosTau3.ensGene.LENGTH                  html  
REDIRECT:topic	 bosTau3.ensGene.LENGTH -> bosTau3.ensGene.LENGTH.html [ SUCCESS ]
Rd warning: D:/biocbuild/bbs-3.13-data-experiment/tmpdir/RtmponfpXK/R.INSTALLd06057872baf/geneLenDataBase/man/bosTau3.ensGene.LENGTH.Rd:9: missing link 'downloadLengthFromUCSC'
    bosTau3.geneSymbol.LENGTH               html  
REDIRECT:topic	 bosTau3.geneSymbol.LENGTH -> bosTau3.geneSymbol.LENGTH.html [ SUCCESS ]
Rd warning: D:/biocbuild/bbs-3.13-data-experiment/tmpdir/RtmponfpXK/R.INSTALLd06057872baf/geneLenDataBase/man/bosTau3.geneSymbol.LENGTH.Rd:9: missing link 'downloadLengthFromUCSC'
    bosTau3.geneid.LENGTH                   html  
REDIRECT:topic	 bosTau3.geneid.LENGTH -> bosTau3.geneid.LENGTH.html [ SUCCESS ]
Rd warning: D:/biocbuild/bbs-3.13-data-experiment/tmpdir/RtmponfpXK/R.INSTALLd06057872baf/geneLenDataBase/man/bosTau3.geneid.LENGTH.Rd:9: missing link 'downloadLengthFromUCSC'
    bosTau3.genscan.LENGTH                  html  
REDIRECT:topic	 bosTau3.genscan.LENGTH -> bosTau3.genscan.LENGTH.html [ SUCCESS ]
Rd warning: D:/biocbuild/bbs-3.13-data-experiment/tmpdir/RtmponfpXK/R.INSTALLd06057872baf/geneLenDataBase/man/bosTau3.genscan.LENGTH.Rd:9: missing link 'downloadLengthFromUCSC'
    bosTau3.refGene.LENGTH                  html  
REDIRECT:topic	 bosTau3.refGene.LENGTH -> bosTau3.refGene.LENGTH.html [ SUCCESS ]
Rd warning: D:/biocbuild/bbs-3.13-data-experiment/tmpdir/RtmponfpXK/R.INSTALLd06057872baf/geneLenDataBase/man/bosTau3.refGene.LENGTH.Rd:9: missing link 'downloadLengthFromUCSC'
    bosTau3.sgpGene.LENGTH                  html  
REDIRECT:topic	 bosTau3.sgpGene.LENGTH -> bosTau3.sgpGene.LENGTH.html [ SUCCESS ]
Rd warning: D:/biocbuild/bbs-3.13-data-experiment/tmpdir/RtmponfpXK/R.INSTALLd06057872baf/geneLenDataBase/man/bosTau3.sgpGene.LENGTH.Rd:9: missing link 'downloadLengthFromUCSC'
    bosTau4.ensGene.LENGTH                  html  
REDIRECT:topic	 bosTau4.ensGene.LENGTH -> bosTau4.ensGene.LENGTH.html [ SUCCESS ]
Rd warning: D:/biocbuild/bbs-3.13-data-experiment/tmpdir/RtmponfpXK/R.INSTALLd06057872baf/geneLenDataBase/man/bosTau4.ensGene.LENGTH.Rd:9: missing link 'downloadLengthFromUCSC'
    bosTau4.geneSymbol.LENGTH               html  
REDIRECT:topic	 bosTau4.geneSymbol.LENGTH -> bosTau4.geneSymbol.LENGTH.html [ SUCCESS ]
Rd warning: D:/biocbuild/bbs-3.13-data-experiment/tmpdir/RtmponfpXK/R.INSTALLd06057872baf/geneLenDataBase/man/bosTau4.geneSymbol.LENGTH.Rd:9: missing link 'downloadLengthFromUCSC'
    bosTau4.genscan.LENGTH                  html  
REDIRECT:topic	 bosTau4.genscan.LENGTH -> bosTau4.genscan.LENGTH.html [ SUCCESS ]
Rd warning: D:/biocbuild/bbs-3.13-data-experiment/tmpdir/RtmponfpXK/R.INSTALLd06057872baf/geneLenDataBase/man/bosTau4.genscan.LENGTH.Rd:9: missing link 'downloadLengthFromUCSC'
    bosTau4.nscanGene.LENGTH                html  
REDIRECT:topic	 bosTau4.nscanGene.LENGTH -> bosTau4.nscanGene.LENGTH.html [ SUCCESS ]
Rd warning: D:/biocbuild/bbs-3.13-data-experiment/tmpdir/RtmponfpXK/R.INSTALLd06057872baf/geneLenDataBase/man/bosTau4.nscanGene.LENGTH.Rd:9: missing link 'downloadLengthFromUCSC'
    bosTau4.refGene.LENGTH                  html  
REDIRECT:topic	 bosTau4.refGene.LENGTH -> bosTau4.refGene.LENGTH.html [ SUCCESS ]
Rd warning: D:/biocbuild/bbs-3.13-data-experiment/tmpdir/RtmponfpXK/R.INSTALLd06057872baf/geneLenDataBase/man/bosTau4.refGene.LENGTH.Rd:9: missing link 'downloadLengthFromUCSC'
    braFlo1.xenoRefGene.LENGTH              html  
REDIRECT:topic	 braFlo1.xenoRefGene.LENGTH -> braFlo1.xenoRefGene.LENGTH.html [ SUCCESS ]
Rd warning: D:/biocbuild/bbs-3.13-data-experiment/tmpdir/RtmponfpXK/R.INSTALLd06057872baf/geneLenDataBase/man/braFlo1.xenoRefGene.LENGTH.Rd:9: missing link 'downloadLengthFromUCSC'
    caeJap1.xenoRefGene.LENGTH              html  
REDIRECT:topic	 caeJap1.xenoRefGene.LENGTH -> caeJap1.xenoRefGene.LENGTH.html [ SUCCESS ]
Rd warning: D:/biocbuild/bbs-3.13-data-experiment/tmpdir/RtmponfpXK/R.INSTALLd06057872baf/geneLenDataBase/man/caeJap1.xenoRefGene.LENGTH.Rd:9: missing link 'downloadLengthFromUCSC'
    caePb1.xenoRefGene.LENGTH               html  
REDIRECT:topic	 caePb1.xenoRefGene.LENGTH -> caePb1.xenoRefGene.LENGTH.html [ SUCCESS ]
Rd warning: D:/biocbuild/bbs-3.13-data-experiment/tmpdir/RtmponfpXK/R.INSTALLd06057872baf/geneLenDataBase/man/caePb1.xenoRefGene.LENGTH.Rd:9: missing link 'downloadLengthFromUCSC'
    caePb2.xenoRefGene.LENGTH               html  
REDIRECT:topic	 caePb2.xenoRefGene.LENGTH -> caePb2.xenoRefGene.LENGTH.html [ SUCCESS ]
Rd warning: D:/biocbuild/bbs-3.13-data-experiment/tmpdir/RtmponfpXK/R.INSTALLd06057872baf/geneLenDataBase/man/caePb2.xenoRefGene.LENGTH.Rd:9: missing link 'downloadLengthFromUCSC'
    caeRem2.xenoRefGene.LENGTH              html  
REDIRECT:topic	 caeRem2.xenoRefGene.LENGTH -> caeRem2.xenoRefGene.LENGTH.html [ SUCCESS ]
Rd warning: D:/biocbuild/bbs-3.13-data-experiment/tmpdir/RtmponfpXK/R.INSTALLd06057872baf/geneLenDataBase/man/caeRem2.xenoRefGene.LENGTH.Rd:9: missing link 'downloadLengthFromUCSC'
    caeRem3.xenoRefGene.LENGTH              html  
REDIRECT:topic	 caeRem3.xenoRefGene.LENGTH -> caeRem3.xenoRefGene.LENGTH.html [ SUCCESS ]
Rd warning: D:/biocbuild/bbs-3.13-data-experiment/tmpdir/RtmponfpXK/R.INSTALLd06057872baf/geneLenDataBase/man/caeRem3.xenoRefGene.LENGTH.Rd:9: missing link 'downloadLengthFromUCSC'
    calJac1.genscan.LENGTH                  html  
REDIRECT:topic	 calJac1.genscan.LENGTH -> calJac1.genscan.LENGTH.html [ SUCCESS ]
Rd warning: D:/biocbuild/bbs-3.13-data-experiment/tmpdir/RtmponfpXK/R.INSTALLd06057872baf/geneLenDataBase/man/calJac1.genscan.LENGTH.Rd:9: missing link 'downloadLengthFromUCSC'
    calJac1.nscanGene.LENGTH                html  
REDIRECT:topic	 calJac1.nscanGene.LENGTH -> calJac1.nscanGene.LENGTH.html [ SUCCESS ]
Rd warning: D:/biocbuild/bbs-3.13-data-experiment/tmpdir/RtmponfpXK/R.INSTALLd06057872baf/geneLenDataBase/man/calJac1.nscanGene.LENGTH.Rd:9: missing link 'downloadLengthFromUCSC'
    calJac1.xenoRefGene.LENGTH              html  
REDIRECT:topic	 calJac1.xenoRefGene.LENGTH -> calJac1.xenoRefGene.LENGTH.html [ SUCCESS ]
Rd warning: D:/biocbuild/bbs-3.13-data-experiment/tmpdir/RtmponfpXK/R.INSTALLd06057872baf/geneLenDataBase/man/calJac1.xenoRefGene.LENGTH.Rd:9: missing link 'downloadLengthFromUCSC'
    canFam1.ensGene.LENGTH                  html  
REDIRECT:topic	 canFam1.ensGene.LENGTH -> canFam1.ensGene.LENGTH.html [ SUCCESS ]
Rd warning: D:/biocbuild/bbs-3.13-data-experiment/tmpdir/RtmponfpXK/R.INSTALLd06057872baf/geneLenDataBase/man/canFam1.ensGene.LENGTH.Rd:9: missing link 'downloadLengthFromUCSC'
    canFam1.geneSymbol.LENGTH               html  
REDIRECT:topic	 canFam1.geneSymbol.LENGTH -> canFam1.geneSymbol.LENGTH.html [ SUCCESS ]
Rd warning: D:/biocbuild/bbs-3.13-data-experiment/tmpdir/RtmponfpXK/R.INSTALLd06057872baf/geneLenDataBase/man/canFam1.geneSymbol.LENGTH.Rd:9: missing link 'downloadLengthFromUCSC'
    canFam1.genscan.LENGTH                  html  
REDIRECT:topic	 canFam1.genscan.LENGTH -> canFam1.genscan.LENGTH.html [ SUCCESS ]
Rd warning: D:/biocbuild/bbs-3.13-data-experiment/tmpdir/RtmponfpXK/R.INSTALLd06057872baf/geneLenDataBase/man/canFam1.genscan.LENGTH.Rd:9: missing link 'downloadLengthFromUCSC'
    canFam1.nscanGene.LENGTH                html  
REDIRECT:topic	 canFam1.nscanGene.LENGTH -> canFam1.nscanGene.LENGTH.html [ SUCCESS ]
Rd warning: D:/biocbuild/bbs-3.13-data-experiment/tmpdir/RtmponfpXK/R.INSTALLd06057872baf/geneLenDataBase/man/canFam1.nscanGene.LENGTH.Rd:9: missing link 'downloadLengthFromUCSC'
    canFam1.refGene.LENGTH                  html  
REDIRECT:topic	 canFam1.refGene.LENGTH -> canFam1.refGene.LENGTH.html [ SUCCESS ]
Rd warning: D:/biocbuild/bbs-3.13-data-experiment/tmpdir/RtmponfpXK/R.INSTALLd06057872baf/geneLenDataBase/man/canFam1.refGene.LENGTH.Rd:9: missing link 'downloadLengthFromUCSC'
    canFam1.xenoRefGene.LENGTH              html  
REDIRECT:topic	 canFam1.xenoRefGene.LENGTH -> canFam1.xenoRefGene.LENGTH.html [ SUCCESS ]
Rd warning: D:/biocbuild/bbs-3.13-data-experiment/tmpdir/RtmponfpXK/R.INSTALLd06057872baf/geneLenDataBase/man/canFam1.xenoRefGene.LENGTH.Rd:9: missing link 'downloadLengthFromUCSC'
    canFam2.ensGene.LENGTH                  html  
REDIRECT:topic	 canFam2.ensGene.LENGTH -> canFam2.ensGene.LENGTH.html [ SUCCESS ]
Rd warning: D:/biocbuild/bbs-3.13-data-experiment/tmpdir/RtmponfpXK/R.INSTALLd06057872baf/geneLenDataBase/man/canFam2.ensGene.LENGTH.Rd:9: missing link 'downloadLengthFromUCSC'
    canFam2.geneSymbol.LENGTH               html  
REDIRECT:topic	 canFam2.geneSymbol.LENGTH -> canFam2.geneSymbol.LENGTH.html [ SUCCESS ]
Rd warning: D:/biocbuild/bbs-3.13-data-experiment/tmpdir/RtmponfpXK/R.INSTALLd06057872baf/geneLenDataBase/man/canFam2.geneSymbol.LENGTH.Rd:9: missing link 'downloadLengthFromUCSC'
    canFam2.genscan.LENGTH                  html  
REDIRECT:topic	 canFam2.genscan.LENGTH -> canFam2.genscan.LENGTH.html [ SUCCESS ]
Rd warning: D:/biocbuild/bbs-3.13-data-experiment/tmpdir/RtmponfpXK/R.INSTALLd06057872baf/geneLenDataBase/man/canFam2.genscan.LENGTH.Rd:9: missing link 'downloadLengthFromUCSC'
    canFam2.nscanGene.LENGTH                html  
REDIRECT:topic	 canFam2.nscanGene.LENGTH -> canFam2.nscanGene.LENGTH.html [ SUCCESS ]
Rd warning: D:/biocbuild/bbs-3.13-data-experiment/tmpdir/RtmponfpXK/R.INSTALLd06057872baf/geneLenDataBase/man/canFam2.nscanGene.LENGTH.Rd:9: missing link 'downloadLengthFromUCSC'
    canFam2.refGene.LENGTH                  html  
REDIRECT:topic	 canFam2.refGene.LENGTH -> canFam2.refGene.LENGTH.html [ SUCCESS ]
Rd warning: D:/biocbuild/bbs-3.13-data-experiment/tmpdir/RtmponfpXK/R.INSTALLd06057872baf/geneLenDataBase/man/canFam2.refGene.LENGTH.Rd:9: missing link 'downloadLengthFromUCSC'
    canFam2.xenoRefGene.LENGTH              html  
REDIRECT:topic	 canFam2.xenoRefGene.LENGTH -> canFam2.xenoRefGene.LENGTH.html [ SUCCESS ]
Rd warning: D:/biocbuild/bbs-3.13-data-experiment/tmpdir/RtmponfpXK/R.INSTALLd06057872baf/geneLenDataBase/man/canFam2.xenoRefGene.LENGTH.Rd:9: missing link 'downloadLengthFromUCSC'
    cavPor3.ensGene.LENGTH                  html  
REDIRECT:topic	 cavPor3.ensGene.LENGTH -> cavPor3.ensGene.LENGTH.html [ SUCCESS ]
Rd warning: D:/biocbuild/bbs-3.13-data-experiment/tmpdir/RtmponfpXK/R.INSTALLd06057872baf/geneLenDataBase/man/cavPor3.ensGene.LENGTH.Rd:9: missing link 'downloadLengthFromUCSC'
    cavPor3.genscan.LENGTH                  html  
REDIRECT:topic	 cavPor3.genscan.LENGTH -> cavPor3.genscan.LENGTH.html [ SUCCESS ]
Rd warning: D:/biocbuild/bbs-3.13-data-experiment/tmpdir/RtmponfpXK/R.INSTALLd06057872baf/geneLenDataBase/man/cavPor3.genscan.LENGTH.Rd:9: missing link 'downloadLengthFromUCSC'
    cavPor3.nscanGene.LENGTH                html  
REDIRECT:topic	 cavPor3.nscanGene.LENGTH -> cavPor3.nscanGene.LENGTH.html [ SUCCESS ]
Rd warning: D:/biocbuild/bbs-3.13-data-experiment/tmpdir/RtmponfpXK/R.INSTALLd06057872baf/geneLenDataBase/man/cavPor3.nscanGene.LENGTH.Rd:9: missing link 'downloadLengthFromUCSC'
    cavPor3.xenoRefGene.LENGTH              html  
REDIRECT:topic	 cavPor3.xenoRefGene.LENGTH -> cavPor3.xenoRefGene.LENGTH.html [ SUCCESS ]
Rd warning: D:/biocbuild/bbs-3.13-data-experiment/tmpdir/RtmponfpXK/R.INSTALLd06057872baf/geneLenDataBase/man/cavPor3.xenoRefGene.LENGTH.Rd:9: missing link 'downloadLengthFromUCSC'
    cb1.xenoRefGene.LENGTH                  html  
REDIRECT:topic	 cb1.xenoRefGene.LENGTH -> cb1.xenoRefGene.LENGTH.html [ SUCCESS ]
Rd warning: D:/biocbuild/bbs-3.13-data-experiment/tmpdir/RtmponfpXK/R.INSTALLd06057872baf/geneLenDataBase/man/cb1.xenoRefGene.LENGTH.Rd:9: missing link 'downloadLengthFromUCSC'
    cb3.xenoRefGene.LENGTH                  html  
REDIRECT:topic	 cb3.xenoRefGene.LENGTH -> cb3.xenoRefGene.LENGTH.html [ SUCCESS ]
Rd warning: D:/biocbuild/bbs-3.13-data-experiment/tmpdir/RtmponfpXK/R.INSTALLd06057872baf/geneLenDataBase/man/cb3.xenoRefGene.LENGTH.Rd:9: missing link 'downloadLengthFromUCSC'
    ce2.geneSymbol.LENGTH                   html  
REDIRECT:topic	 ce2.geneSymbol.LENGTH -> ce2.geneSymbol.LENGTH.html [ SUCCESS ]
Rd warning: D:/biocbuild/bbs-3.13-data-experiment/tmpdir/RtmponfpXK/R.INSTALLd06057872baf/geneLenDataBase/man/ce2.geneSymbol.LENGTH.Rd:9: missing link 'downloadLengthFromUCSC'
    ce2.geneid.LENGTH                       html  
REDIRECT:topic	 ce2.geneid.LENGTH -> ce2.geneid.LENGTH.html [ SUCCESS ]
Rd warning: D:/biocbuild/bbs-3.13-data-experiment/tmpdir/RtmponfpXK/R.INSTALLd06057872baf/geneLenDataBase/man/ce2.geneid.LENGTH.Rd:9: missing link 'downloadLengthFromUCSC'
    ce2.refGene.LENGTH                      html  
REDIRECT:topic	 ce2.refGene.LENGTH -> ce2.refGene.LENGTH.html [ SUCCESS ]
Rd warning: D:/biocbuild/bbs-3.13-data-experiment/tmpdir/RtmponfpXK/R.INSTALLd06057872baf/geneLenDataBase/man/ce2.refGene.LENGTH.Rd:9: missing link 'downloadLengthFromUCSC'
    ce4.geneSymbol.LENGTH                   html  
REDIRECT:topic	 ce4.geneSymbol.LENGTH -> ce4.geneSymbol.LENGTH.html [ SUCCESS ]
Rd warning: D:/biocbuild/bbs-3.13-data-experiment/tmpdir/RtmponfpXK/R.INSTALLd06057872baf/geneLenDataBase/man/ce4.geneSymbol.LENGTH.Rd:9: missing link 'downloadLengthFromUCSC'
    ce4.refGene.LENGTH                      html  
REDIRECT:topic	 ce4.refGene.LENGTH -> ce4.refGene.LENGTH.html [ SUCCESS ]
Rd warning: D:/biocbuild/bbs-3.13-data-experiment/tmpdir/RtmponfpXK/R.INSTALLd06057872baf/geneLenDataBase/man/ce4.refGene.LENGTH.Rd:9: missing link 'downloadLengthFromUCSC'
    ce4.xenoRefGene.LENGTH                  html  
REDIRECT:topic	 ce4.xenoRefGene.LENGTH -> ce4.xenoRefGene.LENGTH.html [ SUCCESS ]
Rd warning: D:/biocbuild/bbs-3.13-data-experiment/tmpdir/RtmponfpXK/R.INSTALLd06057872baf/geneLenDataBase/man/ce4.xenoRefGene.LENGTH.Rd:9: missing link 'downloadLengthFromUCSC'
    ce6.ensGene.LENGTH                      html  
REDIRECT:topic	 ce6.ensGene.LENGTH -> ce6.ensGene.LENGTH.html [ SUCCESS ]
Rd warning: D:/biocbuild/bbs-3.13-data-experiment/tmpdir/RtmponfpXK/R.INSTALLd06057872baf/geneLenDataBase/man/ce6.ensGene.LENGTH.Rd:9: missing link 'downloadLengthFromUCSC'
    ce6.geneSymbol.LENGTH                   html  
REDIRECT:topic	 ce6.geneSymbol.LENGTH -> ce6.geneSymbol.LENGTH.html [ SUCCESS ]
Rd warning: D:/biocbuild/bbs-3.13-data-experiment/tmpdir/RtmponfpXK/R.INSTALLd06057872baf/geneLenDataBase/man/ce6.geneSymbol.LENGTH.Rd:9: missing link 'downloadLengthFromUCSC'
    ce6.refGene.LENGTH                      html  
REDIRECT:topic	 ce6.refGene.LENGTH -> ce6.refGene.LENGTH.html [ SUCCESS ]
Rd warning: D:/biocbuild/bbs-3.13-data-experiment/tmpdir/RtmponfpXK/R.INSTALLd06057872baf/geneLenDataBase/man/ce6.refGene.LENGTH.Rd:9: missing link 'downloadLengthFromUCSC'
    ce6.xenoRefGene.LENGTH                  html  
REDIRECT:topic	 ce6.xenoRefGene.LENGTH -> ce6.xenoRefGene.LENGTH.html [ SUCCESS ]
Rd warning: D:/biocbuild/bbs-3.13-data-experiment/tmpdir/RtmponfpXK/R.INSTALLd06057872baf/geneLenDataBase/man/ce6.xenoRefGene.LENGTH.Rd:9: missing link 'downloadLengthFromUCSC'
    ci1.geneSymbol.LENGTH                   html  
REDIRECT:topic	 ci1.geneSymbol.LENGTH -> ci1.geneSymbol.LENGTH.html [ SUCCESS ]
Rd warning: D:/biocbuild/bbs-3.13-data-experiment/tmpdir/RtmponfpXK/R.INSTALLd06057872baf/geneLenDataBase/man/ci1.geneSymbol.LENGTH.Rd:9: missing link 'downloadLengthFromUCSC'
    ci1.refGene.LENGTH                      html  
REDIRECT:topic	 ci1.refGene.LENGTH -> ci1.refGene.LENGTH.html [ SUCCESS ]
Rd warning: D:/biocbuild/bbs-3.13-data-experiment/tmpdir/RtmponfpXK/R.INSTALLd06057872baf/geneLenDataBase/man/ci1.refGene.LENGTH.Rd:9: missing link 'downloadLengthFromUCSC'
    ci1.xenoRefGene.LENGTH                  html  
REDIRECT:topic	 ci1.xenoRefGene.LENGTH -> ci1.xenoRefGene.LENGTH.html [ SUCCESS ]
Rd warning: D:/biocbuild/bbs-3.13-data-experiment/tmpdir/RtmponfpXK/R.INSTALLd06057872baf/geneLenDataBase/man/ci1.xenoRefGene.LENGTH.Rd:9: missing link 'downloadLengthFromUCSC'
    ci2.ensGene.LENGTH                      html  
REDIRECT:topic	 ci2.ensGene.LENGTH -> ci2.ensGene.LENGTH.html [ SUCCESS ]
Rd warning: D:/biocbuild/bbs-3.13-data-experiment/tmpdir/RtmponfpXK/R.INSTALLd06057872baf/geneLenDataBase/man/ci2.ensGene.LENGTH.Rd:9: missing link 'downloadLengthFromUCSC'
    ci2.geneSymbol.LENGTH                   html  
REDIRECT:topic	 ci2.geneSymbol.LENGTH -> ci2.geneSymbol.LENGTH.html [ SUCCESS ]
Rd warning: D:/biocbuild/bbs-3.13-data-experiment/tmpdir/RtmponfpXK/R.INSTALLd06057872baf/geneLenDataBase/man/ci2.geneSymbol.LENGTH.Rd:9: missing link 'downloadLengthFromUCSC'
    ci2.refGene.LENGTH                      html  
REDIRECT:topic	 ci2.refGene.LENGTH -> ci2.refGene.LENGTH.html [ SUCCESS ]
Rd warning: D:/biocbuild/bbs-3.13-data-experiment/tmpdir/RtmponfpXK/R.INSTALLd06057872baf/geneLenDataBase/man/ci2.refGene.LENGTH.Rd:9: missing link 'downloadLengthFromUCSC'
    ci2.xenoRefGene.LENGTH                  html  
REDIRECT:topic	 ci2.xenoRefGene.LENGTH -> ci2.xenoRefGene.LENGTH.html [ SUCCESS ]
Rd warning: D:/biocbuild/bbs-3.13-data-experiment/tmpdir/RtmponfpXK/R.INSTALLd06057872baf/geneLenDataBase/man/ci2.xenoRefGene.LENGTH.Rd:9: missing link 'downloadLengthFromUCSC'
    danRer3.ensGene.LENGTH                  html  
REDIRECT:topic	 danRer3.ensGene.LENGTH -> danRer3.ensGene.LENGTH.html [ SUCCESS ]
Rd warning: D:/biocbuild/bbs-3.13-data-experiment/tmpdir/RtmponfpXK/R.INSTALLd06057872baf/geneLenDataBase/man/danRer3.ensGene.LENGTH.Rd:9: missing link 'downloadLengthFromUCSC'
    danRer3.geneSymbol.LENGTH               html  
REDIRECT:topic	 danRer3.geneSymbol.LENGTH -> danRer3.geneSymbol.LENGTH.html [ SUCCESS ]
Rd warning: D:/biocbuild/bbs-3.13-data-experiment/tmpdir/RtmponfpXK/R.INSTALLd06057872baf/geneLenDataBase/man/danRer3.geneSymbol.LENGTH.Rd:9: missing link 'downloadLengthFromUCSC'
    danRer3.refGene.LENGTH                  html  
REDIRECT:topic	 danRer3.refGene.LENGTH -> danRer3.refGene.LENGTH.html [ SUCCESS ]
Rd warning: D:/biocbuild/bbs-3.13-data-experiment/tmpdir/RtmponfpXK/R.INSTALLd06057872baf/geneLenDataBase/man/danRer3.refGene.LENGTH.Rd:9: missing link 'downloadLengthFromUCSC'
    danRer4.ensGene.LENGTH                  html  
REDIRECT:topic	 danRer4.ensGene.LENGTH -> danRer4.ensGene.LENGTH.html [ SUCCESS ]
Rd warning: D:/biocbuild/bbs-3.13-data-experiment/tmpdir/RtmponfpXK/R.INSTALLd06057872baf/geneLenDataBase/man/danRer4.ensGene.LENGTH.Rd:9: missing link 'downloadLengthFromUCSC'
    danRer4.geneSymbol.LENGTH               html  
REDIRECT:topic	 danRer4.geneSymbol.LENGTH -> danRer4.geneSymbol.LENGTH.html [ SUCCESS ]
Rd warning: D:/biocbuild/bbs-3.13-data-experiment/tmpdir/RtmponfpXK/R.INSTALLd06057872baf/geneLenDataBase/man/danRer4.geneSymbol.LENGTH.Rd:9: missing link 'downloadLengthFromUCSC'
    danRer4.genscan.LENGTH                  html  
REDIRECT:topic	 danRer4.genscan.LENGTH -> danRer4.genscan.LENGTH.html [ SUCCESS ]
Rd warning: D:/biocbuild/bbs-3.13-data-experiment/tmpdir/RtmponfpXK/R.INSTALLd06057872baf/geneLenDataBase/man/danRer4.genscan.LENGTH.Rd:9: missing link 'downloadLengthFromUCSC'
    danRer4.nscanGene.LENGTH                html  
REDIRECT:topic	 danRer4.nscanGene.LENGTH -> danRer4.nscanGene.LENGTH.html [ SUCCESS ]
Rd warning: D:/biocbuild/bbs-3.13-data-experiment/tmpdir/RtmponfpXK/R.INSTALLd06057872baf/geneLenDataBase/man/danRer4.nscanGene.LENGTH.Rd:9: missing link 'downloadLengthFromUCSC'
    danRer4.refGene.LENGTH                  html  
REDIRECT:topic	 danRer4.refGene.LENGTH -> danRer4.refGene.LENGTH.html [ SUCCESS ]
Rd warning: D:/biocbuild/bbs-3.13-data-experiment/tmpdir/RtmponfpXK/R.INSTALLd06057872baf/geneLenDataBase/man/danRer4.refGene.LENGTH.Rd:9: missing link 'downloadLengthFromUCSC'
    danRer5.ensGene.LENGTH                  html  
REDIRECT:topic	 danRer5.ensGene.LENGTH -> danRer5.ensGene.LENGTH.html [ SUCCESS ]
Rd warning: D:/biocbuild/bbs-3.13-data-experiment/tmpdir/RtmponfpXK/R.INSTALLd06057872baf/geneLenDataBase/man/danRer5.ensGene.LENGTH.Rd:9: missing link 'downloadLengthFromUCSC'
    danRer5.geneSymbol.LENGTH               html  
REDIRECT:topic	 danRer5.geneSymbol.LENGTH -> danRer5.geneSymbol.LENGTH.html [ SUCCESS ]
Rd warning: D:/biocbuild/bbs-3.13-data-experiment/tmpdir/RtmponfpXK/R.INSTALLd06057872baf/geneLenDataBase/man/danRer5.geneSymbol.LENGTH.Rd:9: missing link 'downloadLengthFromUCSC'
    danRer5.refGene.LENGTH                  html  
REDIRECT:topic	 danRer5.refGene.LENGTH -> danRer5.refGene.LENGTH.html [ SUCCESS ]
Rd warning: D:/biocbuild/bbs-3.13-data-experiment/tmpdir/RtmponfpXK/R.INSTALLd06057872baf/geneLenDataBase/man/danRer5.refGene.LENGTH.Rd:9: missing link 'downloadLengthFromUCSC'
    danRer5.vegaGene.LENGTH                 html  
REDIRECT:topic	 danRer5.vegaGene.LENGTH -> danRer5.vegaGene.LENGTH.html [ SUCCESS ]
Rd warning: D:/biocbuild/bbs-3.13-data-experiment/tmpdir/RtmponfpXK/R.INSTALLd06057872baf/geneLenDataBase/man/danRer5.vegaGene.LENGTH.Rd:9: missing link 'downloadLengthFromUCSC'
    danRer5.vegaPseudoGene.LENGTH           html  
REDIRECT:topic	 danRer5.vegaPseudoGene.LENGTH -> danRer5.vegaPseudoGene.LENGTH.html [ SUCCESS ]
Rd warning: D:/biocbuild/bbs-3.13-data-experiment/tmpdir/RtmponfpXK/R.INSTALLd06057872baf/geneLenDataBase/man/danRer5.vegaPseudoGene.LENGTH.Rd:9: missing link 'downloadLengthFromUCSC'
    danRer6.ensGene.LENGTH                  html  
REDIRECT:topic	 danRer6.ensGene.LENGTH -> danRer6.ensGene.LENGTH.html [ SUCCESS ]
Rd warning: D:/biocbuild/bbs-3.13-data-experiment/tmpdir/RtmponfpXK/R.INSTALLd06057872baf/geneLenDataBase/man/danRer6.ensGene.LENGTH.Rd:9: missing link 'downloadLengthFromUCSC'
    danRer6.geneSymbol.LENGTH               html  
REDIRECT:topic	 danRer6.geneSymbol.LENGTH -> danRer6.geneSymbol.LENGTH.html [ SUCCESS ]
Rd warning: D:/biocbuild/bbs-3.13-data-experiment/tmpdir/RtmponfpXK/R.INSTALLd06057872baf/geneLenDataBase/man/danRer6.geneSymbol.LENGTH.Rd:9: missing link 'downloadLengthFromUCSC'
    danRer6.refGene.LENGTH                  html  
REDIRECT:topic	 danRer6.refGene.LENGTH -> danRer6.refGene.LENGTH.html [ SUCCESS ]
Rd warning: D:/biocbuild/bbs-3.13-data-experiment/tmpdir/RtmponfpXK/R.INSTALLd06057872baf/geneLenDataBase/man/danRer6.refGene.LENGTH.Rd:9: missing link 'downloadLengthFromUCSC'
    danRer6.xenoRefGene.LENGTH              html  
REDIRECT:topic	 danRer6.xenoRefGene.LENGTH -> danRer6.xenoRefGene.LENGTH.html [ SUCCESS ]
Rd warning: D:/biocbuild/bbs-3.13-data-experiment/tmpdir/RtmponfpXK/R.INSTALLd06057872baf/geneLenDataBase/man/danRer6.xenoRefGene.LENGTH.Rd:9: missing link 'downloadLengthFromUCSC'
    dm1.geneSymbol.LENGTH                   html  
REDIRECT:topic	 dm1.geneSymbol.LENGTH -> dm1.geneSymbol.LENGTH.html [ SUCCESS ]
Rd warning: D:/biocbuild/bbs-3.13-data-experiment/tmpdir/RtmponfpXK/R.INSTALLd06057872baf/geneLenDataBase/man/dm1.geneSymbol.LENGTH.Rd:9: missing link 'downloadLengthFromUCSC'
    dm1.genscan.LENGTH                      html  
REDIRECT:topic	 dm1.genscan.LENGTH -> dm1.genscan.LENGTH.html [ SUCCESS ]
Rd warning: D:/biocbuild/bbs-3.13-data-experiment/tmpdir/RtmponfpXK/R.INSTALLd06057872baf/geneLenDataBase/man/dm1.genscan.LENGTH.Rd:9: missing link 'downloadLengthFromUCSC'
    dm1.refGene.LENGTH                      html  
REDIRECT:topic	 dm1.refGene.LENGTH -> dm1.refGene.LENGTH.html [ SUCCESS ]
Rd warning: D:/biocbuild/bbs-3.13-data-experiment/tmpdir/RtmponfpXK/R.INSTALLd06057872baf/geneLenDataBase/man/dm1.refGene.LENGTH.Rd:9: missing link 'downloadLengthFromUCSC'
    dm2.geneSymbol.LENGTH                   html  
REDIRECT:topic	 dm2.geneSymbol.LENGTH -> dm2.geneSymbol.LENGTH.html [ SUCCESS ]
Rd warning: D:/biocbuild/bbs-3.13-data-experiment/tmpdir/RtmponfpXK/R.INSTALLd06057872baf/geneLenDataBase/man/dm2.geneSymbol.LENGTH.Rd:9: missing link 'downloadLengthFromUCSC'
    dm2.geneid.LENGTH                       html  
REDIRECT:topic	 dm2.geneid.LENGTH -> dm2.geneid.LENGTH.html [ SUCCESS ]
Rd warning: D:/biocbuild/bbs-3.13-data-experiment/tmpdir/RtmponfpXK/R.INSTALLd06057872baf/geneLenDataBase/man/dm2.geneid.LENGTH.Rd:9: missing link 'downloadLengthFromUCSC'
    dm2.genscan.LENGTH                      html  
REDIRECT:topic	 dm2.genscan.LENGTH -> dm2.genscan.LENGTH.html [ SUCCESS ]
Rd warning: D:/biocbuild/bbs-3.13-data-experiment/tmpdir/RtmponfpXK/R.INSTALLd06057872baf/geneLenDataBase/man/dm2.genscan.LENGTH.Rd:9: missing link 'downloadLengthFromUCSC'
    dm2.nscanGene.LENGTH                    html  
REDIRECT:topic	 dm2.nscanGene.LENGTH -> dm2.nscanGene.LENGTH.html [ SUCCESS ]
Rd warning: D:/biocbuild/bbs-3.13-data-experiment/tmpdir/RtmponfpXK/R.INSTALLd06057872baf/geneLenDataBase/man/dm2.nscanGene.LENGTH.Rd:9: missing link 'downloadLengthFromUCSC'
    dm2.refGene.LENGTH                      html  
REDIRECT:topic	 dm2.refGene.LENGTH -> dm2.refGene.LENGTH.html [ SUCCESS ]
Rd warning: D:/biocbuild/bbs-3.13-data-experiment/tmpdir/RtmponfpXK/R.INSTALLd06057872baf/geneLenDataBase/man/dm2.refGene.LENGTH.Rd:9: missing link 'downloadLengthFromUCSC'
    dm3.geneSymbol.LENGTH                   html  
REDIRECT:topic	 dm3.geneSymbol.LENGTH -> dm3.geneSymbol.LENGTH.html [ SUCCESS ]
Rd warning: D:/biocbuild/bbs-3.13-data-experiment/tmpdir/RtmponfpXK/R.INSTALLd06057872baf/geneLenDataBase/man/dm3.geneSymbol.LENGTH.Rd:9: missing link 'downloadLengthFromUCSC'
    dm3.nscanPasaGene.LENGTH                html  
REDIRECT:topic	 dm3.nscanPasaGene.LENGTH -> dm3.nscanPasaGene.LENGTH.html [ SUCCESS ]
Rd warning: D:/biocbuild/bbs-3.13-data-experiment/tmpdir/RtmponfpXK/R.INSTALLd06057872baf/geneLenDataBase/man/dm3.nscanPasaGene.LENGTH.Rd:9: missing link 'downloadLengthFromUCSC'
    dm3.refGene.LENGTH                      html  
REDIRECT:topic	 dm3.refGene.LENGTH -> dm3.refGene.LENGTH.html [ SUCCESS ]
Rd warning: D:/biocbuild/bbs-3.13-data-experiment/tmpdir/RtmponfpXK/R.INSTALLd06057872baf/geneLenDataBase/man/dm3.refGene.LENGTH.Rd:9: missing link 'downloadLengthFromUCSC'
    dp2.genscan.LENGTH                      html  
REDIRECT:topic	 dp2.genscan.LENGTH -> dp2.genscan.LENGTH.html [ SUCCESS ]
Rd warning: D:/biocbuild/bbs-3.13-data-experiment/tmpdir/RtmponfpXK/R.INSTALLd06057872baf/geneLenDataBase/man/dp2.genscan.LENGTH.Rd:9: missing link 'downloadLengthFromUCSC'
    dp2.xenoRefGene.LENGTH                  html  
REDIRECT:topic	 dp2.xenoRefGene.LENGTH -> dp2.xenoRefGene.LENGTH.html [ SUCCESS ]
Rd warning: D:/biocbuild/bbs-3.13-data-experiment/tmpdir/RtmponfpXK/R.INSTALLd06057872baf/geneLenDataBase/man/dp2.xenoRefGene.LENGTH.Rd:9: missing link 'downloadLengthFromUCSC'
    dp3.geneid.LENGTH                       html  
REDIRECT:topic	 dp3.geneid.LENGTH -> dp3.geneid.LENGTH.html [ SUCCESS ]
Rd warning: D:/biocbuild/bbs-3.13-data-experiment/tmpdir/RtmponfpXK/R.INSTALLd06057872baf/geneLenDataBase/man/dp3.geneid.LENGTH.Rd:9: missing link 'downloadLengthFromUCSC'
    dp3.genscan.LENGTH                      html  
REDIRECT:topic	 dp3.genscan.LENGTH -> dp3.genscan.LENGTH.html [ SUCCESS ]
Rd warning: D:/biocbuild/bbs-3.13-data-experiment/tmpdir/RtmponfpXK/R.INSTALLd06057872baf/geneLenDataBase/man/dp3.genscan.LENGTH.Rd:9: missing link 'downloadLengthFromUCSC'
    dp3.xenoRefGene.LENGTH                  html  
REDIRECT:topic	 dp3.xenoRefGene.LENGTH -> dp3.xenoRefGene.LENGTH.html [ SUCCESS ]
Rd warning: D:/biocbuild/bbs-3.13-data-experiment/tmpdir/RtmponfpXK/R.INSTALLd06057872baf/geneLenDataBase/man/dp3.xenoRefGene.LENGTH.Rd:9: missing link 'downloadLengthFromUCSC'
    droAna1.geneid.LENGTH                   html  
REDIRECT:topic	 droAna1.geneid.LENGTH -> droAna1.geneid.LENGTH.html [ SUCCESS ]
Rd warning: D:/biocbuild/bbs-3.13-data-experiment/tmpdir/RtmponfpXK/R.INSTALLd06057872baf/geneLenDataBase/man/droAna1.geneid.LENGTH.Rd:9: missing link 'downloadLengthFromUCSC'
    droAna1.genscan.LENGTH                  html  
REDIRECT:topic	 droAna1.genscan.LENGTH -> droAna1.genscan.LENGTH.html [ SUCCESS ]
Rd warning: D:/biocbuild/bbs-3.13-data-experiment/tmpdir/RtmponfpXK/R.INSTALLd06057872baf/geneLenDataBase/man/droAna1.genscan.LENGTH.Rd:9: missing link 'downloadLengthFromUCSC'
    droAna1.xenoRefGene.LENGTH              html  
REDIRECT:topic	 droAna1.xenoRefGene.LENGTH -> droAna1.xenoRefGene.LENGTH.html [ SUCCESS ]
Rd warning: D:/biocbuild/bbs-3.13-data-experiment/tmpdir/RtmponfpXK/R.INSTALLd06057872baf/geneLenDataBase/man/droAna1.xenoRefGene.LENGTH.Rd:9: missing link 'downloadLengthFromUCSC'
    droAna2.genscan.LENGTH                  html  
REDIRECT:topic	 droAna2.genscan.LENGTH -> droAna2.genscan.LENGTH.html [ SUCCESS ]
Rd warning: D:/biocbuild/bbs-3.13-data-experiment/tmpdir/RtmponfpXK/R.INSTALLd06057872baf/geneLenDataBase/man/droAna2.genscan.LENGTH.Rd:9: missing link 'downloadLengthFromUCSC'
    droAna2.xenoRefGene.LENGTH              html  
REDIRECT:topic	 droAna2.xenoRefGene.LENGTH -> droAna2.xenoRefGene.LENGTH.html [ SUCCESS ]
Rd warning: D:/biocbuild/bbs-3.13-data-experiment/tmpdir/RtmponfpXK/R.INSTALLd06057872baf/geneLenDataBase/man/droAna2.xenoRefGene.LENGTH.Rd:9: missing link 'downloadLengthFromUCSC'
    droEre1.genscan.LENGTH                  html  
REDIRECT:topic	 droEre1.genscan.LENGTH -> droEre1.genscan.LENGTH.html [ SUCCESS ]
Rd warning: D:/biocbuild/bbs-3.13-data-experiment/tmpdir/RtmponfpXK/R.INSTALLd06057872baf/geneLenDataBase/man/droEre1.genscan.LENGTH.Rd:9: missing link 'downloadLengthFromUCSC'
    droEre1.xenoRefGene.LENGTH              html  
REDIRECT:topic	 droEre1.xenoRefGene.LENGTH -> droEre1.xenoRefGene.LENGTH.html [ SUCCESS ]
Rd warning: D:/biocbuild/bbs-3.13-data-experiment/tmpdir/RtmponfpXK/R.INSTALLd06057872baf/geneLenDataBase/man/droEre1.xenoRefGene.LENGTH.Rd:9: missing link 'downloadLengthFromUCSC'
    droGri1.genscan.LENGTH                  html  
REDIRECT:topic	 droGri1.genscan.LENGTH -> droGri1.genscan.LENGTH.html [ SUCCESS ]
Rd warning: D:/biocbuild/bbs-3.13-data-experiment/tmpdir/RtmponfpXK/R.INSTALLd06057872baf/geneLenDataBase/man/droGri1.genscan.LENGTH.Rd:9: missing link 'downloadLengthFromUCSC'
    droGri1.xenoRefGene.LENGTH              html  
REDIRECT:topic	 droGri1.xenoRefGene.LENGTH -> droGri1.xenoRefGene.LENGTH.html [ SUCCESS ]
Rd warning: D:/biocbuild/bbs-3.13-data-experiment/tmpdir/RtmponfpXK/R.INSTALLd06057872baf/geneLenDataBase/man/droGri1.xenoRefGene.LENGTH.Rd:9: missing link 'downloadLengthFromUCSC'
    droMoj1.geneid.LENGTH                   html  
REDIRECT:topic	 droMoj1.geneid.LENGTH -> droMoj1.geneid.LENGTH.html [ SUCCESS ]
Rd warning: D:/biocbuild/bbs-3.13-data-experiment/tmpdir/RtmponfpXK/R.INSTALLd06057872baf/geneLenDataBase/man/droMoj1.geneid.LENGTH.Rd:9: missing link 'downloadLengthFromUCSC'
    droMoj1.genscan.LENGTH                  html  
REDIRECT:topic	 droMoj1.genscan.LENGTH -> droMoj1.genscan.LENGTH.html [ SUCCESS ]
Rd warning: D:/biocbuild/bbs-3.13-data-experiment/tmpdir/RtmponfpXK/R.INSTALLd06057872baf/geneLenDataBase/man/droMoj1.genscan.LENGTH.Rd:9: missing link 'downloadLengthFromUCSC'
    droMoj1.xenoRefGene.LENGTH              html  
REDIRECT:topic	 droMoj1.xenoRefGene.LENGTH -> droMoj1.xenoRefGene.LENGTH.html [ SUCCESS ]
Rd warning: D:/biocbuild/bbs-3.13-data-experiment/tmpdir/RtmponfpXK/R.INSTALLd06057872baf/geneLenDataBase/man/droMoj1.xenoRefGene.LENGTH.Rd:9: missing link 'downloadLengthFromUCSC'
    droMoj2.genscan.LENGTH                  html  
REDIRECT:topic	 droMoj2.genscan.LENGTH -> droMoj2.genscan.LENGTH.html [ SUCCESS ]
Rd warning: D:/biocbuild/bbs-3.13-data-experiment/tmpdir/RtmponfpXK/R.INSTALLd06057872baf/geneLenDataBase/man/droMoj2.genscan.LENGTH.Rd:9: missing link 'downloadLengthFromUCSC'
    droMoj2.xenoRefGene.LENGTH              html  
REDIRECT:topic	 droMoj2.xenoRefGene.LENGTH -> droMoj2.xenoRefGene.LENGTH.html [ SUCCESS ]
Rd warning: D:/biocbuild/bbs-3.13-data-experiment/tmpdir/RtmponfpXK/R.INSTALLd06057872baf/geneLenDataBase/man/droMoj2.xenoRefGene.LENGTH.Rd:9: missing link 'downloadLengthFromUCSC'
    droPer1.genscan.LENGTH                  html  
REDIRECT:topic	 droPer1.genscan.LENGTH -> droPer1.genscan.LENGTH.html [ SUCCESS ]
Rd warning: D:/biocbuild/bbs-3.13-data-experiment/tmpdir/RtmponfpXK/R.INSTALLd06057872baf/geneLenDataBase/man/droPer1.genscan.LENGTH.Rd:9: missing link 'downloadLengthFromUCSC'
    droPer1.xenoRefGene.LENGTH              html  
REDIRECT:topic	 droPer1.xenoRefGene.LENGTH -> droPer1.xenoRefGene.LENGTH.html [ SUCCESS ]
Rd warning: D:/biocbuild/bbs-3.13-data-experiment/tmpdir/RtmponfpXK/R.INSTALLd06057872baf/geneLenDataBase/man/droPer1.xenoRefGene.LENGTH.Rd:9: missing link 'downloadLengthFromUCSC'
    droSec1.genscan.LENGTH                  html  
REDIRECT:topic	 droSec1.genscan.LENGTH -> droSec1.genscan.LENGTH.html [ SUCCESS ]
Rd warning: D:/biocbuild/bbs-3.13-data-experiment/tmpdir/RtmponfpXK/R.INSTALLd06057872baf/geneLenDataBase/man/droSec1.genscan.LENGTH.Rd:9: missing link 'downloadLengthFromUCSC'
    droSec1.xenoRefGene.LENGTH              html  
REDIRECT:topic	 droSec1.xenoRefGene.LENGTH -> droSec1.xenoRefGene.LENGTH.html [ SUCCESS ]
Rd warning: D:/biocbuild/bbs-3.13-data-experiment/tmpdir/RtmponfpXK/R.INSTALLd06057872baf/geneLenDataBase/man/droSec1.xenoRefGene.LENGTH.Rd:9: missing link 'downloadLengthFromUCSC'
    droSim1.geneid.LENGTH                   html  
REDIRECT:topic	 droSim1.geneid.LENGTH -> droSim1.geneid.LENGTH.html [ SUCCESS ]
Rd warning: D:/biocbuild/bbs-3.13-data-experiment/tmpdir/RtmponfpXK/R.INSTALLd06057872baf/geneLenDataBase/man/droSim1.geneid.LENGTH.Rd:9: missing link 'downloadLengthFromUCSC'
    droSim1.genscan.LENGTH                  html  
REDIRECT:topic	 droSim1.genscan.LENGTH -> droSim1.genscan.LENGTH.html [ SUCCESS ]
Rd warning: D:/biocbuild/bbs-3.13-data-experiment/tmpdir/RtmponfpXK/R.INSTALLd06057872baf/geneLenDataBase/man/droSim1.genscan.LENGTH.Rd:9: missing link 'downloadLengthFromUCSC'
    droSim1.xenoRefGene.LENGTH              html  
REDIRECT:topic	 droSim1.xenoRefGene.LENGTH -> droSim1.xenoRefGene.LENGTH.html [ SUCCESS ]
Rd warning: D:/biocbuild/bbs-3.13-data-experiment/tmpdir/RtmponfpXK/R.INSTALLd06057872baf/geneLenDataBase/man/droSim1.xenoRefGene.LENGTH.Rd:9: missing link 'downloadLengthFromUCSC'
    droVir1.geneid.LENGTH                   html  
REDIRECT:topic	 droVir1.geneid.LENGTH -> droVir1.geneid.LENGTH.html [ SUCCESS ]
Rd warning: D:/biocbuild/bbs-3.13-data-experiment/tmpdir/RtmponfpXK/R.INSTALLd06057872baf/geneLenDataBase/man/droVir1.geneid.LENGTH.Rd:9: missing link 'downloadLengthFromUCSC'
    droVir1.genscan.LENGTH                  html  
REDIRECT:topic	 droVir1.genscan.LENGTH -> droVir1.genscan.LENGTH.html [ SUCCESS ]
Rd warning: D:/biocbuild/bbs-3.13-data-experiment/tmpdir/RtmponfpXK/R.INSTALLd06057872baf/geneLenDataBase/man/droVir1.genscan.LENGTH.Rd:9: missing link 'downloadLengthFromUCSC'
    droVir1.xenoRefGene.LENGTH              html  
REDIRECT:topic	 droVir1.xenoRefGene.LENGTH -> droVir1.xenoRefGene.LENGTH.html [ SUCCESS ]
Rd warning: D:/biocbuild/bbs-3.13-data-experiment/tmpdir/RtmponfpXK/R.INSTALLd06057872baf/geneLenDataBase/man/droVir1.xenoRefGene.LENGTH.Rd:9: missing link 'downloadLengthFromUCSC'
    droVir2.genscan.LENGTH                  html  
REDIRECT:topic	 droVir2.genscan.LENGTH -> droVir2.genscan.LENGTH.html [ SUCCESS ]
Rd warning: D:/biocbuild/bbs-3.13-data-experiment/tmpdir/RtmponfpXK/R.INSTALLd06057872baf/geneLenDataBase/man/droVir2.genscan.LENGTH.Rd:9: missing link 'downloadLengthFromUCSC'
    droVir2.xenoRefGene.LENGTH              html  
REDIRECT:topic	 droVir2.xenoRefGene.LENGTH -> droVir2.xenoRefGene.LENGTH.html [ SUCCESS ]
Rd warning: D:/biocbuild/bbs-3.13-data-experiment/tmpdir/RtmponfpXK/R.INSTALLd06057872baf/geneLenDataBase/man/droVir2.xenoRefGene.LENGTH.Rd:9: missing link 'downloadLengthFromUCSC'
    droYak1.geneid.LENGTH                   html  
REDIRECT:topic	 droYak1.geneid.LENGTH -> droYak1.geneid.LENGTH.html [ SUCCESS ]
Rd warning: D:/biocbuild/bbs-3.13-data-experiment/tmpdir/RtmponfpXK/R.INSTALLd06057872baf/geneLenDataBase/man/droYak1.geneid.LENGTH.Rd:9: missing link 'downloadLengthFromUCSC'
    droYak1.genscan.LENGTH                  html  
REDIRECT:topic	 droYak1.genscan.LENGTH -> droYak1.genscan.LENGTH.html [ SUCCESS ]
Rd warning: D:/biocbuild/bbs-3.13-data-experiment/tmpdir/RtmponfpXK/R.INSTALLd06057872baf/geneLenDataBase/man/droYak1.genscan.LENGTH.Rd:9: missing link 'downloadLengthFromUCSC'
    droYak1.xenoRefGene.LENGTH              html  
REDIRECT:topic	 droYak1.xenoRefGene.LENGTH -> droYak1.xenoRefGene.LENGTH.html [ SUCCESS ]
Rd warning: D:/biocbuild/bbs-3.13-data-experiment/tmpdir/RtmponfpXK/R.INSTALLd06057872baf/geneLenDataBase/man/droYak1.xenoRefGene.LENGTH.Rd:9: missing link 'downloadLengthFromUCSC'
    droYak2.genscan.LENGTH                  html  
REDIRECT:topic	 droYak2.genscan.LENGTH -> droYak2.genscan.LENGTH.html [ SUCCESS ]
Rd warning: D:/biocbuild/bbs-3.13-data-experiment/tmpdir/RtmponfpXK/R.INSTALLd06057872baf/geneLenDataBase/man/droYak2.genscan.LENGTH.Rd:9: missing link 'downloadLengthFromUCSC'
    droYak2.xenoRefGene.LENGTH              html  
REDIRECT:topic	 droYak2.xenoRefGene.LENGTH -> droYak2.xenoRefGene.LENGTH.html [ SUCCESS ]
Rd warning: D:/biocbuild/bbs-3.13-data-experiment/tmpdir/RtmponfpXK/R.INSTALLd06057872baf/geneLenDataBase/man/droYak2.xenoRefGene.LENGTH.Rd:9: missing link 'downloadLengthFromUCSC'
    equCab1.geneSymbol.LENGTH               html  
REDIRECT:topic	 equCab1.geneSymbol.LENGTH -> equCab1.geneSymbol.LENGTH.html [ SUCCESS ]
Rd warning: D:/biocbuild/bbs-3.13-data-experiment/tmpdir/RtmponfpXK/R.INSTALLd06057872baf/geneLenDataBase/man/equCab1.geneSymbol.LENGTH.Rd:9: missing link 'downloadLengthFromUCSC'
    equCab1.geneid.LENGTH                   html  
REDIRECT:topic	 equCab1.geneid.LENGTH -> equCab1.geneid.LENGTH.html [ SUCCESS ]
Rd warning: D:/biocbuild/bbs-3.13-data-experiment/tmpdir/RtmponfpXK/R.INSTALLd06057872baf/geneLenDataBase/man/equCab1.geneid.LENGTH.Rd:9: missing link 'downloadLengthFromUCSC'
    equCab1.nscanGene.LENGTH                html  
REDIRECT:topic	 equCab1.nscanGene.LENGTH -> equCab1.nscanGene.LENGTH.html [ SUCCESS ]
Rd warning: D:/biocbuild/bbs-3.13-data-experiment/tmpdir/RtmponfpXK/R.INSTALLd06057872baf/geneLenDataBase/man/equCab1.nscanGene.LENGTH.Rd:9: missing link 'downloadLengthFromUCSC'
    equCab1.refGene.LENGTH                  html  
REDIRECT:topic	 equCab1.refGene.LENGTH -> equCab1.refGene.LENGTH.html [ SUCCESS ]
Rd warning: D:/biocbuild/bbs-3.13-data-experiment/tmpdir/RtmponfpXK/R.INSTALLd06057872baf/geneLenDataBase/man/equCab1.refGene.LENGTH.Rd:9: missing link 'downloadLengthFromUCSC'
    equCab1.sgpGene.LENGTH                  html  
REDIRECT:topic	 equCab1.sgpGene.LENGTH -> equCab1.sgpGene.LENGTH.html [ SUCCESS ]
Rd warning: D:/biocbuild/bbs-3.13-data-experiment/tmpdir/RtmponfpXK/R.INSTALLd06057872baf/geneLenDataBase/man/equCab1.sgpGene.LENGTH.Rd:9: missing link 'downloadLengthFromUCSC'
    equCab2.ensGene.LENGTH                  html  
REDIRECT:topic	 equCab2.ensGene.LENGTH -> equCab2.ensGene.LENGTH.html [ SUCCESS ]
Rd warning: D:/biocbuild/bbs-3.13-data-experiment/tmpdir/RtmponfpXK/R.INSTALLd06057872baf/geneLenDataBase/man/equCab2.ensGene.LENGTH.Rd:9: missing link 'downloadLengthFromUCSC'
    equCab2.geneSymbol.LENGTH               html  
REDIRECT:topic	 equCab2.geneSymbol.LENGTH -> equCab2.geneSymbol.LENGTH.html [ SUCCESS ]
Rd warning: D:/biocbuild/bbs-3.13-data-experiment/tmpdir/RtmponfpXK/R.INSTALLd06057872baf/geneLenDataBase/man/equCab2.geneSymbol.LENGTH.Rd:9: missing link 'downloadLengthFromUCSC'
    equCab2.nscanGene.LENGTH                html  
REDIRECT:topic	 equCab2.nscanGene.LENGTH -> equCab2.nscanGene.LENGTH.html [ SUCCESS ]
Rd warning: D:/biocbuild/bbs-3.13-data-experiment/tmpdir/RtmponfpXK/R.INSTALLd06057872baf/geneLenDataBase/man/equCab2.nscanGene.LENGTH.Rd:9: missing link 'downloadLengthFromUCSC'
    equCab2.refGene.LENGTH                  html  
REDIRECT:topic	 equCab2.refGene.LENGTH -> equCab2.refGene.LENGTH.html [ SUCCESS ]
Rd warning: D:/biocbuild/bbs-3.13-data-experiment/tmpdir/RtmponfpXK/R.INSTALLd06057872baf/geneLenDataBase/man/equCab2.refGene.LENGTH.Rd:9: missing link 'downloadLengthFromUCSC'
    equCab2.xenoRefGene.LENGTH              html  
REDIRECT:topic	 equCab2.xenoRefGene.LENGTH -> equCab2.xenoRefGene.LENGTH.html [ SUCCESS ]
Rd warning: D:/biocbuild/bbs-3.13-data-experiment/tmpdir/RtmponfpXK/R.INSTALLd06057872baf/geneLenDataBase/man/equCab2.xenoRefGene.LENGTH.Rd:9: missing link 'downloadLengthFromUCSC'
    felCat3.ensGene.LENGTH                  html  
REDIRECT:topic	 felCat3.ensGene.LENGTH -> felCat3.ensGene.LENGTH.html [ SUCCESS ]
Rd warning: D:/biocbuild/bbs-3.13-data-experiment/tmpdir/RtmponfpXK/R.INSTALLd06057872baf/geneLenDataBase/man/felCat3.ensGene.LENGTH.Rd:9: missing link 'downloadLengthFromUCSC'
    felCat3.geneSymbol.LENGTH               html  
REDIRECT:topic	 felCat3.geneSymbol.LENGTH -> felCat3.geneSymbol.LENGTH.html [ SUCCESS ]
Rd warning: D:/biocbuild/bbs-3.13-data-experiment/tmpdir/RtmponfpXK/R.INSTALLd06057872baf/geneLenDataBase/man/felCat3.geneSymbol.LENGTH.Rd:9: missing link 'downloadLengthFromUCSC'
    felCat3.geneid.LENGTH                   html  
REDIRECT:topic	 felCat3.geneid.LENGTH -> felCat3.geneid.LENGTH.html [ SUCCESS ]
Rd warning: D:/biocbuild/bbs-3.13-data-experiment/tmpdir/RtmponfpXK/R.INSTALLd06057872baf/geneLenDataBase/man/felCat3.geneid.LENGTH.Rd:9: missing link 'downloadLengthFromUCSC'
    felCat3.genscan.LENGTH                  html  
REDIRECT:topic	 felCat3.genscan.LENGTH -> felCat3.genscan.LENGTH.html [ SUCCESS ]
Rd warning: D:/biocbuild/bbs-3.13-data-experiment/tmpdir/RtmponfpXK/R.INSTALLd06057872baf/geneLenDataBase/man/felCat3.genscan.LENGTH.Rd:9: missing link 'downloadLengthFromUCSC'
    felCat3.nscanGene.LENGTH                html  
REDIRECT:topic	 felCat3.nscanGene.LENGTH -> felCat3.nscanGene.LENGTH.html [ SUCCESS ]
Rd warning: D:/biocbuild/bbs-3.13-data-experiment/tmpdir/RtmponfpXK/R.INSTALLd06057872baf/geneLenDataBase/man/felCat3.nscanGene.LENGTH.Rd:9: missing link 'downloadLengthFromUCSC'
    felCat3.refGene.LENGTH                  html  
REDIRECT:topic	 felCat3.refGene.LENGTH -> felCat3.refGene.LENGTH.html [ SUCCESS ]
Rd warning: D:/biocbuild/bbs-3.13-data-experiment/tmpdir/RtmponfpXK/R.INSTALLd06057872baf/geneLenDataBase/man/felCat3.refGene.LENGTH.Rd:9: missing link 'downloadLengthFromUCSC'
    felCat3.sgpGene.LENGTH                  html  
REDIRECT:topic	 felCat3.sgpGene.LENGTH -> felCat3.sgpGene.LENGTH.html [ SUCCESS ]
Rd warning: D:/biocbuild/bbs-3.13-data-experiment/tmpdir/RtmponfpXK/R.INSTALLd06057872baf/geneLenDataBase/man/felCat3.sgpGene.LENGTH.Rd:9: missing link 'downloadLengthFromUCSC'
    felCat3.xenoRefGene.LENGTH              html  
REDIRECT:topic	 felCat3.xenoRefGene.LENGTH -> felCat3.xenoRefGene.LENGTH.html [ SUCCESS ]
Rd warning: D:/biocbuild/bbs-3.13-data-experiment/tmpdir/RtmponfpXK/R.INSTALLd06057872baf/geneLenDataBase/man/felCat3.xenoRefGene.LENGTH.Rd:9: missing link 'downloadLengthFromUCSC'
    fr1.ensGene.LENGTH                      html  
REDIRECT:topic	 fr1.ensGene.LENGTH -> fr1.ensGene.LENGTH.html [ SUCCESS ]
Rd warning: D:/biocbuild/bbs-3.13-data-experiment/tmpdir/RtmponfpXK/R.INSTALLd06057872baf/geneLenDataBase/man/fr1.ensGene.LENGTH.Rd:9: missing link 'downloadLengthFromUCSC'
    fr1.genscan.LENGTH                      html  
REDIRECT:topic	 fr1.genscan.LENGTH -> fr1.genscan.LENGTH.html [ SUCCESS ]
Rd warning: D:/biocbuild/bbs-3.13-data-experiment/tmpdir/RtmponfpXK/R.INSTALLd06057872baf/geneLenDataBase/man/fr1.genscan.LENGTH.Rd:9: missing link 'downloadLengthFromUCSC'
    fr2.ensGene.LENGTH                      html  
REDIRECT:topic	 fr2.ensGene.LENGTH -> fr2.ensGene.LENGTH.html [ SUCCESS ]
Rd warning: D:/biocbuild/bbs-3.13-data-experiment/tmpdir/RtmponfpXK/R.INSTALLd06057872baf/geneLenDataBase/man/fr2.ensGene.LENGTH.Rd:9: missing link 'downloadLengthFromUCSC'
    galGal2.ensGene.LENGTH                  html  
REDIRECT:topic	 galGal2.ensGene.LENGTH -> galGal2.ensGene.LENGTH.html [ SUCCESS ]
Rd warning: D:/biocbuild/bbs-3.13-data-experiment/tmpdir/RtmponfpXK/R.INSTALLd06057872baf/geneLenDataBase/man/galGal2.ensGene.LENGTH.Rd:9: missing link 'downloadLengthFromUCSC'
    galGal2.geneSymbol.LENGTH               html  
REDIRECT:topic	 galGal2.geneSymbol.LENGTH -> galGal2.geneSymbol.LENGTH.html [ SUCCESS ]
Rd warning: D:/biocbuild/bbs-3.13-data-experiment/tmpdir/RtmponfpXK/R.INSTALLd06057872baf/geneLenDataBase/man/galGal2.geneSymbol.LENGTH.Rd:9: missing link 'downloadLengthFromUCSC'
    galGal2.geneid.LENGTH                   html  
REDIRECT:topic	 galGal2.geneid.LENGTH -> galGal2.geneid.LENGTH.html [ SUCCESS ]
Rd warning: D:/biocbuild/bbs-3.13-data-experiment/tmpdir/RtmponfpXK/R.INSTALLd06057872baf/geneLenDataBase/man/galGal2.geneid.LENGTH.Rd:9: missing link 'downloadLengthFromUCSC'
    galGal2.genscan.LENGTH                  html  
REDIRECT:topic	 galGal2.genscan.LENGTH -> galGal2.genscan.LENGTH.html [ SUCCESS ]
Rd warning: D:/biocbuild/bbs-3.13-data-experiment/tmpdir/RtmponfpXK/R.INSTALLd06057872baf/geneLenDataBase/man/galGal2.genscan.LENGTH.Rd:9: missing link 'downloadLengthFromUCSC'
    galGal2.refGene.LENGTH                  html  
REDIRECT:topic	 galGal2.refGene.LENGTH -> galGal2.refGene.LENGTH.html [ SUCCESS ]
Rd warning: D:/biocbuild/bbs-3.13-data-experiment/tmpdir/RtmponfpXK/R.INSTALLd06057872baf/geneLenDataBase/man/galGal2.refGene.LENGTH.Rd:9: missing link 'downloadLengthFromUCSC'
    galGal2.sgpGene.LENGTH                  html  
REDIRECT:topic	 galGal2.sgpGene.LENGTH -> galGal2.sgpGene.LENGTH.html [ SUCCESS ]
Rd warning: D:/biocbuild/bbs-3.13-data-experiment/tmpdir/RtmponfpXK/R.INSTALLd06057872baf/geneLenDataBase/man/galGal2.sgpGene.LENGTH.Rd:9: missing link 'downloadLengthFromUCSC'
    galGal3.ensGene.LENGTH                  html  
REDIRECT:topic	 galGal3.ensGene.LENGTH -> galGal3.ensGene.LENGTH.html [ SUCCESS ]
Rd warning: D:/biocbuild/bbs-3.13-data-experiment/tmpdir/RtmponfpXK/R.INSTALLd06057872baf/geneLenDataBase/man/galGal3.ensGene.LENGTH.Rd:9: missing link 'downloadLengthFromUCSC'
    galGal3.geneSymbol.LENGTH               html  
REDIRECT:topic	 galGal3.geneSymbol.LENGTH -> galGal3.geneSymbol.LENGTH.html [ SUCCESS ]
Rd warning: D:/biocbuild/bbs-3.13-data-experiment/tmpdir/RtmponfpXK/R.INSTALLd06057872baf/geneLenDataBase/man/galGal3.geneSymbol.LENGTH.Rd:9: missing link 'downloadLengthFromUCSC'
    galGal3.genscan.LENGTH                  html  
REDIRECT:topic	 galGal3.genscan.LENGTH -> galGal3.genscan.LENGTH.html [ SUCCESS ]
Rd warning: D:/biocbuild/bbs-3.13-data-experiment/tmpdir/RtmponfpXK/R.INSTALLd06057872baf/geneLenDataBase/man/galGal3.genscan.LENGTH.Rd:9: missing link 'downloadLengthFromUCSC'
    galGal3.nscanGene.LENGTH                html  
REDIRECT:topic	 galGal3.nscanGene.LENGTH -> galGal3.nscanGene.LENGTH.html [ SUCCESS ]
Rd warning: D:/biocbuild/bbs-3.13-data-experiment/tmpdir/RtmponfpXK/R.INSTALLd06057872baf/geneLenDataBase/man/galGal3.nscanGene.LENGTH.Rd:9: missing link 'downloadLengthFromUCSC'
    galGal3.refGene.LENGTH                  html  
REDIRECT:topic	 galGal3.refGene.LENGTH -> galGal3.refGene.LENGTH.html [ SUCCESS ]
Rd warning: D:/biocbuild/bbs-3.13-data-experiment/tmpdir/RtmponfpXK/R.INSTALLd06057872baf/geneLenDataBase/man/galGal3.refGene.LENGTH.Rd:9: missing link 'downloadLengthFromUCSC'
    galGal3.xenoRefGene.LENGTH              html  
REDIRECT:topic	 galGal3.xenoRefGene.LENGTH -> galGal3.xenoRefGene.LENGTH.html [ SUCCESS ]
Rd warning: D:/biocbuild/bbs-3.13-data-experiment/tmpdir/RtmponfpXK/R.INSTALLd06057872baf/geneLenDataBase/man/galGal3.xenoRefGene.LENGTH.Rd:9: missing link 'downloadLengthFromUCSC'
    gasAcu1.ensGene.LENGTH                  html  
REDIRECT:topic	 gasAcu1.ensGene.LENGTH -> gasAcu1.ensGene.LENGTH.html [ SUCCESS ]
Rd warning: D:/biocbuild/bbs-3.13-data-experiment/tmpdir/RtmponfpXK/R.INSTALLd06057872baf/geneLenDataBase/man/gasAcu1.ensGene.LENGTH.Rd:9: missing link 'downloadLengthFromUCSC'
    gasAcu1.nscanGene.LENGTH                html  
REDIRECT:topic	 gasAcu1.nscanGene.LENGTH -> gasAcu1.nscanGene.LENGTH.html [ SUCCESS ]
Rd warning: D:/biocbuild/bbs-3.13-data-experiment/tmpdir/RtmponfpXK/R.INSTALLd06057872baf/geneLenDataBase/man/gasAcu1.nscanGene.LENGTH.Rd:9: missing link 'downloadLengthFromUCSC'
    hg16.acembly.LENGTH                     html  
REDIRECT:topic	 hg16.acembly.LENGTH -> hg16.acembly.LENGTH.html [ SUCCESS ]
Rd warning: D:/biocbuild/bbs-3.13-data-experiment/tmpdir/RtmponfpXK/R.INSTALLd06057872baf/geneLenDataBase/man/hg16.acembly.LENGTH.Rd:9: missing link 'downloadLengthFromUCSC'
    hg16.ensGene.LENGTH                     html  
REDIRECT:topic	 hg16.ensGene.LENGTH -> hg16.ensGene.LENGTH.html [ SUCCESS ]
Rd warning: D:/biocbuild/bbs-3.13-data-experiment/tmpdir/RtmponfpXK/R.INSTALLd06057872baf/geneLenDataBase/man/hg16.ensGene.LENGTH.Rd:9: missing link 'downloadLengthFromUCSC'
    hg16.exoniphy.LENGTH                    html  
REDIRECT:topic	 hg16.exoniphy.LENGTH -> hg16.exoniphy.LENGTH.html [ SUCCESS ]
Rd warning: D:/biocbuild/bbs-3.13-data-experiment/tmpdir/RtmponfpXK/R.INSTALLd06057872baf/geneLenDataBase/man/hg16.exoniphy.LENGTH.Rd:9: missing link 'downloadLengthFromUCSC'
    hg16.geneSymbol.LENGTH                  html  
REDIRECT:topic	 hg16.geneSymbol.LENGTH -> hg16.geneSymbol.LENGTH.html [ SUCCESS ]
Rd warning: D:/biocbuild/bbs-3.13-data-experiment/tmpdir/RtmponfpXK/R.INSTALLd06057872baf/geneLenDataBase/man/hg16.geneSymbol.LENGTH.Rd:9: missing link 'downloadLengthFromUCSC'
    hg16.geneid.LENGTH                      html  
REDIRECT:topic	 hg16.geneid.LENGTH -> hg16.geneid.LENGTH.html [ SUCCESS ]
Rd warning: D:/biocbuild/bbs-3.13-data-experiment/tmpdir/RtmponfpXK/R.INSTALLd06057872baf/geneLenDataBase/man/hg16.geneid.LENGTH.Rd:9: missing link 'downloadLengthFromUCSC'
    hg16.genscan.LENGTH                     html  
REDIRECT:topic	 hg16.genscan.LENGTH -> hg16.genscan.LENGTH.html [ SUCCESS ]
Rd warning: D:/biocbuild/bbs-3.13-data-experiment/tmpdir/RtmponfpXK/R.INSTALLd06057872baf/geneLenDataBase/man/hg16.genscan.LENGTH.Rd:9: missing link 'downloadLengthFromUCSC'
    hg16.knownGene.LENGTH                   html  
REDIRECT:topic	 hg16.knownGene.LENGTH -> hg16.knownGene.LENGTH.html [ SUCCESS ]
Rd warning: D:/biocbuild/bbs-3.13-data-experiment/tmpdir/RtmponfpXK/R.INSTALLd06057872baf/geneLenDataBase/man/hg16.knownGene.LENGTH.Rd:9: missing link 'downloadLengthFromUCSC'
    hg16.refGene.LENGTH                     html  
REDIRECT:topic	 hg16.refGene.LENGTH -> hg16.refGene.LENGTH.html [ SUCCESS ]
Rd warning: D:/biocbuild/bbs-3.13-data-experiment/tmpdir/RtmponfpXK/R.INSTALLd06057872baf/geneLenDataBase/man/hg16.refGene.LENGTH.Rd:9: missing link 'downloadLengthFromUCSC'
    hg16.sgpGene.LENGTH                     html  
REDIRECT:topic	 hg16.sgpGene.LENGTH -> hg16.sgpGene.LENGTH.html [ SUCCESS ]
Rd warning: D:/biocbuild/bbs-3.13-data-experiment/tmpdir/RtmponfpXK/R.INSTALLd06057872baf/geneLenDataBase/man/hg16.sgpGene.LENGTH.Rd:9: missing link 'downloadLengthFromUCSC'
    hg17.acembly.LENGTH                     html  
REDIRECT:topic	 hg17.acembly.LENGTH -> hg17.acembly.LENGTH.html [ SUCCESS ]
Rd warning: D:/biocbuild/bbs-3.13-data-experiment/tmpdir/RtmponfpXK/R.INSTALLd06057872baf/geneLenDataBase/man/hg17.acembly.LENGTH.Rd:9: missing link 'downloadLengthFromUCSC'
    hg17.acescan.LENGTH                     html  
REDIRECT:topic	 hg17.acescan.LENGTH -> hg17.acescan.LENGTH.html [ SUCCESS ]
Rd warning: D:/biocbuild/bbs-3.13-data-experiment/tmpdir/RtmponfpXK/R.INSTALLd06057872baf/geneLenDataBase/man/hg17.acescan.LENGTH.Rd:9: missing link 'downloadLengthFromUCSC'
    hg17.ccdsGene.LENGTH                    html  
REDIRECT:topic	 hg17.ccdsGene.LENGTH -> hg17.ccdsGene.LENGTH.html [ SUCCESS ]
Rd warning: D:/biocbuild/bbs-3.13-data-experiment/tmpdir/RtmponfpXK/R.INSTALLd06057872baf/geneLenDataBase/man/hg17.ccdsGene.LENGTH.Rd:9: missing link 'downloadLengthFromUCSC'
    hg17.ensGene.LENGTH                     html  
REDIRECT:topic	 hg17.ensGene.LENGTH -> hg17.ensGene.LENGTH.html [ SUCCESS ]
Rd warning: D:/biocbuild/bbs-3.13-data-experiment/tmpdir/RtmponfpXK/R.INSTALLd06057872baf/geneLenDataBase/man/hg17.ensGene.LENGTH.Rd:9: missing link 'downloadLengthFromUCSC'
    hg17.exoniphy.LENGTH                    html  
REDIRECT:topic	 hg17.exoniphy.LENGTH -> hg17.exoniphy.LENGTH.html [ SUCCESS ]
Rd warning: D:/biocbuild/bbs-3.13-data-experiment/tmpdir/RtmponfpXK/R.INSTALLd06057872baf/geneLenDataBase/man/hg17.exoniphy.LENGTH.Rd:9: missing link 'downloadLengthFromUCSC'
    hg17.geneSymbol.LENGTH                  html  
REDIRECT:topic	 hg17.geneSymbol.LENGTH -> hg17.geneSymbol.LENGTH.html [ SUCCESS ]
Rd warning: D:/biocbuild/bbs-3.13-data-experiment/tmpdir/RtmponfpXK/R.INSTALLd06057872baf/geneLenDataBase/man/hg17.geneSymbol.LENGTH.Rd:9: missing link 'downloadLengthFromUCSC'
    hg17.geneid.LENGTH                      html  
REDIRECT:topic	 hg17.geneid.LENGTH -> hg17.geneid.LENGTH.html [ SUCCESS ]
Rd warning: D:/biocbuild/bbs-3.13-data-experiment/tmpdir/RtmponfpXK/R.INSTALLd06057872baf/geneLenDataBase/man/hg17.geneid.LENGTH.Rd:9: missing link 'downloadLengthFromUCSC'
    hg17.genscan.LENGTH                     html  
REDIRECT:topic	 hg17.genscan.LENGTH -> hg17.genscan.LENGTH.html [ SUCCESS ]
Rd warning: D:/biocbuild/bbs-3.13-data-experiment/tmpdir/RtmponfpXK/R.INSTALLd06057872baf/geneLenDataBase/man/hg17.genscan.LENGTH.Rd:9: missing link 'downloadLengthFromUCSC'
    hg17.knownGene.LENGTH                   html  
REDIRECT:topic	 hg17.knownGene.LENGTH -> hg17.knownGene.LENGTH.html [ SUCCESS ]
Rd warning: D:/biocbuild/bbs-3.13-data-experiment/tmpdir/RtmponfpXK/R.INSTALLd06057872baf/geneLenDataBase/man/hg17.knownGene.LENGTH.Rd:9: missing link 'downloadLengthFromUCSC'
    hg17.refGene.LENGTH                     html  
REDIRECT:topic	 hg17.refGene.LENGTH -> hg17.refGene.LENGTH.html [ SUCCESS ]
Rd warning: D:/biocbuild/bbs-3.13-data-experiment/tmpdir/RtmponfpXK/R.INSTALLd06057872baf/geneLenDataBase/man/hg17.refGene.LENGTH.Rd:9: missing link 'downloadLengthFromUCSC'
    hg17.sgpGene.LENGTH                     html  
REDIRECT:topic	 hg17.sgpGene.LENGTH -> hg17.sgpGene.LENGTH.html [ SUCCESS ]
Rd warning: D:/biocbuild/bbs-3.13-data-experiment/tmpdir/RtmponfpXK/R.INSTALLd06057872baf/geneLenDataBase/man/hg17.sgpGene.LENGTH.Rd:9: missing link 'downloadLengthFromUCSC'
    hg17.vegaGene.LENGTH                    html  
REDIRECT:topic	 hg17.vegaGene.LENGTH -> hg17.vegaGene.LENGTH.html [ SUCCESS ]
Rd warning: D:/biocbuild/bbs-3.13-data-experiment/tmpdir/RtmponfpXK/R.INSTALLd06057872baf/geneLenDataBase/man/hg17.vegaGene.LENGTH.Rd:9: missing link 'downloadLengthFromUCSC'
    hg17.vegaPseudoGene.LENGTH              html  
REDIRECT:topic	 hg17.vegaPseudoGene.LENGTH -> hg17.vegaPseudoGene.LENGTH.html [ SUCCESS ]
Rd warning: D:/biocbuild/bbs-3.13-data-experiment/tmpdir/RtmponfpXK/R.INSTALLd06057872baf/geneLenDataBase/man/hg17.vegaPseudoGene.LENGTH.Rd:9: missing link 'downloadLengthFromUCSC'
    hg17.xenoRefGene.LENGTH                 html  
REDIRECT:topic	 hg17.xenoRefGene.LENGTH -> hg17.xenoRefGene.LENGTH.html [ SUCCESS ]
Rd warning: D:/biocbuild/bbs-3.13-data-experiment/tmpdir/RtmponfpXK/R.INSTALLd06057872baf/geneLenDataBase/man/hg17.xenoRefGene.LENGTH.Rd:9: missing link 'downloadLengthFromUCSC'
    hg18.acembly.LENGTH                     html  
REDIRECT:topic	 hg18.acembly.LENGTH -> hg18.acembly.LENGTH.html [ SUCCESS ]
Rd warning: D:/biocbuild/bbs-3.13-data-experiment/tmpdir/RtmponfpXK/R.INSTALLd06057872baf/geneLenDataBase/man/hg18.acembly.LENGTH.Rd:9: missing link 'downloadLengthFromUCSC'
    hg18.acescan.LENGTH                     html  
REDIRECT:topic	 hg18.acescan.LENGTH -> hg18.acescan.LENGTH.html [ SUCCESS ]
Rd warning: D:/biocbuild/bbs-3.13-data-experiment/tmpdir/RtmponfpXK/R.INSTALLd06057872baf/geneLenDataBase/man/hg18.acescan.LENGTH.Rd:9: missing link 'downloadLengthFromUCSC'
    hg18.ccdsGene.LENGTH                    html  
REDIRECT:topic	 hg18.ccdsGene.LENGTH -> hg18.ccdsGene.LENGTH.html [ SUCCESS ]
Rd warning: D:/biocbuild/bbs-3.13-data-experiment/tmpdir/RtmponfpXK/R.INSTALLd06057872baf/geneLenDataBase/man/hg18.ccdsGene.LENGTH.Rd:9: missing link 'downloadLengthFromUCSC'
    hg18.ensGene.LENGTH                     html  
REDIRECT:topic	 hg18.ensGene.LENGTH -> hg18.ensGene.LENGTH.html [ SUCCESS ]
Rd warning: D:/biocbuild/bbs-3.13-data-experiment/tmpdir/RtmponfpXK/R.INSTALLd06057872baf/geneLenDataBase/man/hg18.ensGene.LENGTH.Rd:9: missing link 'downloadLengthFromUCSC'
    hg18.exoniphy.LENGTH                    html  
REDIRECT:topic	 hg18.exoniphy.LENGTH -> hg18.exoniphy.LENGTH.html [ SUCCESS ]
Rd warning: D:/biocbuild/bbs-3.13-data-experiment/tmpdir/RtmponfpXK/R.INSTALLd06057872baf/geneLenDataBase/man/hg18.exoniphy.LENGTH.Rd:9: missing link 'downloadLengthFromUCSC'
    hg18.geneSymbol.LENGTH                  html  
REDIRECT:topic	 hg18.geneSymbol.LENGTH -> hg18.geneSymbol.LENGTH.html [ SUCCESS ]
Rd warning: D:/biocbuild/bbs-3.13-data-experiment/tmpdir/RtmponfpXK/R.INSTALLd06057872baf/geneLenDataBase/man/hg18.geneSymbol.LENGTH.Rd:9: missing link 'downloadLengthFromUCSC'
    hg18.geneid.LENGTH                      html  
REDIRECT:topic	 hg18.geneid.LENGTH -> hg18.geneid.LENGTH.html [ SUCCESS ]
Rd warning: D:/biocbuild/bbs-3.13-data-experiment/tmpdir/RtmponfpXK/R.INSTALLd06057872baf/geneLenDataBase/man/hg18.geneid.LENGTH.Rd:9: missing link 'downloadLengthFromUCSC'
    hg18.genscan.LENGTH                     html  
REDIRECT:topic	 hg18.genscan.LENGTH -> hg18.genscan.LENGTH.html [ SUCCESS ]
Rd warning: D:/biocbuild/bbs-3.13-data-experiment/tmpdir/RtmponfpXK/R.INSTALLd06057872baf/geneLenDataBase/man/hg18.genscan.LENGTH.Rd:9: missing link 'downloadLengthFromUCSC'
    hg18.knownGene.LENGTH                   html  
REDIRECT:topic	 hg18.knownGene.LENGTH -> hg18.knownGene.LENGTH.html [ SUCCESS ]
Rd warning: D:/biocbuild/bbs-3.13-data-experiment/tmpdir/RtmponfpXK/R.INSTALLd06057872baf/geneLenDataBase/man/hg18.knownGene.LENGTH.Rd:9: missing link 'downloadLengthFromUCSC'
    hg18.knownGeneOld3.LENGTH               html  
REDIRECT:topic	 hg18.knownGeneOld3.LENGTH -> hg18.knownGeneOld3.LENGTH.html [ SUCCESS ]
Rd warning: D:/biocbuild/bbs-3.13-data-experiment/tmpdir/RtmponfpXK/R.INSTALLd06057872baf/geneLenDataBase/man/hg18.knownGeneOld3.LENGTH.Rd:9: missing link 'downloadLengthFromUCSC'
    hg18.refGene.LENGTH                     html  
REDIRECT:topic	 hg18.refGene.LENGTH -> hg18.refGene.LENGTH.html [ SUCCESS ]
Rd warning: D:/biocbuild/bbs-3.13-data-experiment/tmpdir/RtmponfpXK/R.INSTALLd06057872baf/geneLenDataBase/man/hg18.refGene.LENGTH.Rd:9: missing link 'downloadLengthFromUCSC'
    hg18.sgpGene.LENGTH                     html  
REDIRECT:topic	 hg18.sgpGene.LENGTH -> hg18.sgpGene.LENGTH.html [ SUCCESS ]
Rd warning: D:/biocbuild/bbs-3.13-data-experiment/tmpdir/RtmponfpXK/R.INSTALLd06057872baf/geneLenDataBase/man/hg18.sgpGene.LENGTH.Rd:9: missing link 'downloadLengthFromUCSC'
    hg18.sibGene.LENGTH                     html  
REDIRECT:topic	 hg18.sibGene.LENGTH -> hg18.sibGene.LENGTH.html [ SUCCESS ]
Rd warning: D:/biocbuild/bbs-3.13-data-experiment/tmpdir/RtmponfpXK/R.INSTALLd06057872baf/geneLenDataBase/man/hg18.sibGene.LENGTH.Rd:9: missing link 'downloadLengthFromUCSC'
    hg18.xenoRefGene.LENGTH                 html  
REDIRECT:topic	 hg18.xenoRefGene.LENGTH -> hg18.xenoRefGene.LENGTH.html [ SUCCESS ]
Rd warning: D:/biocbuild/bbs-3.13-data-experiment/tmpdir/RtmponfpXK/R.INSTALLd06057872baf/geneLenDataBase/man/hg18.xenoRefGene.LENGTH.Rd:9: missing link 'downloadLengthFromUCSC'
    hg19.ccdsGene.LENGTH                    html  
REDIRECT:topic	 hg19.ccdsGene.LENGTH -> hg19.ccdsGene.LENGTH.html [ SUCCESS ]
Rd warning: D:/biocbuild/bbs-3.13-data-experiment/tmpdir/RtmponfpXK/R.INSTALLd06057872baf/geneLenDataBase/man/hg19.ccdsGene.LENGTH.Rd:9: missing link 'downloadLengthFromUCSC'
    hg19.ensGene.LENGTH                     html  
REDIRECT:topic	 hg19.ensGene.LENGTH -> hg19.ensGene.LENGTH.html [ SUCCESS ]
Rd warning: D:/biocbuild/bbs-3.13-data-experiment/tmpdir/RtmponfpXK/R.INSTALLd06057872baf/geneLenDataBase/man/hg19.ensGene.LENGTH.Rd:9: missing link 'downloadLengthFromUCSC'
    hg19.exoniphy.LENGTH                    html  
REDIRECT:topic	 hg19.exoniphy.LENGTH -> hg19.exoniphy.LENGTH.html [ SUCCESS ]
Rd warning: D:/biocbuild/bbs-3.13-data-experiment/tmpdir/RtmponfpXK/R.INSTALLd06057872baf/geneLenDataBase/man/hg19.exoniphy.LENGTH.Rd:9: missing link 'downloadLengthFromUCSC'
    hg19.geneSymbol.LENGTH                  html  
REDIRECT:topic	 hg19.geneSymbol.LENGTH -> hg19.geneSymbol.LENGTH.html [ SUCCESS ]
Rd warning: D:/biocbuild/bbs-3.13-data-experiment/tmpdir/RtmponfpXK/R.INSTALLd06057872baf/geneLenDataBase/man/hg19.geneSymbol.LENGTH.Rd:9: missing link 'downloadLengthFromUCSC'
    hg19.knownGene.LENGTH                   html  
REDIRECT:topic	 hg19.knownGene.LENGTH -> hg19.knownGene.LENGTH.html [ SUCCESS ]
Rd warning: D:/biocbuild/bbs-3.13-data-experiment/tmpdir/RtmponfpXK/R.INSTALLd06057872baf/geneLenDataBase/man/hg19.knownGene.LENGTH.Rd:9: missing link 'downloadLengthFromUCSC'
    hg19.nscanGene.LENGTH                   html  
REDIRECT:topic	 hg19.nscanGene.LENGTH -> hg19.nscanGene.LENGTH.html [ SUCCESS ]
Rd warning: D:/biocbuild/bbs-3.13-data-experiment/tmpdir/RtmponfpXK/R.INSTALLd06057872baf/geneLenDataBase/man/hg19.nscanGene.LENGTH.Rd:9: missing link 'downloadLengthFromUCSC'
    hg19.refGene.LENGTH                     html  
REDIRECT:topic	 hg19.refGene.LENGTH -> hg19.refGene.LENGTH.html [ SUCCESS ]
Rd warning: D:/biocbuild/bbs-3.13-data-experiment/tmpdir/RtmponfpXK/R.INSTALLd06057872baf/geneLenDataBase/man/hg19.refGene.LENGTH.Rd:9: missing link 'downloadLengthFromUCSC'
    hg19.xenoRefGene.LENGTH                 html  
REDIRECT:topic	 hg19.xenoRefGene.LENGTH -> hg19.xenoRefGene.LENGTH.html [ SUCCESS ]
Rd warning: D:/biocbuild/bbs-3.13-data-experiment/tmpdir/RtmponfpXK/R.INSTALLd06057872baf/geneLenDataBase/man/hg19.xenoRefGene.LENGTH.Rd:9: missing link 'downloadLengthFromUCSC'
    loxAfr3.xenoRefGene.LENGTH              html  
REDIRECT:topic	 loxAfr3.xenoRefGene.LENGTH -> loxAfr3.xenoRefGene.LENGTH.html [ SUCCESS ]
Rd warning: D:/biocbuild/bbs-3.13-data-experiment/tmpdir/RtmponfpXK/R.INSTALLd06057872baf/geneLenDataBase/man/loxAfr3.xenoRefGene.LENGTH.Rd:9: missing link 'downloadLengthFromUCSC'
    mm7.ensGene.LENGTH                      html  
REDIRECT:topic	 mm7.ensGene.LENGTH -> mm7.ensGene.LENGTH.html [ SUCCESS ]
Rd warning: D:/biocbuild/bbs-3.13-data-experiment/tmpdir/RtmponfpXK/R.INSTALLd06057872baf/geneLenDataBase/man/mm7.ensGene.LENGTH.Rd:9: missing link 'downloadLengthFromUCSC'
    mm7.geneSymbol.LENGTH                   html  
REDIRECT:topic	 mm7.geneSymbol.LENGTH -> mm7.geneSymbol.LENGTH.html [ SUCCESS ]
Rd warning: D:/biocbuild/bbs-3.13-data-experiment/tmpdir/RtmponfpXK/R.INSTALLd06057872baf/geneLenDataBase/man/mm7.geneSymbol.LENGTH.Rd:9: missing link 'downloadLengthFromUCSC'
    mm7.geneid.LENGTH                       html  
REDIRECT:topic	 mm7.geneid.LENGTH -> mm7.geneid.LENGTH.html [ SUCCESS ]
Rd warning: D:/biocbuild/bbs-3.13-data-experiment/tmpdir/RtmponfpXK/R.INSTALLd06057872baf/geneLenDataBase/man/mm7.geneid.LENGTH.Rd:9: missing link 'downloadLengthFromUCSC'
    mm7.genscan.LENGTH                      html  
REDIRECT:topic	 mm7.genscan.LENGTH -> mm7.genscan.LENGTH.html [ SUCCESS ]
Rd warning: D:/biocbuild/bbs-3.13-data-experiment/tmpdir/RtmponfpXK/R.INSTALLd06057872baf/geneLenDataBase/man/mm7.genscan.LENGTH.Rd:9: missing link 'downloadLengthFromUCSC'
    mm7.knownGene.LENGTH                    html  
REDIRECT:topic	 mm7.knownGene.LENGTH -> mm7.knownGene.LENGTH.html [ SUCCESS ]
Rd warning: D:/biocbuild/bbs-3.13-data-experiment/tmpdir/RtmponfpXK/R.INSTALLd06057872baf/geneLenDataBase/man/mm7.knownGene.LENGTH.Rd:9: missing link 'downloadLengthFromUCSC'
    mm7.refGene.LENGTH                      html  
REDIRECT:topic	 mm7.refGene.LENGTH -> mm7.refGene.LENGTH.html [ SUCCESS ]
Rd warning: D:/biocbuild/bbs-3.13-data-experiment/tmpdir/RtmponfpXK/R.INSTALLd06057872baf/geneLenDataBase/man/mm7.refGene.LENGTH.Rd:9: missing link 'downloadLengthFromUCSC'
    mm7.sgpGene.LENGTH                      html  
REDIRECT:topic	 mm7.sgpGene.LENGTH -> mm7.sgpGene.LENGTH.html [ SUCCESS ]
Rd warning: D:/biocbuild/bbs-3.13-data-experiment/tmpdir/RtmponfpXK/R.INSTALLd06057872baf/geneLenDataBase/man/mm7.sgpGene.LENGTH.Rd:9: missing link 'downloadLengthFromUCSC'
    mm7.xenoRefGene.LENGTH                  html  
REDIRECT:topic	 mm7.xenoRefGene.LENGTH -> mm7.xenoRefGene.LENGTH.html [ SUCCESS ]
Rd warning: D:/biocbuild/bbs-3.13-data-experiment/tmpdir/RtmponfpXK/R.INSTALLd06057872baf/geneLenDataBase/man/mm7.xenoRefGene.LENGTH.Rd:9: missing link 'downloadLengthFromUCSC'
    mm8.ccdsGene.LENGTH                     html  
REDIRECT:topic	 mm8.ccdsGene.LENGTH -> mm8.ccdsGene.LENGTH.html [ SUCCESS ]
Rd warning: D:/biocbuild/bbs-3.13-data-experiment/tmpdir/RtmponfpXK/R.INSTALLd06057872baf/geneLenDataBase/man/mm8.ccdsGene.LENGTH.Rd:9: missing link 'downloadLengthFromUCSC'
    mm8.ensGene.LENGTH                      html  
REDIRECT:topic	 mm8.ensGene.LENGTH -> mm8.ensGene.LENGTH.html [ SUCCESS ]
Rd warning: D:/biocbuild/bbs-3.13-data-experiment/tmpdir/RtmponfpXK/R.INSTALLd06057872baf/geneLenDataBase/man/mm8.ensGene.LENGTH.Rd:9: missing link 'downloadLengthFromUCSC'
    mm8.geneSymbol.LENGTH                   html  
REDIRECT:topic	 mm8.geneSymbol.LENGTH -> mm8.geneSymbol.LENGTH.html [ SUCCESS ]
Rd warning: D:/biocbuild/bbs-3.13-data-experiment/tmpdir/RtmponfpXK/R.INSTALLd06057872baf/geneLenDataBase/man/mm8.geneSymbol.LENGTH.Rd:9: missing link 'downloadLengthFromUCSC'
    mm8.geneid.LENGTH                       html  
REDIRECT:topic	 mm8.geneid.LENGTH -> mm8.geneid.LENGTH.html [ SUCCESS ]
Rd warning: D:/biocbuild/bbs-3.13-data-experiment/tmpdir/RtmponfpXK/R.INSTALLd06057872baf/geneLenDataBase/man/mm8.geneid.LENGTH.Rd:9: missing link 'downloadLengthFromUCSC'
    mm8.genscan.LENGTH                      html  
REDIRECT:topic	 mm8.genscan.LENGTH -> mm8.genscan.LENGTH.html [ SUCCESS ]
Rd warning: D:/biocbuild/bbs-3.13-data-experiment/tmpdir/RtmponfpXK/R.INSTALLd06057872baf/geneLenDataBase/man/mm8.genscan.LENGTH.Rd:9: missing link 'downloadLengthFromUCSC'
    mm8.knownGene.LENGTH                    html  
REDIRECT:topic	 mm8.knownGene.LENGTH -> mm8.knownGene.LENGTH.html [ SUCCESS ]
Rd warning: D:/biocbuild/bbs-3.13-data-experiment/tmpdir/RtmponfpXK/R.INSTALLd06057872baf/geneLenDataBase/man/mm8.knownGene.LENGTH.Rd:9: missing link 'downloadLengthFromUCSC'
    mm8.nscanGene.LENGTH                    html  
REDIRECT:topic	 mm8.nscanGene.LENGTH -> mm8.nscanGene.LENGTH.html [ SUCCESS ]
Rd warning: D:/biocbuild/bbs-3.13-data-experiment/tmpdir/RtmponfpXK/R.INSTALLd06057872baf/geneLenDataBase/man/mm8.nscanGene.LENGTH.Rd:9: missing link 'downloadLengthFromUCSC'
    mm8.refGene.LENGTH                      html  
REDIRECT:topic	 mm8.refGene.LENGTH -> mm8.refGene.LENGTH.html [ SUCCESS ]
Rd warning: D:/biocbuild/bbs-3.13-data-experiment/tmpdir/RtmponfpXK/R.INSTALLd06057872baf/geneLenDataBase/man/mm8.refGene.LENGTH.Rd:9: missing link 'downloadLengthFromUCSC'
    mm8.sgpGene.LENGTH                      html  
REDIRECT:topic	 mm8.sgpGene.LENGTH -> mm8.sgpGene.LENGTH.html [ SUCCESS ]
Rd warning: D:/biocbuild/bbs-3.13-data-experiment/tmpdir/RtmponfpXK/R.INSTALLd06057872baf/geneLenDataBase/man/mm8.sgpGene.LENGTH.Rd:9: missing link 'downloadLengthFromUCSC'
    mm8.sibGene.LENGTH                      html  
REDIRECT:topic	 mm8.sibGene.LENGTH -> mm8.sibGene.LENGTH.html [ SUCCESS ]
Rd warning: D:/biocbuild/bbs-3.13-data-experiment/tmpdir/RtmponfpXK/R.INSTALLd06057872baf/geneLenDataBase/man/mm8.sibGene.LENGTH.Rd:9: missing link 'downloadLengthFromUCSC'
    mm8.xenoRefGene.LENGTH                  html  
REDIRECT:topic	 mm8.xenoRefGene.LENGTH -> mm8.xenoRefGene.LENGTH.html [ SUCCESS ]
Rd warning: D:/biocbuild/bbs-3.13-data-experiment/tmpdir/RtmponfpXK/R.INSTALLd06057872baf/geneLenDataBase/man/mm8.xenoRefGene.LENGTH.Rd:9: missing link 'downloadLengthFromUCSC'
    mm9.acembly.LENGTH                      html  
REDIRECT:topic	 mm9.acembly.LENGTH -> mm9.acembly.LENGTH.html [ SUCCESS ]
Rd warning: D:/biocbuild/bbs-3.13-data-experiment/tmpdir/RtmponfpXK/R.INSTALLd06057872baf/geneLenDataBase/man/mm9.acembly.LENGTH.Rd:9: missing link 'downloadLengthFromUCSC'
    mm9.ccdsGene.LENGTH                     html  
REDIRECT:topic	 mm9.ccdsGene.LENGTH -> mm9.ccdsGene.LENGTH.html [ SUCCESS ]
Rd warning: D:/biocbuild/bbs-3.13-data-experiment/tmpdir/RtmponfpXK/R.INSTALLd06057872baf/geneLenDataBase/man/mm9.ccdsGene.LENGTH.Rd:9: missing link 'downloadLengthFromUCSC'
    mm9.ensGene.LENGTH                      html  
REDIRECT:topic	 mm9.ensGene.LENGTH -> mm9.ensGene.LENGTH.html [ SUCCESS ]
Rd warning: D:/biocbuild/bbs-3.13-data-experiment/tmpdir/RtmponfpXK/R.INSTALLd06057872baf/geneLenDataBase/man/mm9.ensGene.LENGTH.Rd:9: missing link 'downloadLengthFromUCSC'
    mm9.exoniphy.LENGTH                     html  
REDIRECT:topic	 mm9.exoniphy.LENGTH -> mm9.exoniphy.LENGTH.html [ SUCCESS ]
Rd warning: D:/biocbuild/bbs-3.13-data-experiment/tmpdir/RtmponfpXK/R.INSTALLd06057872baf/geneLenDataBase/man/mm9.exoniphy.LENGTH.Rd:9: missing link 'downloadLengthFromUCSC'
    mm9.geneSymbol.LENGTH                   html  
REDIRECT:topic	 mm9.geneSymbol.LENGTH -> mm9.geneSymbol.LENGTH.html [ SUCCESS ]
Rd warning: D:/biocbuild/bbs-3.13-data-experiment/tmpdir/RtmponfpXK/R.INSTALLd06057872baf/geneLenDataBase/man/mm9.geneSymbol.LENGTH.Rd:9: missing link 'downloadLengthFromUCSC'
    mm9.geneid.LENGTH                       html  
REDIRECT:topic	 mm9.geneid.LENGTH -> mm9.geneid.LENGTH.html [ SUCCESS ]
Rd warning: D:/biocbuild/bbs-3.13-data-experiment/tmpdir/RtmponfpXK/R.INSTALLd06057872baf/geneLenDataBase/man/mm9.geneid.LENGTH.Rd:9: missing link 'downloadLengthFromUCSC'
    mm9.genscan.LENGTH                      html  
REDIRECT:topic	 mm9.genscan.LENGTH -> mm9.genscan.LENGTH.html [ SUCCESS ]
Rd warning: D:/biocbuild/bbs-3.13-data-experiment/tmpdir/RtmponfpXK/R.INSTALLd06057872baf/geneLenDataBase/man/mm9.genscan.LENGTH.Rd:9: missing link 'downloadLengthFromUCSC'
    mm9.knownGene.LENGTH                    html  
REDIRECT:topic	 mm9.knownGene.LENGTH -> mm9.knownGene.LENGTH.html [ SUCCESS ]
Rd warning: D:/biocbuild/bbs-3.13-data-experiment/tmpdir/RtmponfpXK/R.INSTALLd06057872baf/geneLenDataBase/man/mm9.knownGene.LENGTH.Rd:9: missing link 'downloadLengthFromUCSC'
    mm9.nscanGene.LENGTH                    html  
REDIRECT:topic	 mm9.nscanGene.LENGTH -> mm9.nscanGene.LENGTH.html [ SUCCESS ]
Rd warning: D:/biocbuild/bbs-3.13-data-experiment/tmpdir/RtmponfpXK/R.INSTALLd06057872baf/geneLenDataBase/man/mm9.nscanGene.LENGTH.Rd:9: missing link 'downloadLengthFromUCSC'
    mm9.refGene.LENGTH                      html  
REDIRECT:topic	 mm9.refGene.LENGTH -> mm9.refGene.LENGTH.html [ SUCCESS ]
Rd warning: D:/biocbuild/bbs-3.13-data-experiment/tmpdir/RtmponfpXK/R.INSTALLd06057872baf/geneLenDataBase/man/mm9.refGene.LENGTH.Rd:9: missing link 'downloadLengthFromUCSC'
    mm9.sgpGene.LENGTH                      html  
REDIRECT:topic	 mm9.sgpGene.LENGTH -> mm9.sgpGene.LENGTH.html [ SUCCESS ]
Rd warning: D:/biocbuild/bbs-3.13-data-experiment/tmpdir/RtmponfpXK/R.INSTALLd06057872baf/geneLenDataBase/man/mm9.sgpGene.LENGTH.Rd:9: missing link 'downloadLengthFromUCSC'
    mm9.xenoRefGene.LENGTH                  html  
REDIRECT:topic	 mm9.xenoRefGene.LENGTH -> mm9.xenoRefGene.LENGTH.html [ SUCCESS ]
Rd warning: D:/biocbuild/bbs-3.13-data-experiment/tmpdir/RtmponfpXK/R.INSTALLd06057872baf/geneLenDataBase/man/mm9.xenoRefGene.LENGTH.Rd:9: missing link 'downloadLengthFromUCSC'
    monDom1.genscan.LENGTH                  html  
REDIRECT:topic	 monDom1.genscan.LENGTH -> monDom1.genscan.LENGTH.html [ SUCCESS ]
Rd warning: D:/biocbuild/bbs-3.13-data-experiment/tmpdir/RtmponfpXK/R.INSTALLd06057872baf/geneLenDataBase/man/monDom1.genscan.LENGTH.Rd:9: missing link 'downloadLengthFromUCSC'
    monDom4.ensGene.LENGTH                  html  
REDIRECT:topic	 monDom4.ensGene.LENGTH -> monDom4.ensGene.LENGTH.html [ SUCCESS ]
Rd warning: D:/biocbuild/bbs-3.13-data-experiment/tmpdir/RtmponfpXK/R.INSTALLd06057872baf/geneLenDataBase/man/monDom4.ensGene.LENGTH.Rd:9: missing link 'downloadLengthFromUCSC'
    monDom4.geneSymbol.LENGTH               html  
REDIRECT:topic	 monDom4.geneSymbol.LENGTH -> monDom4.geneSymbol.LENGTH.html [ SUCCESS ]
Rd warning: D:/biocbuild/bbs-3.13-data-experiment/tmpdir/RtmponfpXK/R.INSTALLd06057872baf/geneLenDataBase/man/monDom4.geneSymbol.LENGTH.Rd:9: missing link 'downloadLengthFromUCSC'
    monDom4.genscan.LENGTH                  html  
REDIRECT:topic	 monDom4.genscan.LENGTH -> monDom4.genscan.LENGTH.html [ SUCCESS ]
Rd warning: D:/biocbuild/bbs-3.13-data-experiment/tmpdir/RtmponfpXK/R.INSTALLd06057872baf/geneLenDataBase/man/monDom4.genscan.LENGTH.Rd:9: missing link 'downloadLengthFromUCSC'
    monDom4.nscanGene.LENGTH                html  
REDIRECT:topic	 monDom4.nscanGene.LENGTH -> monDom4.nscanGene.LENGTH.html [ SUCCESS ]
Rd warning: D:/biocbuild/bbs-3.13-data-experiment/tmpdir/RtmponfpXK/R.INSTALLd06057872baf/geneLenDataBase/man/monDom4.nscanGene.LENGTH.Rd:9: missing link 'downloadLengthFromUCSC'
    monDom4.refGene.LENGTH                  html  
REDIRECT:topic	 monDom4.refGene.LENGTH -> monDom4.refGene.LENGTH.html [ SUCCESS ]
Rd warning: D:/biocbuild/bbs-3.13-data-experiment/tmpdir/RtmponfpXK/R.INSTALLd06057872baf/geneLenDataBase/man/monDom4.refGene.LENGTH.Rd:9: missing link 'downloadLengthFromUCSC'
    monDom4.xenoRefGene.LENGTH              html  
REDIRECT:topic	 monDom4.xenoRefGene.LENGTH -> monDom4.xenoRefGene.LENGTH.html [ SUCCESS ]
Rd warning: D:/biocbuild/bbs-3.13-data-experiment/tmpdir/RtmponfpXK/R.INSTALLd06057872baf/geneLenDataBase/man/monDom4.xenoRefGene.LENGTH.Rd:9: missing link 'downloadLengthFromUCSC'
    monDom5.ensGene.LENGTH                  html  
REDIRECT:topic	 monDom5.ensGene.LENGTH -> monDom5.ensGene.LENGTH.html [ SUCCESS ]
Rd warning: D:/biocbuild/bbs-3.13-data-experiment/tmpdir/RtmponfpXK/R.INSTALLd06057872baf/geneLenDataBase/man/monDom5.ensGene.LENGTH.Rd:9: missing link 'downloadLengthFromUCSC'
    monDom5.geneSymbol.LENGTH               html  
REDIRECT:topic	 monDom5.geneSymbol.LENGTH -> monDom5.geneSymbol.LENGTH.html [ SUCCESS ]
Rd warning: D:/biocbuild/bbs-3.13-data-experiment/tmpdir/RtmponfpXK/R.INSTALLd06057872baf/geneLenDataBase/man/monDom5.geneSymbol.LENGTH.Rd:9: missing link 'downloadLengthFromUCSC'
    monDom5.genscan.LENGTH                  html  
REDIRECT:topic	 monDom5.genscan.LENGTH -> monDom5.genscan.LENGTH.html [ SUCCESS ]
Rd warning: D:/biocbuild/bbs-3.13-data-experiment/tmpdir/RtmponfpXK/R.INSTALLd06057872baf/geneLenDataBase/man/monDom5.genscan.LENGTH.Rd:9: missing link 'downloadLengthFromUCSC'
    monDom5.nscanGene.LENGTH                html  
REDIRECT:topic	 monDom5.nscanGene.LENGTH -> monDom5.nscanGene.LENGTH.html [ SUCCESS ]
Rd warning: D:/biocbuild/bbs-3.13-data-experiment/tmpdir/RtmponfpXK/R.INSTALLd06057872baf/geneLenDataBase/man/monDom5.nscanGene.LENGTH.Rd:9: missing link 'downloadLengthFromUCSC'
    monDom5.refGene.LENGTH                  html  
REDIRECT:topic	 monDom5.refGene.LENGTH -> monDom5.refGene.LENGTH.html [ SUCCESS ]
Rd warning: D:/biocbuild/bbs-3.13-data-experiment/tmpdir/RtmponfpXK/R.INSTALLd06057872baf/geneLenDataBase/man/monDom5.refGene.LENGTH.Rd:9: missing link 'downloadLengthFromUCSC'
    monDom5.xenoRefGene.LENGTH              html  
REDIRECT:topic	 monDom5.xenoRefGene.LENGTH -> monDom5.xenoRefGene.LENGTH.html [ SUCCESS ]
Rd warning: D:/biocbuild/bbs-3.13-data-experiment/tmpdir/RtmponfpXK/R.INSTALLd06057872baf/geneLenDataBase/man/monDom5.xenoRefGene.LENGTH.Rd:9: missing link 'downloadLengthFromUCSC'
    ornAna1.ensGene.LENGTH                  html  
REDIRECT:topic	 ornAna1.ensGene.LENGTH -> ornAna1.ensGene.LENGTH.html [ SUCCESS ]
Rd warning: D:/biocbuild/bbs-3.13-data-experiment/tmpdir/RtmponfpXK/R.INSTALLd06057872baf/geneLenDataBase/man/ornAna1.ensGene.LENGTH.Rd:9: missing link 'downloadLengthFromUCSC'
    ornAna1.geneSymbol.LENGTH               html  
REDIRECT:topic	 ornAna1.geneSymbol.LENGTH -> ornAna1.geneSymbol.LENGTH.html [ SUCCESS ]
Rd warning: D:/biocbuild/bbs-3.13-data-experiment/tmpdir/RtmponfpXK/R.INSTALLd06057872baf/geneLenDataBase/man/ornAna1.geneSymbol.LENGTH.Rd:9: missing link 'downloadLengthFromUCSC'
    ornAna1.refGene.LENGTH                  html  
REDIRECT:topic	 ornAna1.refGene.LENGTH -> ornAna1.refGene.LENGTH.html [ SUCCESS ]
Rd warning: D:/biocbuild/bbs-3.13-data-experiment/tmpdir/RtmponfpXK/R.INSTALLd06057872baf/geneLenDataBase/man/ornAna1.refGene.LENGTH.Rd:9: missing link 'downloadLengthFromUCSC'
    ornAna1.xenoRefGene.LENGTH              html  
REDIRECT:topic	 ornAna1.xenoRefGene.LENGTH -> ornAna1.xenoRefGene.LENGTH.html [ SUCCESS ]
Rd warning: D:/biocbuild/bbs-3.13-data-experiment/tmpdir/RtmponfpXK/R.INSTALLd06057872baf/geneLenDataBase/man/ornAna1.xenoRefGene.LENGTH.Rd:9: missing link 'downloadLengthFromUCSC'
    oryLat2.ensGene.LENGTH                  html  
REDIRECT:topic	 oryLat2.ensGene.LENGTH -> oryLat2.ensGene.LENGTH.html [ SUCCESS ]
Rd warning: D:/biocbuild/bbs-3.13-data-experiment/tmpdir/RtmponfpXK/R.INSTALLd06057872baf/geneLenDataBase/man/oryLat2.ensGene.LENGTH.Rd:9: missing link 'downloadLengthFromUCSC'
    oryLat2.geneSymbol.LENGTH               html  
REDIRECT:topic	 oryLat2.geneSymbol.LENGTH -> oryLat2.geneSymbol.LENGTH.html [ SUCCESS ]
Rd warning: D:/biocbuild/bbs-3.13-data-experiment/tmpdir/RtmponfpXK/R.INSTALLd06057872baf/geneLenDataBase/man/oryLat2.geneSymbol.LENGTH.Rd:9: missing link 'downloadLengthFromUCSC'
    oryLat2.refGene.LENGTH                  html  
REDIRECT:topic	 oryLat2.refGene.LENGTH -> oryLat2.refGene.LENGTH.html [ SUCCESS ]
Rd warning: D:/biocbuild/bbs-3.13-data-experiment/tmpdir/RtmponfpXK/R.INSTALLd06057872baf/geneLenDataBase/man/oryLat2.refGene.LENGTH.Rd:9: missing link 'downloadLengthFromUCSC'
    oryLat2.xenoRefGene.LENGTH              html  
REDIRECT:topic	 oryLat2.xenoRefGene.LENGTH -> oryLat2.xenoRefGene.LENGTH.html [ SUCCESS ]
Rd warning: D:/biocbuild/bbs-3.13-data-experiment/tmpdir/RtmponfpXK/R.INSTALLd06057872baf/geneLenDataBase/man/oryLat2.xenoRefGene.LENGTH.Rd:9: missing link 'downloadLengthFromUCSC'
    panTro1.ensGene.LENGTH                  html  
REDIRECT:topic	 panTro1.ensGene.LENGTH -> panTro1.ensGene.LENGTH.html [ SUCCESS ]
Rd warning: D:/biocbuild/bbs-3.13-data-experiment/tmpdir/RtmponfpXK/R.INSTALLd06057872baf/geneLenDataBase/man/panTro1.ensGene.LENGTH.Rd:9: missing link 'downloadLengthFromUCSC'
    panTro1.geneid.LENGTH                   html  
REDIRECT:topic	 panTro1.geneid.LENGTH -> panTro1.geneid.LENGTH.html [ SUCCESS ]
Rd warning: D:/biocbuild/bbs-3.13-data-experiment/tmpdir/RtmponfpXK/R.INSTALLd06057872baf/geneLenDataBase/man/panTro1.geneid.LENGTH.Rd:9: missing link 'downloadLengthFromUCSC'
    panTro1.genscan.LENGTH                  html  
REDIRECT:topic	 panTro1.genscan.LENGTH -> panTro1.genscan.LENGTH.html [ SUCCESS ]
Rd warning: D:/biocbuild/bbs-3.13-data-experiment/tmpdir/RtmponfpXK/R.INSTALLd06057872baf/geneLenDataBase/man/panTro1.genscan.LENGTH.Rd:9: missing link 'downloadLengthFromUCSC'
    panTro1.xenoRefGene.LENGTH              html  
REDIRECT:topic	 panTro1.xenoRefGene.LENGTH -> panTro1.xenoRefGene.LENGTH.html [ SUCCESS ]
Rd warning: D:/biocbuild/bbs-3.13-data-experiment/tmpdir/RtmponfpXK/R.INSTALLd06057872baf/geneLenDataBase/man/panTro1.xenoRefGene.LENGTH.Rd:9: missing link 'downloadLengthFromUCSC'
    panTro2.ensGene.LENGTH                  html  
REDIRECT:topic	 panTro2.ensGene.LENGTH -> panTro2.ensGene.LENGTH.html [ SUCCESS ]
Rd warning: D:/biocbuild/bbs-3.13-data-experiment/tmpdir/RtmponfpXK/R.INSTALLd06057872baf/geneLenDataBase/man/panTro2.ensGene.LENGTH.Rd:9: missing link 'downloadLengthFromUCSC'
    panTro2.geneSymbol.LENGTH               html  
REDIRECT:topic	 panTro2.geneSymbol.LENGTH -> panTro2.geneSymbol.LENGTH.html [ SUCCESS ]
Rd warning: D:/biocbuild/bbs-3.13-data-experiment/tmpdir/RtmponfpXK/R.INSTALLd06057872baf/geneLenDataBase/man/panTro2.geneSymbol.LENGTH.Rd:9: missing link 'downloadLengthFromUCSC'
    panTro2.genscan.LENGTH                  html  
REDIRECT:topic	 panTro2.genscan.LENGTH -> panTro2.genscan.LENGTH.html [ SUCCESS ]
Rd warning: D:/biocbuild/bbs-3.13-data-experiment/tmpdir/RtmponfpXK/R.INSTALLd06057872baf/geneLenDataBase/man/panTro2.genscan.LENGTH.Rd:9: missing link 'downloadLengthFromUCSC'
    panTro2.nscanGene.LENGTH                html  
REDIRECT:topic	 panTro2.nscanGene.LENGTH -> panTro2.nscanGene.LENGTH.html [ SUCCESS ]
Rd warning: D:/biocbuild/bbs-3.13-data-experiment/tmpdir/RtmponfpXK/R.INSTALLd06057872baf/geneLenDataBase/man/panTro2.nscanGene.LENGTH.Rd:9: missing link 'downloadLengthFromUCSC'
    panTro2.refGene.LENGTH                  html  
REDIRECT:topic	 panTro2.refGene.LENGTH -> panTro2.refGene.LENGTH.html [ SUCCESS ]
Rd warning: D:/biocbuild/bbs-3.13-data-experiment/tmpdir/RtmponfpXK/R.INSTALLd06057872baf/geneLenDataBase/man/panTro2.refGene.LENGTH.Rd:9: missing link 'downloadLengthFromUCSC'
    panTro2.xenoRefGene.LENGTH              html  
REDIRECT:topic	 panTro2.xenoRefGene.LENGTH -> panTro2.xenoRefGene.LENGTH.html [ SUCCESS ]
Rd warning: D:/biocbuild/bbs-3.13-data-experiment/tmpdir/RtmponfpXK/R.INSTALLd06057872baf/geneLenDataBase/man/panTro2.xenoRefGene.LENGTH.Rd:9: missing link 'downloadLengthFromUCSC'
    petMar1.xenoRefGene.LENGTH              html  
REDIRECT:topic	 petMar1.xenoRefGene.LENGTH -> petMar1.xenoRefGene.LENGTH.html [ SUCCESS ]
Rd warning: D:/biocbuild/bbs-3.13-data-experiment/tmpdir/RtmponfpXK/R.INSTALLd06057872baf/geneLenDataBase/man/petMar1.xenoRefGene.LENGTH.Rd:9: missing link 'downloadLengthFromUCSC'
    ponAbe2.ensGene.LENGTH                  html  
REDIRECT:topic	 ponAbe2.ensGene.LENGTH -> ponAbe2.ensGene.LENGTH.html [ SUCCESS ]
Rd warning: D:/biocbuild/bbs-3.13-data-experiment/tmpdir/RtmponfpXK/R.INSTALLd06057872baf/geneLenDataBase/man/ponAbe2.ensGene.LENGTH.Rd:9: missing link 'downloadLengthFromUCSC'
    ponAbe2.geneSymbol.LENGTH               html  
REDIRECT:topic	 ponAbe2.geneSymbol.LENGTH -> ponAbe2.geneSymbol.LENGTH.html [ SUCCESS ]
Rd warning: D:/biocbuild/bbs-3.13-data-experiment/tmpdir/RtmponfpXK/R.INSTALLd06057872baf/geneLenDataBase/man/ponAbe2.geneSymbol.LENGTH.Rd:9: missing link 'downloadLengthFromUCSC'
    ponAbe2.genscan.LENGTH                  html  
REDIRECT:topic	 ponAbe2.genscan.LENGTH -> ponAbe2.genscan.LENGTH.html [ SUCCESS ]
Rd warning: D:/biocbuild/bbs-3.13-data-experiment/tmpdir/RtmponfpXK/R.INSTALLd06057872baf/geneLenDataBase/man/ponAbe2.genscan.LENGTH.Rd:9: missing link 'downloadLengthFromUCSC'
    ponAbe2.nscanGene.LENGTH                html  
REDIRECT:topic	 ponAbe2.nscanGene.LENGTH -> ponAbe2.nscanGene.LENGTH.html [ SUCCESS ]
Rd warning: D:/biocbuild/bbs-3.13-data-experiment/tmpdir/RtmponfpXK/R.INSTALLd06057872baf/geneLenDataBase/man/ponAbe2.nscanGene.LENGTH.Rd:9: missing link 'downloadLengthFromUCSC'
    ponAbe2.refGene.LENGTH                  html  
REDIRECT:topic	 ponAbe2.refGene.LENGTH -> ponAbe2.refGene.LENGTH.html [ SUCCESS ]
Rd warning: D:/biocbuild/bbs-3.13-data-experiment/tmpdir/RtmponfpXK/R.INSTALLd06057872baf/geneLenDataBase/man/ponAbe2.refGene.LENGTH.Rd:9: missing link 'downloadLengthFromUCSC'
    ponAbe2.xenoRefGene.LENGTH              html  
REDIRECT:topic	 ponAbe2.xenoRefGene.LENGTH -> ponAbe2.xenoRefGene.LENGTH.html [ SUCCESS ]
Rd warning: D:/biocbuild/bbs-3.13-data-experiment/tmpdir/RtmponfpXK/R.INSTALLd06057872baf/geneLenDataBase/man/ponAbe2.xenoRefGene.LENGTH.Rd:9: missing link 'downloadLengthFromUCSC'
    priPac1.xenoRefGene.LENGTH              html  
REDIRECT:topic	 priPac1.xenoRefGene.LENGTH -> priPac1.xenoRefGene.LENGTH.html [ SUCCESS ]
Rd warning: D:/biocbuild/bbs-3.13-data-experiment/tmpdir/RtmponfpXK/R.INSTALLd06057872baf/geneLenDataBase/man/priPac1.xenoRefGene.LENGTH.Rd:9: missing link 'downloadLengthFromUCSC'
    rheMac2.ensGene.LENGTH                  html  
REDIRECT:topic	 rheMac2.ensGene.LENGTH -> rheMac2.ensGene.LENGTH.html [ SUCCESS ]
Rd warning: D:/biocbuild/bbs-3.13-data-experiment/tmpdir/RtmponfpXK/R.INSTALLd06057872baf/geneLenDataBase/man/rheMac2.ensGene.LENGTH.Rd:9: missing link 'downloadLengthFromUCSC'
    rheMac2.geneSymbol.LENGTH               html  
REDIRECT:topic	 rheMac2.geneSymbol.LENGTH -> rheMac2.geneSymbol.LENGTH.html [ SUCCESS ]
Rd warning: D:/biocbuild/bbs-3.13-data-experiment/tmpdir/RtmponfpXK/R.INSTALLd06057872baf/geneLenDataBase/man/rheMac2.geneSymbol.LENGTH.Rd:9: missing link 'downloadLengthFromUCSC'
    rheMac2.geneid.LENGTH                   html  
REDIRECT:topic	 rheMac2.geneid.LENGTH -> rheMac2.geneid.LENGTH.html [ SUCCESS ]
Rd warning: D:/biocbuild/bbs-3.13-data-experiment/tmpdir/RtmponfpXK/R.INSTALLd06057872baf/geneLenDataBase/man/rheMac2.geneid.LENGTH.Rd:9: missing link 'downloadLengthFromUCSC'
    rheMac2.nscanGene.LENGTH                html  
REDIRECT:topic	 rheMac2.nscanGene.LENGTH -> rheMac2.nscanGene.LENGTH.html [ SUCCESS ]
Rd warning: D:/biocbuild/bbs-3.13-data-experiment/tmpdir/RtmponfpXK/R.INSTALLd06057872baf/geneLenDataBase/man/rheMac2.nscanGene.LENGTH.Rd:9: missing link 'downloadLengthFromUCSC'
    rheMac2.refGene.LENGTH                  html  
REDIRECT:topic	 rheMac2.refGene.LENGTH -> rheMac2.refGene.LENGTH.html [ SUCCESS ]
Rd warning: D:/biocbuild/bbs-3.13-data-experiment/tmpdir/RtmponfpXK/R.INSTALLd06057872baf/geneLenDataBase/man/rheMac2.refGene.LENGTH.Rd:9: missing link 'downloadLengthFromUCSC'
    rheMac2.sgpGene.LENGTH                  html  
REDIRECT:topic	 rheMac2.sgpGene.LENGTH -> rheMac2.sgpGene.LENGTH.html [ SUCCESS ]
Rd warning: D:/biocbuild/bbs-3.13-data-experiment/tmpdir/RtmponfpXK/R.INSTALLd06057872baf/geneLenDataBase/man/rheMac2.sgpGene.LENGTH.Rd:9: missing link 'downloadLengthFromUCSC'
    rheMac2.xenoRefGene.LENGTH              html  
REDIRECT:topic	 rheMac2.xenoRefGene.LENGTH -> rheMac2.xenoRefGene.LENGTH.html [ SUCCESS ]
Rd warning: D:/biocbuild/bbs-3.13-data-experiment/tmpdir/RtmponfpXK/R.INSTALLd06057872baf/geneLenDataBase/man/rheMac2.xenoRefGene.LENGTH.Rd:9: missing link 'downloadLengthFromUCSC'
    rn3.ensGene.LENGTH                      html  
REDIRECT:topic	 rn3.ensGene.LENGTH -> rn3.ensGene.LENGTH.html [ SUCCESS ]
Rd warning: D:/biocbuild/bbs-3.13-data-experiment/tmpdir/RtmponfpXK/R.INSTALLd06057872baf/geneLenDataBase/man/rn3.ensGene.LENGTH.Rd:9: missing link 'downloadLengthFromUCSC'
    rn3.geneSymbol.LENGTH                   html  
REDIRECT:topic	 rn3.geneSymbol.LENGTH -> rn3.geneSymbol.LENGTH.html [ SUCCESS ]
Rd warning: D:/biocbuild/bbs-3.13-data-experiment/tmpdir/RtmponfpXK/R.INSTALLd06057872baf/geneLenDataBase/man/rn3.geneSymbol.LENGTH.Rd:9: missing link 'downloadLengthFromUCSC'
    rn3.geneid.LENGTH                       html  
REDIRECT:topic	 rn3.geneid.LENGTH -> rn3.geneid.LENGTH.html [ SUCCESS ]
Rd warning: D:/biocbuild/bbs-3.13-data-experiment/tmpdir/RtmponfpXK/R.INSTALLd06057872baf/geneLenDataBase/man/rn3.geneid.LENGTH.Rd:9: missing link 'downloadLengthFromUCSC'
    rn3.genscan.LENGTH                      html  
REDIRECT:topic	 rn3.genscan.LENGTH -> rn3.genscan.LENGTH.html [ SUCCESS ]
Rd warning: D:/biocbuild/bbs-3.13-data-experiment/tmpdir/RtmponfpXK/R.INSTALLd06057872baf/geneLenDataBase/man/rn3.genscan.LENGTH.Rd:9: missing link 'downloadLengthFromUCSC'
    rn3.knownGene.LENGTH                    html  
REDIRECT:topic	 rn3.knownGene.LENGTH -> rn3.knownGene.LENGTH.html [ SUCCESS ]
Rd warning: D:/biocbuild/bbs-3.13-data-experiment/tmpdir/RtmponfpXK/R.INSTALLd06057872baf/geneLenDataBase/man/rn3.knownGene.LENGTH.Rd:9: missing link 'downloadLengthFromUCSC'
    rn3.nscanGene.LENGTH                    html  
REDIRECT:topic	 rn3.nscanGene.LENGTH -> rn3.nscanGene.LENGTH.html [ SUCCESS ]
Rd warning: D:/biocbuild/bbs-3.13-data-experiment/tmpdir/RtmponfpXK/R.INSTALLd06057872baf/geneLenDataBase/man/rn3.nscanGene.LENGTH.Rd:9: missing link 'downloadLengthFromUCSC'
    rn3.refGene.LENGTH                      html  
REDIRECT:topic	 rn3.refGene.LENGTH -> rn3.refGene.LENGTH.html [ SUCCESS ]
Rd warning: D:/biocbuild/bbs-3.13-data-experiment/tmpdir/RtmponfpXK/R.INSTALLd06057872baf/geneLenDataBase/man/rn3.refGene.LENGTH.Rd:9: missing link 'downloadLengthFromUCSC'
    rn3.sgpGene.LENGTH                      html  
REDIRECT:topic	 rn3.sgpGene.LENGTH -> rn3.sgpGene.LENGTH.html [ SUCCESS ]
Rd warning: D:/biocbuild/bbs-3.13-data-experiment/tmpdir/RtmponfpXK/R.INSTALLd06057872baf/geneLenDataBase/man/rn3.sgpGene.LENGTH.Rd:9: missing link 'downloadLengthFromUCSC'
    rn3.xenoRefGene.LENGTH                  html  
REDIRECT:topic	 rn3.xenoRefGene.LENGTH -> rn3.xenoRefGene.LENGTH.html [ SUCCESS ]
Rd warning: D:/biocbuild/bbs-3.13-data-experiment/tmpdir/RtmponfpXK/R.INSTALLd06057872baf/geneLenDataBase/man/rn3.xenoRefGene.LENGTH.Rd:9: missing link 'downloadLengthFromUCSC'
    rn4.ensGene.LENGTH                      html  
REDIRECT:topic	 rn4.ensGene.LENGTH -> rn4.ensGene.LENGTH.html [ SUCCESS ]
Rd warning: D:/biocbuild/bbs-3.13-data-experiment/tmpdir/RtmponfpXK/R.INSTALLd06057872baf/geneLenDataBase/man/rn4.ensGene.LENGTH.Rd:9: missing link 'downloadLengthFromUCSC'
    rn4.geneSymbol.LENGTH                   html  
REDIRECT:topic	 rn4.geneSymbol.LENGTH -> rn4.geneSymbol.LENGTH.html [ SUCCESS ]
Rd warning: D:/biocbuild/bbs-3.13-data-experiment/tmpdir/RtmponfpXK/R.INSTALLd06057872baf/geneLenDataBase/man/rn4.geneSymbol.LENGTH.Rd:9: missing link 'downloadLengthFromUCSC'
    rn4.geneid.LENGTH                       html  
REDIRECT:topic	 rn4.geneid.LENGTH -> rn4.geneid.LENGTH.html [ SUCCESS ]
Rd warning: D:/biocbuild/bbs-3.13-data-experiment/tmpdir/RtmponfpXK/R.INSTALLd06057872baf/geneLenDataBase/man/rn4.geneid.LENGTH.Rd:9: missing link 'downloadLengthFromUCSC'
    rn4.genscan.LENGTH                      html  
REDIRECT:topic	 rn4.genscan.LENGTH -> rn4.genscan.LENGTH.html [ SUCCESS ]
Rd warning: D:/biocbuild/bbs-3.13-data-experiment/tmpdir/RtmponfpXK/R.INSTALLd06057872baf/geneLenDataBase/man/rn4.genscan.LENGTH.Rd:9: missing link 'downloadLengthFromUCSC'
    rn4.knownGene.LENGTH                    html  
REDIRECT:topic	 rn4.knownGene.LENGTH -> rn4.knownGene.LENGTH.html [ SUCCESS ]
Rd warning: D:/biocbuild/bbs-3.13-data-experiment/tmpdir/RtmponfpXK/R.INSTALLd06057872baf/geneLenDataBase/man/rn4.knownGene.LENGTH.Rd:9: missing link 'downloadLengthFromUCSC'
    rn4.nscanGene.LENGTH                    html  
REDIRECT:topic	 rn4.nscanGene.LENGTH -> rn4.nscanGene.LENGTH.html [ SUCCESS ]
Rd warning: D:/biocbuild/bbs-3.13-data-experiment/tmpdir/RtmponfpXK/R.INSTALLd06057872baf/geneLenDataBase/man/rn4.nscanGene.LENGTH.Rd:9: missing link 'downloadLengthFromUCSC'
    rn4.refGene.LENGTH                      html  
REDIRECT:topic	 rn4.refGene.LENGTH -> rn4.refGene.LENGTH.html [ SUCCESS ]
Rd warning: D:/biocbuild/bbs-3.13-data-experiment/tmpdir/RtmponfpXK/R.INSTALLd06057872baf/geneLenDataBase/man/rn4.refGene.LENGTH.Rd:9: missing link 'downloadLengthFromUCSC'
    rn4.sgpGene.LENGTH                      html  
REDIRECT:topic	 rn4.sgpGene.LENGTH -> rn4.sgpGene.LENGTH.html [ SUCCESS ]
Rd warning: D:/biocbuild/bbs-3.13-data-experiment/tmpdir/RtmponfpXK/R.INSTALLd06057872baf/geneLenDataBase/man/rn4.sgpGene.LENGTH.Rd:9: missing link 'downloadLengthFromUCSC'
    rn4.xenoRefGene.LENGTH                  html  
REDIRECT:topic	 rn4.xenoRefGene.LENGTH -> rn4.xenoRefGene.LENGTH.html [ SUCCESS ]
Rd warning: D:/biocbuild/bbs-3.13-data-experiment/tmpdir/RtmponfpXK/R.INSTALLd06057872baf/geneLenDataBase/man/rn4.xenoRefGene.LENGTH.Rd:9: missing link 'downloadLengthFromUCSC'
    sacCer1.ensGene.LENGTH                  html  
REDIRECT:topic	 sacCer1.ensGene.LENGTH -> sacCer1.ensGene.LENGTH.html [ SUCCESS ]
Rd warning: D:/biocbuild/bbs-3.13-data-experiment/tmpdir/RtmponfpXK/R.INSTALLd06057872baf/geneLenDataBase/man/sacCer1.ensGene.LENGTH.Rd:9: missing link 'downloadLengthFromUCSC'
    sacCer2.ensGene.LENGTH                  html  
REDIRECT:topic	 sacCer2.ensGene.LENGTH -> sacCer2.ensGene.LENGTH.html [ SUCCESS ]
Rd warning: D:/biocbuild/bbs-3.13-data-experiment/tmpdir/RtmponfpXK/R.INSTALLd06057872baf/geneLenDataBase/man/sacCer2.ensGene.LENGTH.Rd:9: missing link 'downloadLengthFromUCSC'
    strPur1.geneSymbol.LENGTH               html  
REDIRECT:topic	 strPur1.geneSymbol.LENGTH -> strPur1.geneSymbol.LENGTH.html [ SUCCESS ]
Rd warning: D:/biocbuild/bbs-3.13-data-experiment/tmpdir/RtmponfpXK/R.INSTALLd06057872baf/geneLenDataBase/man/strPur1.geneSymbol.LENGTH.Rd:9: missing link 'downloadLengthFromUCSC'
    strPur1.genscan.LENGTH                  html  
REDIRECT:topic	 strPur1.genscan.LENGTH -> strPur1.genscan.LENGTH.html [ SUCCESS ]
Rd warning: D:/biocbuild/bbs-3.13-data-experiment/tmpdir/RtmponfpXK/R.INSTALLd06057872baf/geneLenDataBase/man/strPur1.genscan.LENGTH.Rd:9: missing link 'downloadLengthFromUCSC'
    strPur1.refGene.LENGTH                  html  
REDIRECT:topic	 strPur1.refGene.LENGTH -> strPur1.refGene.LENGTH.html [ SUCCESS ]
Rd warning: D:/biocbuild/bbs-3.13-data-experiment/tmpdir/RtmponfpXK/R.INSTALLd06057872baf/geneLenDataBase/man/strPur1.refGene.LENGTH.Rd:9: missing link 'downloadLengthFromUCSC'
    strPur1.xenoRefGene.LENGTH              html  
REDIRECT:topic	 strPur1.xenoRefGene.LENGTH -> strPur1.xenoRefGene.LENGTH.html [ SUCCESS ]
Rd warning: D:/biocbuild/bbs-3.13-data-experiment/tmpdir/RtmponfpXK/R.INSTALLd06057872baf/geneLenDataBase/man/strPur1.xenoRefGene.LENGTH.Rd:9: missing link 'downloadLengthFromUCSC'
    strPur2.geneSymbol.LENGTH               html  
REDIRECT:topic	 strPur2.geneSymbol.LENGTH -> strPur2.geneSymbol.LENGTH.html [ SUCCESS ]
Rd warning: D:/biocbuild/bbs-3.13-data-experiment/tmpdir/RtmponfpXK/R.INSTALLd06057872baf/geneLenDataBase/man/strPur2.geneSymbol.LENGTH.Rd:9: missing link 'downloadLengthFromUCSC'
    strPur2.genscan.LENGTH                  html  
REDIRECT:topic	 strPur2.genscan.LENGTH -> strPur2.genscan.LENGTH.html [ SUCCESS ]
Rd warning: D:/biocbuild/bbs-3.13-data-experiment/tmpdir/RtmponfpXK/R.INSTALLd06057872baf/geneLenDataBase/man/strPur2.genscan.LENGTH.Rd:9: missing link 'downloadLengthFromUCSC'
    strPur2.refGene.LENGTH                  html  
REDIRECT:topic	 strPur2.refGene.LENGTH -> strPur2.refGene.LENGTH.html [ SUCCESS ]
Rd warning: D:/biocbuild/bbs-3.13-data-experiment/tmpdir/RtmponfpXK/R.INSTALLd06057872baf/geneLenDataBase/man/strPur2.refGene.LENGTH.Rd:9: missing link 'downloadLengthFromUCSC'
    strPur2.xenoRefGene.LENGTH              html  
REDIRECT:topic	 strPur2.xenoRefGene.LENGTH -> strPur2.xenoRefGene.LENGTH.html [ SUCCESS ]
Rd warning: D:/biocbuild/bbs-3.13-data-experiment/tmpdir/RtmponfpXK/R.INSTALLd06057872baf/geneLenDataBase/man/strPur2.xenoRefGene.LENGTH.Rd:9: missing link 'downloadLengthFromUCSC'
    supportedGeneIDs                        html  
REDIRECT:topic	 supportedGeneIDs -> supportedGeneIDs.html [ SUCCESS ]
    supportedGenomes                        html  
REDIRECT:topic	 supportedGenomes -> supportedGenomes.html [ SUCCESS ]
    taeGut1.ensGene.LENGTH                  html  
REDIRECT:topic	 taeGut1.ensGene.LENGTH -> taeGut1.ensGene.LENGTH.html [ SUCCESS ]
Rd warning: D:/biocbuild/bbs-3.13-data-experiment/tmpdir/RtmponfpXK/R.INSTALLd06057872baf/geneLenDataBase/man/taeGut1.ensGene.LENGTH.Rd:9: missing link 'downloadLengthFromUCSC'
    taeGut1.geneSymbol.LENGTH               html  
REDIRECT:topic	 taeGut1.geneSymbol.LENGTH -> taeGut1.geneSymbol.LENGTH.html [ SUCCESS ]
Rd warning: D:/biocbuild/bbs-3.13-data-experiment/tmpdir/RtmponfpXK/R.INSTALLd06057872baf/geneLenDataBase/man/taeGut1.geneSymbol.LENGTH.Rd:9: missing link 'downloadLengthFromUCSC'
    taeGut1.genscan.LENGTH                  html  
REDIRECT:topic	 taeGut1.genscan.LENGTH -> taeGut1.genscan.LENGTH.html [ SUCCESS ]
Rd warning: D:/biocbuild/bbs-3.13-data-experiment/tmpdir/RtmponfpXK/R.INSTALLd06057872baf/geneLenDataBase/man/taeGut1.genscan.LENGTH.Rd:9: missing link 'downloadLengthFromUCSC'
    taeGut1.nscanGene.LENGTH                html  
REDIRECT:topic	 taeGut1.nscanGene.LENGTH -> taeGut1.nscanGene.LENGTH.html [ SUCCESS ]
Rd warning: D:/biocbuild/bbs-3.13-data-experiment/tmpdir/RtmponfpXK/R.INSTALLd06057872baf/geneLenDataBase/man/taeGut1.nscanGene.LENGTH.Rd:9: missing link 'downloadLengthFromUCSC'
    taeGut1.refGene.LENGTH                  html  
REDIRECT:topic	 taeGut1.refGene.LENGTH -> taeGut1.refGene.LENGTH.html [ SUCCESS ]
Rd warning: D:/biocbuild/bbs-3.13-data-experiment/tmpdir/RtmponfpXK/R.INSTALLd06057872baf/geneLenDataBase/man/taeGut1.refGene.LENGTH.Rd:9: missing link 'downloadLengthFromUCSC'
    taeGut1.xenoRefGene.LENGTH              html  
REDIRECT:topic	 taeGut1.xenoRefGene.LENGTH -> taeGut1.xenoRefGene.LENGTH.html [ SUCCESS ]
Rd warning: D:/biocbuild/bbs-3.13-data-experiment/tmpdir/RtmponfpXK/R.INSTALLd06057872baf/geneLenDataBase/man/taeGut1.xenoRefGene.LENGTH.Rd:9: missing link 'downloadLengthFromUCSC'
    tetNig1.ensGene.LENGTH                  html  
REDIRECT:topic	 tetNig1.ensGene.LENGTH -> tetNig1.ensGene.LENGTH.html [ SUCCESS ]
Rd warning: D:/biocbuild/bbs-3.13-data-experiment/tmpdir/RtmponfpXK/R.INSTALLd06057872baf/geneLenDataBase/man/tetNig1.ensGene.LENGTH.Rd:9: missing link 'downloadLengthFromUCSC'
    tetNig1.geneid.LENGTH                   html  
REDIRECT:topic	 tetNig1.geneid.LENGTH -> tetNig1.geneid.LENGTH.html [ SUCCESS ]
Rd warning: D:/biocbuild/bbs-3.13-data-experiment/tmpdir/RtmponfpXK/R.INSTALLd06057872baf/geneLenDataBase/man/tetNig1.geneid.LENGTH.Rd:9: missing link 'downloadLengthFromUCSC'
    tetNig1.genscan.LENGTH                  html  
REDIRECT:topic	 tetNig1.genscan.LENGTH -> tetNig1.genscan.LENGTH.html [ SUCCESS ]
Rd warning: D:/biocbuild/bbs-3.13-data-experiment/tmpdir/RtmponfpXK/R.INSTALLd06057872baf/geneLenDataBase/man/tetNig1.genscan.LENGTH.Rd:9: missing link 'downloadLengthFromUCSC'
    tetNig1.nscanGene.LENGTH                html  
REDIRECT:topic	 tetNig1.nscanGene.LENGTH -> tetNig1.nscanGene.LENGTH.html [ SUCCESS ]
Rd warning: D:/biocbuild/bbs-3.13-data-experiment/tmpdir/RtmponfpXK/R.INSTALLd06057872baf/geneLenDataBase/man/tetNig1.nscanGene.LENGTH.Rd:9: missing link 'downloadLengthFromUCSC'
    tetNig2.ensGene.LENGTH                  html  
REDIRECT:topic	 tetNig2.ensGene.LENGTH -> tetNig2.ensGene.LENGTH.html [ SUCCESS ]
Rd warning: D:/biocbuild/bbs-3.13-data-experiment/tmpdir/RtmponfpXK/R.INSTALLd06057872baf/geneLenDataBase/man/tetNig2.ensGene.LENGTH.Rd:9: missing link 'downloadLengthFromUCSC'
    unfactor                                html  
REDIRECT:topic	 unfactor -> unfactor.html [ SUCCESS ]
    xenTro1.genscan.LENGTH                  html  
REDIRECT:topic	 xenTro1.genscan.LENGTH -> xenTro1.genscan.LENGTH.html [ SUCCESS ]
Rd warning: D:/biocbuild/bbs-3.13-data-experiment/tmpdir/RtmponfpXK/R.INSTALLd06057872baf/geneLenDataBase/man/xenTro1.genscan.LENGTH.Rd:9: missing link 'downloadLengthFromUCSC'
    xenTro2.ensGene.LENGTH                  html  
REDIRECT:topic	 xenTro2.ensGene.LENGTH -> xenTro2.ensGene.LENGTH.html [ SUCCESS ]
Rd warning: D:/biocbuild/bbs-3.13-data-experiment/tmpdir/RtmponfpXK/R.INSTALLd06057872baf/geneLenDataBase/man/xenTro2.ensGene.LENGTH.Rd:9: missing link 'downloadLengthFromUCSC'
    xenTro2.geneSymbol.LENGTH               html  
REDIRECT:topic	 xenTro2.geneSymbol.LENGTH -> xenTro2.geneSymbol.LENGTH.html [ SUCCESS ]
Rd warning: D:/biocbuild/bbs-3.13-data-experiment/tmpdir/RtmponfpXK/R.INSTALLd06057872baf/geneLenDataBase/man/xenTro2.geneSymbol.LENGTH.Rd:9: missing link 'downloadLengthFromUCSC'
    xenTro2.genscan.LENGTH                  html  
REDIRECT:topic	 xenTro2.genscan.LENGTH -> xenTro2.genscan.LENGTH.html [ SUCCESS ]
Rd warning: D:/biocbuild/bbs-3.13-data-experiment/tmpdir/RtmponfpXK/R.INSTALLd06057872baf/geneLenDataBase/man/xenTro2.genscan.LENGTH.Rd:9: missing link 'downloadLengthFromUCSC'
    xenTro2.refGene.LENGTH                  html  
REDIRECT:topic	 xenTro2.refGene.LENGTH -> xenTro2.refGene.LENGTH.html [ SUCCESS ]
Rd warning: D:/biocbuild/bbs-3.13-data-experiment/tmpdir/RtmponfpXK/R.INSTALLd06057872baf/geneLenDataBase/man/xenTro2.refGene.LENGTH.Rd:9: missing link 'downloadLengthFromUCSC'
** building package indices
** testing if installed package can be loaded from temporary location
** testing if installed package can be loaded from final location
** testing if installed package keeps a record of temporary installation path

install for x64

* installing *source* package 'geneLenDataBase' ...
** testing if installed package can be loaded
* MD5 sums
packaged installation of 'geneLenDataBase' as geneLenDataBase_1.27.0.zip
* DONE (geneLenDataBase)
* installing to library 'D:/biocbuild/bbs-3.13-bioc/R/library'
package 'geneLenDataBase' successfully unpacked and MD5 sums checked