Back to Multiple platform build/check report for BioC 3.13 experimental data
ABCDEF[G]HIJKLMNOPQRSTUVWXYZ

BUILD report for gaschYHS on riesling1

This page was generated on 2021-01-14 15:59:07 -0500 (Thu, 14 Jan 2021).

TO THE DEVELOPERS/MAINTAINERS OF THE gaschYHS PACKAGE: Please make sure to use the following settings in order to reproduce any error or warning you see on this page.
Package 136/385HostnameOS / ArchINSTALLBUILDCHECK
gaschYHS 1.29.0
Vince Carey
Snapshot Date: 2021-01-14 09:00:13 -0500 (Thu, 14 Jan 2021)
URL: https://git.bioconductor.org/packages/gaschYHS
Branch: master
Last Commit: 75aa933
Last Changed Date: 2020-10-27 09:45:49 -0500 (Tue, 27 Oct 2020)
malbec2 Linux (Ubuntu 20.04.1 LTS) / x86_64  OK  OK  OK UNNEEDED, same version exists in internal repository
riesling1 Windows Server 2019 Standard / x64  OK [ OK ] OK 

Summary

Package: gaschYHS
Version: 1.29.0
Command: chmod a+r gaschYHS -R && D:\biocbuild\bbs-3.13-bioc\R\bin\R.exe CMD build --keep-empty-dirs --no-resave-data gaschYHS
StartedAt: 2021-01-14 10:36:00 -0500 (Thu, 14 Jan 2021)
EndedAt: 2021-01-14 10:36:01 -0500 (Thu, 14 Jan 2021)
EllapsedTime: 1.0 seconds
RetCode: 0
Status:  OK  
PackageFile: gaschYHS_1.29.0.tar.gz
PackageFileSize: 1.305 MiB

Command output

##############################################################################
##############################################################################
###
### Running command:
###
###   chmod a+r gaschYHS -R && D:\biocbuild\bbs-3.13-bioc\R\bin\R.exe CMD build --keep-empty-dirs --no-resave-data gaschYHS
###
##############################################################################
##############################################################################


* checking for file 'gaschYHS/DESCRIPTION' ... OK
* preparing 'gaschYHS':
* checking DESCRIPTION meta-information ... OK
* checking for LF line-endings in source and make files and shell scripts
* checking for empty or unneeded directories
* looking to see if a 'data/datalist' file should be added
* building 'gaschYHS_1.29.0.tar.gz'