Back to Multiple platform build/check report for BioC 3.13 experimental data
ABCDEF[G]HIJKLMNOPQRSTUVWXYZ

INSTALL report for gageData on riesling1

This page was generated on 2021-01-14 15:59:07 -0500 (Thu, 14 Jan 2021).

TO THE DEVELOPERS/MAINTAINERS OF THE gageData PACKAGE: Please make sure to use the following settings in order to reproduce any error or warning you see on this page.
Package 135/385HostnameOS / ArchINSTALLBUILDCHECK
gageData 2.29.0
Weijun Luo
Snapshot Date: 2021-01-14 09:00:13 -0500 (Thu, 14 Jan 2021)
URL: https://git.bioconductor.org/packages/gageData
Branch: master
Last Commit: 1433cad
Last Changed Date: 2020-10-27 09:52:12 -0500 (Tue, 27 Oct 2020)
malbec2 Linux (Ubuntu 20.04.1 LTS) / x86_64  OK  OK  OK UNNEEDED, same version exists in internal repository
riesling1 Windows Server 2019 Standard / x64 [ OK ] OK  OK 

Summary

Package: gageData
Version: 2.29.0
Command: C:\cygwin\bin\curl.exe -O http://172.29.0.4/BBS/3.13/data-experiment/src/contrib/gageData_2.29.0.tar.gz && rm -rf gageData.buildbin-libdir && mkdir gageData.buildbin-libdir && D:\biocbuild\bbs-3.13-bioc\R\bin\R.exe CMD INSTALL --merge-multiarch --build --library=gageData.buildbin-libdir gageData_2.29.0.tar.gz && D:\biocbuild\bbs-3.13-bioc\R\bin\R.exe CMD INSTALL gageData_2.29.0.zip && rm gageData_2.29.0.tar.gz gageData_2.29.0.zip
StartedAt: 2021-01-14 10:00:54 -0500 (Thu, 14 Jan 2021)
EndedAt: 2021-01-14 10:01:30 -0500 (Thu, 14 Jan 2021)
EllapsedTime: 36.7 seconds
RetCode: 0
Status:  OK  

Command output

##############################################################################
##############################################################################
###
### Running command:
###
###   C:\cygwin\bin\curl.exe -O http://172.29.0.4/BBS/3.13/data-experiment/src/contrib/gageData_2.29.0.tar.gz && rm -rf gageData.buildbin-libdir && mkdir gageData.buildbin-libdir && D:\biocbuild\bbs-3.13-bioc\R\bin\R.exe CMD INSTALL --merge-multiarch --build --library=gageData.buildbin-libdir gageData_2.29.0.tar.gz && D:\biocbuild\bbs-3.13-bioc\R\bin\R.exe CMD INSTALL gageData_2.29.0.zip && rm gageData_2.29.0.tar.gz gageData_2.29.0.zip
###
##############################################################################
##############################################################################


  % Total    % Received % Xferd  Average Speed   Time    Time     Time  Current
                                 Dload  Upload   Total   Spent    Left  Speed

  0     0    0     0    0     0      0      0 --:--:-- --:--:-- --:--:--     0
100 10.5M  100 10.5M    0     0  74.0M      0 --:--:-- --:--:-- --:--:-- 74.5M

install for i386

* installing *source* package 'gageData' ...
** using staged installation
** data
** help
*** installing help indices
  converting help for package 'gageData'
    finding HTML links ... done
    bmp6                                    html  
REDIRECT:topic	 bmp6 -> bmp6.html [ SUCCESS ]
    genesets                                html  
REDIRECT:topic	 kegg.sets.hs -> genesets.html [ SUCCESS ]
REDIRECT:topic	 go.sets.hs -> genesets.html [ SUCCESS ]
REDIRECT:topic	 carta.hs -> genesets.html [ SUCCESS ]
REDIRECT:topic	 kegg.sets.mm -> genesets.html [ SUCCESS ]
REDIRECT:topic	 go.sets.mm -> genesets.html [ SUCCESS ]
REDIRECT:topic	 kegg.sets.rn -> genesets.html [ SUCCESS ]
REDIRECT:topic	 go.sets.rn -> genesets.html [ SUCCESS ]
REDIRECT:topic	 kegg.sets.sc -> genesets.html [ SUCCESS ]
REDIRECT:topic	 go.sets.sc -> genesets.html [ SUCCESS ]
REDIRECT:topic	 kegg.sets.ko -> genesets.html [ SUCCESS ]
REDIRECT:topic	 sigmet.idx.hs -> genesets.html [ SUCCESS ]
REDIRECT:topic	 go.subs.hs -> genesets.html [ SUCCESS ]
REDIRECT:topic	 sigmet.idx.mm -> genesets.html [ SUCCESS ]
REDIRECT:topic	 go.subs.mm -> genesets.html [ SUCCESS ]
REDIRECT:topic	 sigmet.idx.rn -> genesets.html [ SUCCESS ]
REDIRECT:topic	 go.subs.rn -> genesets.html [ SUCCESS ]
REDIRECT:topic	 sigmet.idx.sc -> genesets.html [ SUCCESS ]
REDIRECT:topic	 go.subs.sc -> genesets.html [ SUCCESS ]
REDIRECT:topic	 sigmet.idx.ko -> genesets.html [ SUCCESS ]
REDIRECT:file	 genesets.html -> genesets.html [ SUCCESS ]
    gse16873.full                           html  
REDIRECT:topic	 gse16873.full -> gse16873.full.html [ SUCCESS ]
REDIRECT:topic	 gse16873.2 -> gse16873.full.html [ SUCCESS ]
REDIRECT:topic	 gse16873.affyid -> gse16873.full.html [ SUCCESS ]
    hnrnp.cnts                              html  
REDIRECT:topic	 hnrnp.cnts -> hnrnp.cnts.html [ SUCCESS ]
    sc.gene                                 html  
REDIRECT:topic	 sc.gene -> sc.gene.html [ SUCCESS ]
REDIRECT:topic	 orf2eg -> sc.gene.html [ SUCCESS ]
** building package indices
** testing if installed package can be loaded from temporary location
** testing if installed package can be loaded from final location
** testing if installed package keeps a record of temporary installation path

install for x64

* installing *source* package 'gageData' ...
** testing if installed package can be loaded
* MD5 sums
packaged installation of 'gageData' as gageData_2.29.0.zip
* DONE (gageData)
* installing to library 'D:/biocbuild/bbs-3.13-bioc/R/library'
package 'gageData' successfully unpacked and MD5 sums checked