Back to Multiple platform build/check report for BioC 3.13 experimental data
ABCDE[F]GHIJKLMNOPQRSTUVWXYZ

INSTALL report for furrowSeg on riesling1

This page was generated on 2021-01-14 15:59:07 -0500 (Thu, 14 Jan 2021).

TO THE DEVELOPERS/MAINTAINERS OF THE furrowSeg PACKAGE: Please make sure to use the following settings in order to reproduce any error or warning you see on this page.
Package 134/385HostnameOS / ArchINSTALLBUILDCHECK
furrowSeg 1.19.0
Joseph Barry
Snapshot Date: 2021-01-14 09:00:13 -0500 (Thu, 14 Jan 2021)
URL: https://git.bioconductor.org/packages/furrowSeg
Branch: master
Last Commit: dc5fff2
Last Changed Date: 2020-10-27 10:15:35 -0500 (Tue, 27 Oct 2020)
malbec2 Linux (Ubuntu 20.04.1 LTS) / x86_64  OK  OK  WARNINGS UNNEEDED, same version exists in internal repository
riesling1 Windows Server 2019 Standard / x64 [ OK ] OK  WARNINGS 

Summary

Package: furrowSeg
Version: 1.19.0
Command: C:\cygwin\bin\curl.exe -O http://172.29.0.4/BBS/3.13/data-experiment/src/contrib/furrowSeg_1.19.0.tar.gz && rm -rf furrowSeg.buildbin-libdir && mkdir furrowSeg.buildbin-libdir && D:\biocbuild\bbs-3.13-bioc\R\bin\R.exe CMD INSTALL --merge-multiarch --build --library=furrowSeg.buildbin-libdir furrowSeg_1.19.0.tar.gz && D:\biocbuild\bbs-3.13-bioc\R\bin\R.exe CMD INSTALL furrowSeg_1.19.0.zip && rm furrowSeg_1.19.0.tar.gz furrowSeg_1.19.0.zip
StartedAt: 2021-01-14 10:08:37 -0500 (Thu, 14 Jan 2021)
EndedAt: 2021-01-14 10:09:36 -0500 (Thu, 14 Jan 2021)
EllapsedTime: 58.6 seconds
RetCode: 0
Status:  OK  

Command output

##############################################################################
##############################################################################
###
### Running command:
###
###   C:\cygwin\bin\curl.exe -O http://172.29.0.4/BBS/3.13/data-experiment/src/contrib/furrowSeg_1.19.0.tar.gz && rm -rf furrowSeg.buildbin-libdir && mkdir furrowSeg.buildbin-libdir && D:\biocbuild\bbs-3.13-bioc\R\bin\R.exe CMD INSTALL --merge-multiarch --build --library=furrowSeg.buildbin-libdir furrowSeg_1.19.0.tar.gz && D:\biocbuild\bbs-3.13-bioc\R\bin\R.exe CMD INSTALL furrowSeg_1.19.0.zip && rm furrowSeg_1.19.0.tar.gz furrowSeg_1.19.0.zip
###
##############################################################################
##############################################################################


  % Total    % Received % Xferd  Average Speed   Time    Time     Time  Current
                                 Dload  Upload   Total   Spent    Left  Speed

  0     0    0     0    0     0      0      0 --:--:-- --:--:-- --:--:--     0
 29  348M   29  103M    0     0   107M      0  0:00:03 --:--:--  0:00:03  107M
 59  348M   59  206M    0     0   105M      0  0:00:03  0:00:01  0:00:02  105M
 77  348M   77  269M    0     0  91.2M      0  0:00:03  0:00:02  0:00:01 91.2M
 89  348M   89  311M    0     0  78.7M      0  0:00:04  0:00:03  0:00:01 78.6M
 99  348M   99  348M    0     0  70.2M      0  0:00:04  0:00:04 --:--:-- 70.2M
100  348M  100  348M    0     0  70.1M      0  0:00:04  0:00:04 --:--:-- 61.1M

install for i386

* installing *source* package 'furrowSeg' ...
** using staged installation
** R
** data
** byte-compile and prepare package for lazy loading
Warning: replacing previous import 'EBImage::abind' by 'abind::abind' when loading 'furrowSeg'
** help
*** installing help indices
  converting help for package 'furrowSeg'
    finding HTML links ... done
    constructBox                            html  
REDIRECT:topic	 constructBox -> constructBox.html [ SUCCESS ]
    exampleFurrowMovie                      html  
REDIRECT:topic	 exampleFurrowMovie -> exampleFurrowMovie.html [ SUCCESS ]
    identifyFurrowPosition                  html  
REDIRECT:topic	 identifyFurrowPosition -> identifyFurrowPosition.html [ SUCCESS ]
    identifyTimeMinArea                     html  
REDIRECT:topic	 identifyTimeMinArea -> identifyTimeMinArea.html [ SUCCESS ]
    isOdd                                   html  
REDIRECT:topic	 isOdd -> isOdd.html [ SUCCESS ]
REDIRECT:topic	 makeOdd -> isOdd.html [ SUCCESS ]
    isolateBoxCells                         html  
REDIRECT:topic	 isolateBoxCells -> isolateBoxCells.html [ SUCCESS ]
    opto                                    html  
REDIRECT:topic	 opto -> opto.html [ SUCCESS ]
    plotFeatureEvolution                    html  
REDIRECT:topic	 plotFeatureEvolution -> plotFeatureEvolution.html [ SUCCESS ]
    px2area                                 html  
REDIRECT:topic	 px2area -> px2area.html [ SUCCESS ]
REDIRECT:topic	 area2px -> px2area.html [ SUCCESS ]
    px2microns                              html  
REDIRECT:topic	 px2microns -> px2microns.html [ SUCCESS ]
REDIRECT:topic	 microns2px -> px2microns.html [ SUCCESS ]
    sampleTable                             html  
REDIRECT:topic	 sampleTable -> sampleTable.html [ SUCCESS ]
    segmentFurrowAllStacks                  html  
REDIRECT:topic	 segmentFurrowAllStacks -> segmentFurrowAllStacks.html [ SUCCESS ]
** building package indices
** installing vignettes
** testing if installed package can be loaded from temporary location
Warning: replacing previous import 'EBImage::abind' by 'abind::abind' when loading 'furrowSeg'
** testing if installed package can be loaded from final location
Warning: replacing previous import 'EBImage::abind' by 'abind::abind' when loading 'furrowSeg'
** testing if installed package keeps a record of temporary installation path

install for x64

* installing *source* package 'furrowSeg' ...
** testing if installed package can be loaded
Warning: replacing previous import 'EBImage::abind' by 'abind::abind' when loading 'furrowSeg'
* MD5 sums
packaged installation of 'furrowSeg' as furrowSeg_1.19.0.zip
* DONE (furrowSeg)
* installing to library 'D:/biocbuild/bbs-3.13-bioc/R/library'
package 'furrowSeg' successfully unpacked and MD5 sums checked