Back to Multiple platform build/check report for BioC 3.13 experimental data
ABCDE[F]GHIJKLMNOPQRSTUVWXYZ

INSTALL report for frmaExampleData on riesling1

This page was generated on 2021-01-21 16:01:28 -0500 (Thu, 21 Jan 2021).

TO THE DEVELOPERS/MAINTAINERS OF THE frmaExampleData PACKAGE: Please make sure to use the following settings in order to reproduce any error or warning you see on this page.
Package 133/386HostnameOS / ArchINSTALLBUILDCHECK
frmaExampleData 1.27.0
Matthew N. McCall
Snapshot Date: 2021-01-21 09:00:14 -0500 (Thu, 21 Jan 2021)
URL: https://git.bioconductor.org/packages/frmaExampleData
Branch: master
Last Commit: 1cdae3f
Last Changed Date: 2020-10-27 09:51:30 -0500 (Tue, 27 Oct 2020)
malbec2 Linux (Ubuntu 20.04.1 LTS) / x86_64  OK  OK  WARNINGS UNNEEDED, same version exists in internal repository
riesling1 Windows Server 2019 Standard / x64 [ OK ] OK  WARNINGS 

Summary

Package: frmaExampleData
Version: 1.27.0
Command: C:\cygwin\bin\curl.exe -O http://172.29.0.4/BBS/3.13/data-experiment/src/contrib/frmaExampleData_1.27.0.tar.gz && rm -rf frmaExampleData.buildbin-libdir && mkdir frmaExampleData.buildbin-libdir && D:\biocbuild\bbs-3.13-bioc\R\bin\R.exe CMD INSTALL --merge-multiarch --build --library=frmaExampleData.buildbin-libdir frmaExampleData_1.27.0.tar.gz && D:\biocbuild\bbs-3.13-bioc\R\bin\R.exe CMD INSTALL frmaExampleData_1.27.0.zip && rm frmaExampleData_1.27.0.tar.gz frmaExampleData_1.27.0.zip
StartedAt: 2021-01-21 09:58:15 -0500 (Thu, 21 Jan 2021)
EndedAt: 2021-01-21 09:58:28 -0500 (Thu, 21 Jan 2021)
EllapsedTime: 13.3 seconds
RetCode: 0
Status:  OK  

Command output

##############################################################################
##############################################################################
###
### Running command:
###
###   C:\cygwin\bin\curl.exe -O http://172.29.0.4/BBS/3.13/data-experiment/src/contrib/frmaExampleData_1.27.0.tar.gz && rm -rf frmaExampleData.buildbin-libdir && mkdir frmaExampleData.buildbin-libdir && D:\biocbuild\bbs-3.13-bioc\R\bin\R.exe CMD INSTALL --merge-multiarch --build --library=frmaExampleData.buildbin-libdir frmaExampleData_1.27.0.tar.gz && D:\biocbuild\bbs-3.13-bioc\R\bin\R.exe CMD INSTALL frmaExampleData_1.27.0.zip && rm frmaExampleData_1.27.0.tar.gz frmaExampleData_1.27.0.zip
###
##############################################################################
##############################################################################


  % Total    % Received % Xferd  Average Speed   Time    Time     Time  Current
                                 Dload  Upload   Total   Spent    Left  Speed

  0     0    0     0    0     0      0      0 --:--:-- --:--:-- --:--:--     0
100 15.8M  100 15.8M    0     0  47.9M      0 --:--:-- --:--:-- --:--:-- 47.9M

install for i386

* installing *source* package 'frmaExampleData' ...
** using staged installation
** data
** help
*** installing help indices
  converting help for package 'frmaExampleData'
    finding HTML links ... done
    AffyBatch133a                           html  
REDIRECT:topic	 AffyBatch133a -> AffyBatch133a.html [ SUCCESS ]
    AffyBatch133atag                        html  
REDIRECT:topic	 AffyBatch133atag -> AffyBatch133atag.html [ SUCCESS ]
    AffyBatch133plus2                       html  
REDIRECT:topic	 AffyBatch133plus2 -> AffyBatch133plus2.html [ SUCCESS ]
    AffyBatchExample                        html  
REDIRECT:topic	 AffyBatchExample -> AffyBatchExample.html [ SUCCESS ]
** building package indices
** testing if installed package can be loaded from temporary location
** testing if installed package can be loaded from final location
** testing if installed package keeps a record of temporary installation path

install for x64

* installing *source* package 'frmaExampleData' ...
** testing if installed package can be loaded
* MD5 sums
packaged installation of 'frmaExampleData' as frmaExampleData_1.27.0.zip
* DONE (frmaExampleData)
* installing to library 'D:/biocbuild/bbs-3.13-bioc/R/library'
package 'frmaExampleData' successfully unpacked and MD5 sums checked