Back to Multiple platform build/check report for BioC 3.13 experimental data |
|
This page was generated on 2021-01-14 15:59:07 -0500 (Thu, 14 Jan 2021).
TO THE DEVELOPERS/MAINTAINERS OF THE frmaExampleData PACKAGE: Please make sure to use the following settings in order to reproduce any error or warning you see on this page. |
Package 133/385 | Hostname | OS / Arch | INSTALL | BUILD | CHECK | ||||||
frmaExampleData 1.27.0 Matthew N. McCall
| malbec2 | Linux (Ubuntu 20.04.1 LTS) / x86_64 | OK | OK | WARNINGS | ![]() | |||||
riesling1 | Windows Server 2019 Standard / x64 | OK | [ OK ] | WARNINGS |
Package: frmaExampleData |
Version: 1.27.0 |
Command: chmod a+r frmaExampleData -R && D:\biocbuild\bbs-3.13-bioc\R\bin\R.exe CMD build --keep-empty-dirs --no-resave-data frmaExampleData |
StartedAt: 2021-01-14 10:35:45 -0500 (Thu, 14 Jan 2021) |
EndedAt: 2021-01-14 10:35:48 -0500 (Thu, 14 Jan 2021) |
EllapsedTime: 3.6 seconds |
RetCode: 0 |
Status: OK |
PackageFile: frmaExampleData_1.27.0.tar.gz |
PackageFileSize: 15.88 MiB |
############################################################################## ############################################################################## ### ### Running command: ### ### chmod a+r frmaExampleData -R && D:\biocbuild\bbs-3.13-bioc\R\bin\R.exe CMD build --keep-empty-dirs --no-resave-data frmaExampleData ### ############################################################################## ############################################################################## * checking for file 'frmaExampleData/DESCRIPTION' ... OK * preparing 'frmaExampleData': * checking DESCRIPTION meta-information ... OK * checking for LF line-endings in source and make files and shell scripts * checking for empty or unneeded directories * looking to see if a 'data/datalist' file should be added * building 'frmaExampleData_1.27.0.tar.gz'