Back to Multiple platform build/check report for BioC 3.13 experimental data |
|
This page was generated on 2021-01-14 15:59:07 -0500 (Thu, 14 Jan 2021).
TO THE DEVELOPERS/MAINTAINERS OF THE flowWorkspaceData PACKAGE: Please make sure to use the following settings in order to reproduce any error or warning you see on this page. |
Package 132/385 | Hostname | OS / Arch | INSTALL | BUILD | CHECK | ||||||
flowWorkspaceData 3.3.0 Mike Jiang
| malbec2 | Linux (Ubuntu 20.04.1 LTS) / x86_64 | OK | OK | OK | ![]() | |||||
riesling1 | Windows Server 2019 Standard / x64 | OK | OK | [ OK ] |
Package: flowWorkspaceData |
Version: 3.3.0 |
Command: D:\biocbuild\bbs-3.13-bioc\R\bin\R.exe CMD check --force-multiarch --install=check:flowWorkspaceData.install-out.txt --library=D:\biocbuild\bbs-3.13-bioc\R\library --no-vignettes --timings flowWorkspaceData_3.3.0.tar.gz |
StartedAt: 2021-01-14 11:18:31 -0500 (Thu, 14 Jan 2021) |
EndedAt: 2021-01-14 11:18:53 -0500 (Thu, 14 Jan 2021) |
EllapsedTime: 21.4 seconds |
RetCode: 0 |
Status: OK |
CheckDir: flowWorkspaceData.Rcheck |
Warnings: 0 |
############################################################################## ############################################################################## ### ### Running command: ### ### D:\biocbuild\bbs-3.13-bioc\R\bin\R.exe CMD check --force-multiarch --install=check:flowWorkspaceData.install-out.txt --library=D:\biocbuild\bbs-3.13-bioc\R\library --no-vignettes --timings flowWorkspaceData_3.3.0.tar.gz ### ############################################################################## ############################################################################## * using log directory 'D:/biocbuild/bbs-3.13-data-experiment/meat/flowWorkspaceData.Rcheck' * using R Under development (unstable) (2020-12-30 r79736) * using platform: x86_64-w64-mingw32 (64-bit) * using session charset: ISO8859-1 * using option '--no-vignettes' * checking for file 'flowWorkspaceData/DESCRIPTION' ... OK * checking extension type ... Package * this is package 'flowWorkspaceData' version '3.3.0' * checking package namespace information ... OK * checking package dependencies ... OK * checking if this is a source package ... OK * checking if there is a namespace ... OK * checking for hidden files and directories ... OK * checking for portable file names ... OK * checking whether package 'flowWorkspaceData' can be installed ... OK * checking installed package size ... NOTE installed size is 90.5Mb sub-directories of 1Mb or more: extdata 90.5Mb * checking package directory ... OK * checking DESCRIPTION meta-information ... NOTE Malformed Title field: should not end in a period. * checking top-level files ... OK * checking for left-over files ... OK * checking index information ... OK * checking package subdirectories ... OK * checking R files for non-ASCII characters ... OK * checking R files for syntax errors ... OK * loading checks for arch 'i386' ** checking whether the package can be loaded ... OK ** checking whether the package can be loaded with stated dependencies ... OK ** checking whether the package can be unloaded cleanly ... OK ** checking whether the namespace can be loaded with stated dependencies ... OK ** checking whether the namespace can be unloaded cleanly ... OK * loading checks for arch 'x64' ** checking whether the package can be loaded ... OK ** checking whether the package can be loaded with stated dependencies ... OK ** checking whether the package can be unloaded cleanly ... OK ** checking whether the namespace can be loaded with stated dependencies ... OK ** checking whether the namespace can be unloaded cleanly ... OK * checking dependencies in R code ... OK * checking S3 generic/method consistency ... OK * checking replacement functions ... OK * checking foreign function calls ... OK * checking R code for possible problems ... OK * checking Rd files ... OK * checking Rd metadata ... OK * checking Rd cross-references ... OK * checking for missing documentation entries ... OK * checking for code/documentation mismatches ... OK * checking Rd \usage sections ... OK * checking Rd contents ... OK * checking for unstated dependencies in examples ... OK * checking examples ... ** running examples for arch 'i386' ... OK ** running examples for arch 'x64' ... OK * checking PDF version of manual ... OK * DONE Status: 2 NOTEs See 'D:/biocbuild/bbs-3.13-data-experiment/meat/flowWorkspaceData.Rcheck/00check.log' for details.
flowWorkspaceData.Rcheck/00install.out
############################################################################## ############################################################################## ### ### Running command: ### ### C:\cygwin\bin\curl.exe -O http://172.29.0.4/BBS/3.13/data-experiment/src/contrib/flowWorkspaceData_3.3.0.tar.gz && rm -rf flowWorkspaceData.buildbin-libdir && mkdir flowWorkspaceData.buildbin-libdir && D:\biocbuild\bbs-3.13-bioc\R\bin\R.exe CMD INSTALL --merge-multiarch --build --library=flowWorkspaceData.buildbin-libdir flowWorkspaceData_3.3.0.tar.gz && D:\biocbuild\bbs-3.13-bioc\R\bin\R.exe CMD INSTALL flowWorkspaceData_3.3.0.zip && rm flowWorkspaceData_3.3.0.tar.gz flowWorkspaceData_3.3.0.zip ### ############################################################################## ############################################################################## % Total % Received % Xferd Average Speed Time Time Time Current Dload Upload Total Spent Left Speed 0 0 0 0 0 0 0 0 --:--:-- --:--:-- --:--:-- 0 35 71.2M 35 25.5M 0 0 61.4M 0 0:00:01 --:--:-- 0:00:01 61.3M 100 71.2M 100 71.2M 0 0 86.9M 0 --:--:-- --:--:-- --:--:-- 86.9M install for i386 * installing *source* package 'flowWorkspaceData' ... ** using staged installation ** R ** inst ** byte-compile and prepare package for lazy loading ** help *** installing help indices converting help for package 'flowWorkspaceData' finding HTML links ... done flowWorkspaceData-package html REDIRECT:topic flowWorkspaceData-package -> flowWorkspaceData-package.html [ SUCCESS ] REDIRECT:topic flowWorkspaceData -> flowWorkspaceData-package.html [ SUCCESS ] flowWorkspaceDataInfo html REDIRECT:topic flowWorkspaceDataInfo -> flowWorkspaceDataInfo.html [ SUCCESS ] ** building package indices ** testing if installed package can be loaded from temporary location ** testing if installed package can be loaded from final location ** testing if installed package keeps a record of temporary installation path install for x64 * installing *source* package 'flowWorkspaceData' ... ** testing if installed package can be loaded * MD5 sums packaged installation of 'flowWorkspaceData' as flowWorkspaceData_3.3.0.zip * DONE (flowWorkspaceData) * installing to library 'D:/biocbuild/bbs-3.13-bioc/R/library' package 'flowWorkspaceData' successfully unpacked and MD5 sums checked
flowWorkspaceData.Rcheck/examples_i386/flowWorkspaceData-Ex.timings
|
flowWorkspaceData.Rcheck/examples_x64/flowWorkspaceData-Ex.timings
|