Back to Multiple platform build/check report for BioC 3.13 experimental data |
|
This page was generated on 2021-01-14 15:59:07 -0500 (Thu, 14 Jan 2021).
TO THE DEVELOPERS/MAINTAINERS OF THE flowPloidyData PACKAGE: Please make sure to use the following settings in order to reproduce any error or warning you see on this page. |
Package 125/385 | Hostname | OS / Arch | INSTALL | BUILD | CHECK | ||||||
flowPloidyData 1.17.0 Tyler Smith
| malbec2 | Linux (Ubuntu 20.04.1 LTS) / x86_64 | OK | OK | OK | ![]() | |||||
riesling1 | Windows Server 2019 Standard / x64 | [ OK ] | OK | OK |
Package: flowPloidyData |
Version: 1.17.0 |
Command: C:\cygwin\bin\curl.exe -O http://172.29.0.4/BBS/3.13/data-experiment/src/contrib/flowPloidyData_1.17.0.tar.gz && rm -rf flowPloidyData.buildbin-libdir && mkdir flowPloidyData.buildbin-libdir && D:\biocbuild\bbs-3.13-bioc\R\bin\R.exe CMD INSTALL --merge-multiarch --build --library=flowPloidyData.buildbin-libdir flowPloidyData_1.17.0.tar.gz && D:\biocbuild\bbs-3.13-bioc\R\bin\R.exe CMD INSTALL flowPloidyData_1.17.0.zip && rm flowPloidyData_1.17.0.tar.gz flowPloidyData_1.17.0.zip |
StartedAt: 2021-01-14 10:03:48 -0500 (Thu, 14 Jan 2021) |
EndedAt: 2021-01-14 10:03:58 -0500 (Thu, 14 Jan 2021) |
EllapsedTime: 10.0 seconds |
RetCode: 0 |
Status: OK |
############################################################################## ############################################################################## ### ### Running command: ### ### C:\cygwin\bin\curl.exe -O http://172.29.0.4/BBS/3.13/data-experiment/src/contrib/flowPloidyData_1.17.0.tar.gz && rm -rf flowPloidyData.buildbin-libdir && mkdir flowPloidyData.buildbin-libdir && D:\biocbuild\bbs-3.13-bioc\R\bin\R.exe CMD INSTALL --merge-multiarch --build --library=flowPloidyData.buildbin-libdir flowPloidyData_1.17.0.tar.gz && D:\biocbuild\bbs-3.13-bioc\R\bin\R.exe CMD INSTALL flowPloidyData_1.17.0.zip && rm flowPloidyData_1.17.0.tar.gz flowPloidyData_1.17.0.zip ### ############################################################################## ############################################################################## % Total % Received % Xferd Average Speed Time Time Time Current Dload Upload Total Spent Left Speed 0 0 0 0 0 0 0 0 --:--:-- --:--:-- --:--:-- 0 100 7266k 100 7266k 0 0 71.6M 0 --:--:-- --:--:-- --:--:-- 71.6M install for i386 * installing *source* package 'flowPloidyData' ... ** using staged installation ** R ** inst ** byte-compile and prepare package for lazy loading ** help *** installing help indices converting help for package 'flowPloidyData' finding HTML links ... done flowPloidyData html REDIRECT:topic flowPloidyData -> flowPloidyData.html [ SUCCESS ] REDIRECT:topic flowPloidyFiles -> flowPloidyData.html [ SUCCESS ] REDIRECT:topic fpBad -> flowPloidyData.html [ SUCCESS ] REDIRECT:topic fpVac -> flowPloidyData.html [ SUCCESS ] ** building package indices ** installing vignettes ** testing if installed package can be loaded from temporary location ** testing if installed package can be loaded from final location ** testing if installed package keeps a record of temporary installation path install for x64 * installing *source* package 'flowPloidyData' ... ** testing if installed package can be loaded * MD5 sums packaged installation of 'flowPloidyData' as flowPloidyData_1.17.0.zip * DONE (flowPloidyData) * installing to library 'D:/biocbuild/bbs-3.13-bioc/R/library' package 'flowPloidyData' successfully unpacked and MD5 sums checked