Back to Multiple platform build/check report for BioC 3.13 experimental data
ABCDE[F]GHIJKLMNOPQRSTUVWXYZ

BUILD report for flowPloidyData on riesling1

This page was generated on 2021-01-14 15:59:07 -0500 (Thu, 14 Jan 2021).

TO THE DEVELOPERS/MAINTAINERS OF THE flowPloidyData PACKAGE: Please make sure to use the following settings in order to reproduce any error or warning you see on this page.
Package 125/385HostnameOS / ArchINSTALLBUILDCHECK
flowPloidyData 1.17.0
Tyler Smith
Snapshot Date: 2021-01-14 09:00:13 -0500 (Thu, 14 Jan 2021)
URL: https://git.bioconductor.org/packages/flowPloidyData
Branch: master
Last Commit: 11f4921
Last Changed Date: 2020-10-27 10:21:48 -0500 (Tue, 27 Oct 2020)
malbec2 Linux (Ubuntu 20.04.1 LTS) / x86_64  OK  OK  OK UNNEEDED, same version exists in internal repository
riesling1 Windows Server 2019 Standard / x64  OK [ OK ] OK 

Summary

Package: flowPloidyData
Version: 1.17.0
Command: chmod a+r flowPloidyData -R && D:\biocbuild\bbs-3.13-bioc\R\bin\R.exe CMD build --keep-empty-dirs --no-resave-data flowPloidyData
StartedAt: 2021-01-14 10:34:39 -0500 (Thu, 14 Jan 2021)
EndedAt: 2021-01-14 10:34:44 -0500 (Thu, 14 Jan 2021)
EllapsedTime: 5.2 seconds
RetCode: 0
Status:  OK  
PackageFile: flowPloidyData_1.17.0.tar.gz
PackageFileSize: 7.098 MiB

Command output

##############################################################################
##############################################################################
###
### Running command:
###
###   chmod a+r flowPloidyData -R && D:\biocbuild\bbs-3.13-bioc\R\bin\R.exe CMD build --keep-empty-dirs --no-resave-data flowPloidyData
###
##############################################################################
##############################################################################


* checking for file 'flowPloidyData/DESCRIPTION' ... OK
* preparing 'flowPloidyData':
* checking DESCRIPTION meta-information ... OK
* installing the package to build vignettes
* creating vignettes ... OK
* checking for LF line-endings in source and make files and shell scripts
* checking for empty or unneeded directories
* building 'flowPloidyData_1.17.0.tar.gz'