Back to Multiple platform build/check report for BioC 3.13 experimental data
ABCDE[F]GHIJKLMNOPQRSTUVWXYZ

INSTALL report for fibroEset on riesling1

This page was generated on 2021-01-11 15:59:30 -0500 (Mon, 11 Jan 2021).

TO THE DEVELOPERS/MAINTAINERS OF THE fibroEset PACKAGE: Please make sure to use the following settings in order to reproduce any error or warning you see on this page.
Package 119/385HostnameOS / ArchINSTALLBUILDCHECK
fibroEset 1.33.0
Sylvia Merk
Snapshot Date: 2021-01-11 09:00:09 -0500 (Mon, 11 Jan 2021)
URL: https://git.bioconductor.org/packages/fibroEset
Branch: master
Last Commit: 3a688d5
Last Changed Date: 2020-10-27 09:45:46 -0500 (Tue, 27 Oct 2020)
malbec2 Linux (Ubuntu 20.04.1 LTS) / x86_64  OK  OK  WARNINGS UNNEEDED, same version exists in internal repository
riesling1 Windows Server 2019 Standard / x64 [ OK ] OK  WARNINGS 

Summary

Package: fibroEset
Version: 1.33.0
Command: C:\cygwin\bin\curl.exe -O http://172.29.0.4/BBS/3.13/data-experiment/src/contrib/fibroEset_1.33.0.tar.gz && rm -rf fibroEset.buildbin-libdir && mkdir fibroEset.buildbin-libdir && D:\biocbuild\bbs-3.13-bioc\R\bin\R.exe CMD INSTALL --merge-multiarch --build --library=fibroEset.buildbin-libdir fibroEset_1.33.0.tar.gz && D:\biocbuild\bbs-3.13-bioc\R\bin\R.exe CMD INSTALL fibroEset_1.33.0.zip && rm fibroEset_1.33.0.tar.gz fibroEset_1.33.0.zip
StartedAt: 2021-01-11 10:04:18 -0500 (Mon, 11 Jan 2021)
EndedAt: 2021-01-11 10:04:25 -0500 (Mon, 11 Jan 2021)
EllapsedTime: 7.2 seconds
RetCode: 0
Status:  OK  

Command output

##############################################################################
##############################################################################
###
### Running command:
###
###   C:\cygwin\bin\curl.exe -O http://172.29.0.4/BBS/3.13/data-experiment/src/contrib/fibroEset_1.33.0.tar.gz && rm -rf fibroEset.buildbin-libdir && mkdir fibroEset.buildbin-libdir && D:\biocbuild\bbs-3.13-bioc\R\bin\R.exe CMD INSTALL --merge-multiarch --build --library=fibroEset.buildbin-libdir fibroEset_1.33.0.tar.gz && D:\biocbuild\bbs-3.13-bioc\R\bin\R.exe CMD INSTALL fibroEset_1.33.0.zip && rm fibroEset_1.33.0.tar.gz fibroEset_1.33.0.zip
###
##############################################################################
##############################################################################


  % Total    % Received % Xferd  Average Speed   Time    Time     Time  Current
                                 Dload  Upload   Total   Spent    Left  Speed

  0     0    0     0    0     0      0      0 --:--:-- --:--:-- --:--:--     0
100 1853k  100 1853k    0     0  51.7M      0 --:--:-- --:--:-- --:--:-- 51.7M

install for i386

* installing *source* package 'fibroEset' ...
** using staged installation
** R
** data
** byte-compile and prepare package for lazy loading
** help
*** installing help indices
  converting help for package 'fibroEset'
    finding HTML links ... done
    fibroEset                               html  
REDIRECT:topic	 fibroEset -> fibroEset.html [ SUCCESS ]
** building package indices
** testing if installed package can be loaded from temporary location
** testing if installed package can be loaded from final location
** testing if installed package keeps a record of temporary installation path

install for x64

* installing *source* package 'fibroEset' ...
** testing if installed package can be loaded
* MD5 sums
packaged installation of 'fibroEset' as fibroEset_1.33.0.zip
* DONE (fibroEset)
* installing to library 'D:/biocbuild/bbs-3.13-bioc/R/library'
package 'fibroEset' successfully unpacked and MD5 sums checked