Back to Multiple platform build/check report for BioC 3.13 experimental data
ABCDE[F]GHIJKLMNOPQRSTUVWXYZ

INSTALL report for ffpeExampleData on riesling1

This page was generated on 2021-01-14 15:59:07 -0500 (Thu, 14 Jan 2021).

TO THE DEVELOPERS/MAINTAINERS OF THE ffpeExampleData PACKAGE: Please make sure to use the following settings in order to reproduce any error or warning you see on this page.
Package 118/385HostnameOS / ArchINSTALLBUILDCHECK
ffpeExampleData 1.29.0
Levi Waldron
Snapshot Date: 2021-01-14 09:00:13 -0500 (Thu, 14 Jan 2021)
URL: https://git.bioconductor.org/packages/ffpeExampleData
Branch: master
Last Commit: 911bacc
Last Changed Date: 2020-10-27 09:55:21 -0500 (Tue, 27 Oct 2020)
malbec2 Linux (Ubuntu 20.04.1 LTS) / x86_64  OK  OK  OK UNNEEDED, same version exists in internal repository
riesling1 Windows Server 2019 Standard / x64 [ OK ] OK  OK 

Summary

Package: ffpeExampleData
Version: 1.29.0
Command: C:\cygwin\bin\curl.exe -O http://172.29.0.4/BBS/3.13/data-experiment/src/contrib/ffpeExampleData_1.29.0.tar.gz && rm -rf ffpeExampleData.buildbin-libdir && mkdir ffpeExampleData.buildbin-libdir && D:\biocbuild\bbs-3.13-bioc\R\bin\R.exe CMD INSTALL --merge-multiarch --build --library=ffpeExampleData.buildbin-libdir ffpeExampleData_1.29.0.tar.gz && D:\biocbuild\bbs-3.13-bioc\R\bin\R.exe CMD INSTALL ffpeExampleData_1.29.0.zip && rm ffpeExampleData_1.29.0.tar.gz ffpeExampleData_1.29.0.zip
StartedAt: 2021-01-14 10:14:36 -0500 (Thu, 14 Jan 2021)
EndedAt: 2021-01-14 10:15:13 -0500 (Thu, 14 Jan 2021)
EllapsedTime: 36.2 seconds
RetCode: 0
Status:  OK  

Command output

##############################################################################
##############################################################################
###
### Running command:
###
###   C:\cygwin\bin\curl.exe -O http://172.29.0.4/BBS/3.13/data-experiment/src/contrib/ffpeExampleData_1.29.0.tar.gz && rm -rf ffpeExampleData.buildbin-libdir && mkdir ffpeExampleData.buildbin-libdir && D:\biocbuild\bbs-3.13-bioc\R\bin\R.exe CMD INSTALL --merge-multiarch --build --library=ffpeExampleData.buildbin-libdir ffpeExampleData_1.29.0.tar.gz && D:\biocbuild\bbs-3.13-bioc\R\bin\R.exe CMD INSTALL ffpeExampleData_1.29.0.zip && rm ffpeExampleData_1.29.0.tar.gz ffpeExampleData_1.29.0.zip
###
##############################################################################
##############################################################################


  % Total    % Received % Xferd  Average Speed   Time    Time     Time  Current
                                 Dload  Upload   Total   Spent    Left  Speed

  0     0    0     0    0     0      0      0 --:--:-- --:--:-- --:--:--     0
 11 6887k   11  819k    0     0  1057k      0  0:00:06 --:--:--  0:00:06 1056k
100 6887k  100 6887k    0     0  8308k      0 --:--:-- --:--:-- --:--:-- 8298k

install for i386

* installing *source* package 'ffpeExampleData' ...
** using staged installation
** data
** help
*** installing help indices
  converting help for package 'ffpeExampleData'
    finding HTML links ... done
    ffpeExampleData-package                 html  
REDIRECT:topic	 ffpeExampleData-package -> ffpeExampleData-package.html [ SUCCESS ]
REDIRECT:topic	 ffpeExampleData -> ffpeExampleData-package.html [ SUCCESS ]
    lumibatch.GSE17565                      html  
REDIRECT:topic	 lumibatch.GSE17565 -> lumibatch.GSE17565.html [ SUCCESS ]
** building package indices
** testing if installed package can be loaded from temporary location
No methods found in package 'RSQLite' for request: 'dbListFields' when loading 'lumi'
** testing if installed package can be loaded from final location
No methods found in package 'RSQLite' for request: 'dbListFields' when loading 'lumi'
** testing if installed package keeps a record of temporary installation path

install for x64

* installing *source* package 'ffpeExampleData' ...
** testing if installed package can be loaded
No methods found in package 'RSQLite' for request: 'dbListFields' when loading 'lumi'
* MD5 sums
packaged installation of 'ffpeExampleData' as ffpeExampleData_1.29.0.zip
* DONE (ffpeExampleData)
* installing to library 'D:/biocbuild/bbs-3.13-bioc/R/library'
package 'ffpeExampleData' successfully unpacked and MD5 sums checked