Back to Multiple platform build/check report for BioC 3.13 experimental data
ABCDE[F]GHIJKLMNOPQRSTUVWXYZ

INSTALL report for facsDorit on riesling1

This page was generated on 2021-01-11 15:59:30 -0500 (Mon, 11 Jan 2021).

TO THE DEVELOPERS/MAINTAINERS OF THE facsDorit PACKAGE: Please make sure to use the following settings in order to reproduce any error or warning you see on this page.
Package 116/385HostnameOS / ArchINSTALLBUILDCHECK
facsDorit 1.33.1
Florian Hahne
Snapshot Date: 2021-01-11 09:00:09 -0500 (Mon, 11 Jan 2021)
URL: https://git.bioconductor.org/packages/facsDorit
Branch: master
Last Commit: 5f31c45
Last Changed Date: 2020-11-30 08:24:02 -0500 (Mon, 30 Nov 2020)
malbec2 Linux (Ubuntu 20.04.1 LTS) / x86_64  ERROR  OK  ERROR 
riesling1 Windows Server 2019 Standard / x64 [ ERROR ] OK  ERROR 

Summary

Package: facsDorit
Version: 1.33.1
Command: C:\cygwin\bin\curl.exe -O http://172.29.0.4/BBS/3.13/data-experiment/src/contrib/facsDorit_1.33.1.tar.gz && rm -rf facsDorit.buildbin-libdir && mkdir facsDorit.buildbin-libdir && D:\biocbuild\bbs-3.13-bioc\R\bin\R.exe CMD INSTALL --merge-multiarch --build --library=facsDorit.buildbin-libdir facsDorit_1.33.1.tar.gz && D:\biocbuild\bbs-3.13-bioc\R\bin\R.exe CMD INSTALL facsDorit_1.33.1.zip && rm facsDorit_1.33.1.tar.gz facsDorit_1.33.1.zip
StartedAt: 2021-01-11 10:27:02 -0500 (Mon, 11 Jan 2021)
EndedAt: 2021-01-11 10:27:07 -0500 (Mon, 11 Jan 2021)
EllapsedTime: 5.1 seconds
RetCode: 1
Status:  ERROR  

Command output

##############################################################################
##############################################################################
###
### Running command:
###
###   C:\cygwin\bin\curl.exe -O http://172.29.0.4/BBS/3.13/data-experiment/src/contrib/facsDorit_1.33.1.tar.gz && rm -rf facsDorit.buildbin-libdir && mkdir facsDorit.buildbin-libdir && D:\biocbuild\bbs-3.13-bioc\R\bin\R.exe CMD INSTALL --merge-multiarch --build --library=facsDorit.buildbin-libdir facsDorit_1.33.1.tar.gz && D:\biocbuild\bbs-3.13-bioc\R\bin\R.exe CMD INSTALL facsDorit_1.33.1.zip && rm facsDorit_1.33.1.tar.gz facsDorit_1.33.1.zip
###
##############################################################################
##############################################################################


  % Total    % Received % Xferd  Average Speed   Time    Time     Time  Current
                                 Dload  Upload   Total   Spent    Left  Speed

  0     0    0     0    0     0      0      0 --:--:-- --:--:-- --:--:--     0
  0     0    0     0    0     0      0      0 --:--:-- --:--:-- --:--:--     0
  6 21.6M    6 1458k    0     0  1433k      0  0:00:15  0:00:01  0:00:14 1432k
 68 21.6M   68 14.9M    0     0  7554k      0  0:00:02  0:00:02 --:--:-- 7550k
100 21.6M  100 21.6M    0     0  8750k      0  0:00:02  0:00:02 --:--:-- 8747k

install for i386

ERROR: dependency 'prada' is not available for package 'facsDorit'
* removing 'D:/biocbuild/bbs-3.13-data-experiment/meat/facsDorit.buildbin-libdir/facsDorit'