Back to Multiple platform build/check report for BioC 3.13 experimental data
ABCDE[F]GHIJKLMNOPQRSTUVWXYZ

BUILD report for facsDorit on riesling1

This page was generated on 2021-01-14 15:59:07 -0500 (Thu, 14 Jan 2021).

TO THE DEVELOPERS/MAINTAINERS OF THE facsDorit PACKAGE: Please make sure to use the following settings in order to reproduce any error or warning you see on this page.
Package 116/385HostnameOS / ArchINSTALLBUILDCHECK
facsDorit 1.33.1
Florian Hahne
Snapshot Date: 2021-01-14 09:00:13 -0500 (Thu, 14 Jan 2021)
URL: https://git.bioconductor.org/packages/facsDorit
Branch: master
Last Commit: 5f31c45
Last Changed Date: 2020-11-30 08:24:02 -0500 (Mon, 30 Nov 2020)
malbec2 Linux (Ubuntu 20.04.1 LTS) / x86_64  ERROR  OK  ERROR 
riesling1 Windows Server 2019 Standard / x64  ERROR [ OK ] ERROR 

Summary

Package: facsDorit
Version: 1.33.1
Command: chmod a+r facsDorit -R && D:\biocbuild\bbs-3.13-bioc\R\bin\R.exe CMD build --keep-empty-dirs --no-resave-data facsDorit
StartedAt: 2021-01-14 10:33:58 -0500 (Thu, 14 Jan 2021)
EndedAt: 2021-01-14 10:34:07 -0500 (Thu, 14 Jan 2021)
EllapsedTime: 8.2 seconds
RetCode: 0
Status:  OK  
PackageFile: facsDorit_1.33.1.tar.gz
PackageFileSize: 21.57 MiB

Command output

##############################################################################
##############################################################################
###
### Running command:
###
###   chmod a+r facsDorit -R && D:\biocbuild\bbs-3.13-bioc\R\bin\R.exe CMD build --keep-empty-dirs --no-resave-data facsDorit
###
##############################################################################
##############################################################################


* checking for file 'facsDorit/DESCRIPTION' ... OK
* preparing 'facsDorit':
* checking DESCRIPTION meta-information ... OK
* checking for LF line-endings in source and make files and shell scripts
* checking for empty or unneeded directories
* building 'facsDorit_1.33.1.tar.gz'