Back to Multiple platform build/check report for BioC 3.13 experimental data |
|
This page was generated on 2021-01-21 16:01:28 -0500 (Thu, 21 Jan 2021).
TO THE DEVELOPERS/MAINTAINERS OF THE fabiaData PACKAGE: Please make sure to use the following settings in order to reproduce any error or warning you see on this page. |
Package 115/386 | Hostname | OS / Arch | INSTALL | BUILD | CHECK | ||||||
fabiaData 1.29.0 Sepp Hochreiter
| malbec2 | Linux (Ubuntu 20.04.1 LTS) / x86_64 | OK | OK | OK | ![]() | |||||
riesling1 | Windows Server 2019 Standard / x64 | OK | [ OK ] | OK |
Package: fabiaData |
Version: 1.29.0 |
Command: chmod a+r fabiaData -R && D:\biocbuild\bbs-3.13-bioc\R\bin\R.exe CMD build --keep-empty-dirs --no-resave-data fabiaData |
StartedAt: 2021-01-21 10:37:30 -0500 (Thu, 21 Jan 2021) |
EndedAt: 2021-01-21 10:37:42 -0500 (Thu, 21 Jan 2021) |
EllapsedTime: 12.0 seconds |
RetCode: 0 |
Status: OK |
PackageFile: fabiaData_1.29.0.tar.gz |
PackageFileSize: 4.472 MiB |
############################################################################## ############################################################################## ### ### Running command: ### ### chmod a+r fabiaData -R && D:\biocbuild\bbs-3.13-bioc\R\bin\R.exe CMD build --keep-empty-dirs --no-resave-data fabiaData ### ############################################################################## ############################################################################## * checking for file 'fabiaData/DESCRIPTION' ... OK * preparing 'fabiaData': * checking DESCRIPTION meta-information ... OK * installing the package to build vignettes * creating vignettes ... OK * checking for LF line-endings in source and make files and shell scripts * checking for empty or unneeded directories * looking to see if a 'data/datalist' file should be added * building 'fabiaData_1.29.0.tar.gz' Warning: file 'fabiaData/cleanup' did not have execute permissions: corrected