Back to Multiple platform build/check report for BioC 3.13 experimental data
ABCDE[F]GHIJKLMNOPQRSTUVWXYZ

INSTALL report for faahKO on riesling1

This page was generated on 2021-01-21 16:01:27 -0500 (Thu, 21 Jan 2021).

TO THE DEVELOPERS/MAINTAINERS OF THE faahKO PACKAGE: Please make sure to use the following settings in order to reproduce any error or warning you see on this page.
Package 114/386HostnameOS / ArchINSTALLBUILDCHECK
faahKO 1.31.0
Steffen Neumann
Snapshot Date: 2021-01-21 09:00:14 -0500 (Thu, 21 Jan 2021)
URL: https://git.bioconductor.org/packages/faahKO
Branch: master
Last Commit: b9fb3c8
Last Changed Date: 2020-10-27 09:45:37 -0500 (Tue, 27 Oct 2020)
malbec2 Linux (Ubuntu 20.04.1 LTS) / x86_64  OK  OK  OK UNNEEDED, same version exists in internal repository
riesling1 Windows Server 2019 Standard / x64 [ OK ] OK  WARNINGS 

Summary

Package: faahKO
Version: 1.31.0
Command: C:\cygwin\bin\curl.exe -O http://172.29.0.4/BBS/3.13/data-experiment/src/contrib/faahKO_1.31.0.tar.gz && rm -rf faahKO.buildbin-libdir && mkdir faahKO.buildbin-libdir && D:\biocbuild\bbs-3.13-bioc\R\bin\R.exe CMD INSTALL --merge-multiarch --build --library=faahKO.buildbin-libdir faahKO_1.31.0.tar.gz && D:\biocbuild\bbs-3.13-bioc\R\bin\R.exe CMD INSTALL faahKO_1.31.0.zip && rm faahKO_1.31.0.tar.gz faahKO_1.31.0.zip
StartedAt: 2021-01-21 10:17:39 -0500 (Thu, 21 Jan 2021)
EndedAt: 2021-01-21 10:19:19 -0500 (Thu, 21 Jan 2021)
EllapsedTime: 100.5 seconds
RetCode: 0
Status:  OK  

Command output

##############################################################################
##############################################################################
###
### Running command:
###
###   C:\cygwin\bin\curl.exe -O http://172.29.0.4/BBS/3.13/data-experiment/src/contrib/faahKO_1.31.0.tar.gz && rm -rf faahKO.buildbin-libdir && mkdir faahKO.buildbin-libdir && D:\biocbuild\bbs-3.13-bioc\R\bin\R.exe CMD INSTALL --merge-multiarch --build --library=faahKO.buildbin-libdir faahKO_1.31.0.tar.gz && D:\biocbuild\bbs-3.13-bioc\R\bin\R.exe CMD INSTALL faahKO_1.31.0.zip && rm faahKO_1.31.0.tar.gz faahKO_1.31.0.zip
###
##############################################################################
##############################################################################


  % Total    % Received % Xferd  Average Speed   Time    Time     Time  Current
                                 Dload  Upload   Total   Spent    Left  Speed

  0     0    0     0    0     0      0      0 --:--:-- --:--:-- --:--:--     0
100 16.6M  100 16.6M    0     0  73.2M      0 --:--:-- --:--:-- --:--:-- 73.5M

install for i386

* installing *source* package 'faahKO' ...
** using staged installation
** R
** data
** inst
** byte-compile and prepare package for lazy loading
** help
*** installing help indices
  converting help for package 'faahKO'
    finding HTML links ... done
    faahko                                  html  
REDIRECT:topic	 faahko -> faahko.html [ SUCCESS ]
REDIRECT:topic	 faahKO -> faahko.html [ SUCCESS ]
Rd warning: Previous alias or file overwritten by alias: faahKO
    faahko3                                 html  
REDIRECT:topic	 faahko3 -> faahko3.html [ SUCCESS ]
REDIRECT:topic	 faahKO3 -> faahko3.html [ SUCCESS ]
Rd warning: Previous alias or file overwritten by alias: faahKO3
** building package indices
** testing if installed package can be loaded from temporary location
** testing if installed package can be loaded from final location
** testing if installed package keeps a record of temporary installation path

install for x64

* installing *source* package 'faahKO' ...
** testing if installed package can be loaded
* MD5 sums
packaged installation of 'faahKO' as faahKO_1.31.0.zip
* DONE (faahKO)
* installing to library 'D:/biocbuild/bbs-3.13-bioc/R/library'
package 'faahKO' successfully unpacked and MD5 sums checked