Back to Multiple platform build/check report for BioC 3.13 experimental data |
|
This page was generated on 2021-01-14 15:59:07 -0500 (Thu, 14 Jan 2021).
TO THE DEVELOPERS/MAINTAINERS OF THE faahKO PACKAGE: Please make sure to use the following settings in order to reproduce any error or warning you see on this page. |
Package 114/385 | Hostname | OS / Arch | INSTALL | BUILD | CHECK | ||||||
faahKO 1.31.0 Steffen Neumann
| malbec2 | Linux (Ubuntu 20.04.1 LTS) / x86_64 | OK | OK | OK | ![]() | |||||
riesling1 | Windows Server 2019 Standard / x64 | OK | [ OK ] | WARNINGS |
Package: faahKO |
Version: 1.31.0 |
Command: chmod a+r faahKO -R && D:\biocbuild\bbs-3.13-bioc\R\bin\R.exe CMD build --keep-empty-dirs --no-resave-data faahKO |
StartedAt: 2021-01-14 10:33:46 -0500 (Thu, 14 Jan 2021) |
EndedAt: 2021-01-14 10:34:37 -0500 (Thu, 14 Jan 2021) |
EllapsedTime: 50.9 seconds |
RetCode: 0 |
Status: OK |
PackageFile: faahKO_1.31.0.tar.gz |
PackageFileSize: 16.03 MiB |
############################################################################## ############################################################################## ### ### Running command: ### ### chmod a+r faahKO -R && D:\biocbuild\bbs-3.13-bioc\R\bin\R.exe CMD build --keep-empty-dirs --no-resave-data faahKO ### ############################################################################## ############################################################################## * checking for file 'faahKO/DESCRIPTION' ... OK * preparing 'faahKO': * checking DESCRIPTION meta-information ... OK * checking for LF line-endings in source and make files and shell scripts * checking for empty or unneeded directories * looking to see if a 'data/datalist' file should be added * building 'faahKO_1.31.0.tar.gz'