Back to Multiple platform build/check report for BioC 3.13 experimental data
ABCD[E]FGHIJKLMNOPQRSTUVWXYZ

INSTALL report for etec16s on riesling1

This page was generated on 2021-01-14 15:59:07 -0500 (Thu, 14 Jan 2021).

TO THE DEVELOPERS/MAINTAINERS OF THE etec16s PACKAGE: Please make sure to use the following settings in order to reproduce any error or warning you see on this page.
Package 113/385HostnameOS / ArchINSTALLBUILDCHECK
etec16s 1.19.0
Joseph N. Paulson
Snapshot Date: 2021-01-14 09:00:13 -0500 (Thu, 14 Jan 2021)
URL: https://git.bioconductor.org/packages/etec16s
Branch: master
Last Commit: fc9615b
Last Changed Date: 2020-10-27 10:19:02 -0500 (Tue, 27 Oct 2020)
malbec2 Linux (Ubuntu 20.04.1 LTS) / x86_64  OK  OK  OK UNNEEDED, same version exists in internal repository
riesling1 Windows Server 2019 Standard / x64 [ OK ] OK  OK 

Summary

Package: etec16s
Version: 1.19.0
Command: C:\cygwin\bin\curl.exe -O http://172.29.0.4/BBS/3.13/data-experiment/src/contrib/etec16s_1.19.0.tar.gz && rm -rf etec16s.buildbin-libdir && mkdir etec16s.buildbin-libdir && D:\biocbuild\bbs-3.13-bioc\R\bin\R.exe CMD INSTALL --merge-multiarch --build --library=etec16s.buildbin-libdir etec16s_1.19.0.tar.gz && D:\biocbuild\bbs-3.13-bioc\R\bin\R.exe CMD INSTALL etec16s_1.19.0.zip && rm etec16s_1.19.0.tar.gz etec16s_1.19.0.zip
StartedAt: 2021-01-14 10:08:14 -0500 (Thu, 14 Jan 2021)
EndedAt: 2021-01-14 10:08:23 -0500 (Thu, 14 Jan 2021)
EllapsedTime: 8.9 seconds
RetCode: 0
Status:  OK  

Command output

##############################################################################
##############################################################################
###
### Running command:
###
###   C:\cygwin\bin\curl.exe -O http://172.29.0.4/BBS/3.13/data-experiment/src/contrib/etec16s_1.19.0.tar.gz && rm -rf etec16s.buildbin-libdir && mkdir etec16s.buildbin-libdir && D:\biocbuild\bbs-3.13-bioc\R\bin\R.exe CMD INSTALL --merge-multiarch --build --library=etec16s.buildbin-libdir etec16s_1.19.0.tar.gz && D:\biocbuild\bbs-3.13-bioc\R\bin\R.exe CMD INSTALL etec16s_1.19.0.zip && rm etec16s_1.19.0.tar.gz etec16s_1.19.0.zip
###
##############################################################################
##############################################################################


  % Total    % Received % Xferd  Average Speed   Time    Time     Time  Current
                                 Dload  Upload   Total   Spent    Left  Speed

  0     0    0     0    0     0      0      0 --:--:-- --:--:-- --:--:--     0
100  183k  100  183k    0     0  16.2M      0 --:--:-- --:--:-- --:--:-- 16.2M

install for i386

* installing *source* package 'etec16s' ...
** using staged installation
** data
*** moving datasets to lazyload DB
** inst
** help
*** installing help indices
  converting help for package 'etec16s'
    finding HTML links ... done
    etec16s-package                         html  
REDIRECT:topic	 etec16s-package -> etec16s-package.html [ SUCCESS ]
    etec16s                                 html  
REDIRECT:topic	 etec16s -> etec16s.html [ SUCCESS ]
    finding level-2 HTML links ... done

** building package indices
** installing vignettes
** testing if installed package can be loaded from temporary location
** testing if installed package can be loaded from final location
** testing if installed package keeps a record of temporary installation path

install for x64

* installing *source* package 'etec16s' ...
** testing if installed package can be loaded
* MD5 sums
packaged installation of 'etec16s' as etec16s_1.19.0.zip
* DONE (etec16s)
* installing to library 'D:/biocbuild/bbs-3.13-bioc/R/library'
package 'etec16s' successfully unpacked and MD5 sums checked