Back to Multiple platform build/check report for BioC 3.13 experimental data
ABCD[E]FGHIJKLMNOPQRSTUVWXYZ

BUILD report for etec16s on riesling1

This page was generated on 2021-01-14 15:59:07 -0500 (Thu, 14 Jan 2021).

TO THE DEVELOPERS/MAINTAINERS OF THE etec16s PACKAGE: Please make sure to use the following settings in order to reproduce any error or warning you see on this page.
Package 113/385HostnameOS / ArchINSTALLBUILDCHECK
etec16s 1.19.0
Joseph N. Paulson
Snapshot Date: 2021-01-14 09:00:13 -0500 (Thu, 14 Jan 2021)
URL: https://git.bioconductor.org/packages/etec16s
Branch: master
Last Commit: fc9615b
Last Changed Date: 2020-10-27 10:19:02 -0500 (Tue, 27 Oct 2020)
malbec2 Linux (Ubuntu 20.04.1 LTS) / x86_64  OK  OK  OK UNNEEDED, same version exists in internal repository
riesling1 Windows Server 2019 Standard / x64  OK [ OK ] OK 

Summary

Package: etec16s
Version: 1.19.0
Command: chmod a+r etec16s -R && D:\biocbuild\bbs-3.13-bioc\R\bin\R.exe CMD build --keep-empty-dirs --no-resave-data etec16s
StartedAt: 2021-01-14 10:33:44 -0500 (Thu, 14 Jan 2021)
EndedAt: 2021-01-14 10:33:56 -0500 (Thu, 14 Jan 2021)
EllapsedTime: 12.4 seconds
RetCode: 0
Status:  OK  
PackageFile: etec16s_1.19.0.tar.gz
PackageFileSize: 254.4 KiB

Command output

##############################################################################
##############################################################################
###
### Running command:
###
###   chmod a+r etec16s -R && D:\biocbuild\bbs-3.13-bioc\R\bin\R.exe CMD build --keep-empty-dirs --no-resave-data etec16s
###
##############################################################################
##############################################################################


* checking for file 'etec16s/DESCRIPTION' ... OK
* preparing 'etec16s':
* checking DESCRIPTION meta-information ... OK
* installing the package to build vignettes
* creating vignettes ... OK
* checking for LF line-endings in source and make files and shell scripts
* checking for empty or unneeded directories
* building 'etec16s_1.19.0.tar.gz'