Back to Multiple platform build/check report for BioC 3.13 experimental data
ABCD[E]FGHIJKLMNOPQRSTUVWXYZ

INSTALL report for estrogen on riesling1

This page was generated on 2021-01-18 15:58:47 -0500 (Mon, 18 Jan 2021).

TO THE DEVELOPERS/MAINTAINERS OF THE estrogen PACKAGE: Please make sure to use the following settings in order to reproduce any error or warning you see on this page.
Package 112/385HostnameOS / ArchINSTALLBUILDCHECK
estrogen 1.37.0
Wolfgang Huber
Snapshot Date: 2021-01-18 09:00:15 -0500 (Mon, 18 Jan 2021)
URL: https://git.bioconductor.org/packages/estrogen
Branch: master
Last Commit: bc7d2c5
Last Changed Date: 2020-10-27 09:45:24 -0500 (Tue, 27 Oct 2020)
malbec2 Linux (Ubuntu 20.04.1 LTS) / x86_64  OK  OK  OK UNNEEDED, same version exists in internal repository
riesling1 Windows Server 2019 Standard / x64 [ OK ] OK  OK 

Summary

Package: estrogen
Version: 1.37.0
Command: C:\cygwin\bin\curl.exe -O http://172.29.0.4/BBS/3.13/data-experiment/src/contrib/estrogen_1.37.0.tar.gz && rm -rf estrogen.buildbin-libdir && mkdir estrogen.buildbin-libdir && D:\biocbuild\bbs-3.13-bioc\R\bin\R.exe CMD INSTALL --merge-multiarch --build --library=estrogen.buildbin-libdir estrogen_1.37.0.tar.gz && D:\biocbuild\bbs-3.13-bioc\R\bin\R.exe CMD INSTALL estrogen_1.37.0.zip && rm estrogen_1.37.0.tar.gz estrogen_1.37.0.zip
StartedAt: 2021-01-18 09:51:48 -0500 (Mon, 18 Jan 2021)
EndedAt: 2021-01-18 09:52:36 -0500 (Mon, 18 Jan 2021)
EllapsedTime: 47.9 seconds
RetCode: 0
Status:  OK  

Command output

##############################################################################
##############################################################################
###
### Running command:
###
###   C:\cygwin\bin\curl.exe -O http://172.29.0.4/BBS/3.13/data-experiment/src/contrib/estrogen_1.37.0.tar.gz && rm -rf estrogen.buildbin-libdir && mkdir estrogen.buildbin-libdir && D:\biocbuild\bbs-3.13-bioc\R\bin\R.exe CMD INSTALL --merge-multiarch --build --library=estrogen.buildbin-libdir estrogen_1.37.0.tar.gz && D:\biocbuild\bbs-3.13-bioc\R\bin\R.exe CMD INSTALL estrogen_1.37.0.zip && rm estrogen_1.37.0.tar.gz estrogen_1.37.0.zip
###
##############################################################################
##############################################################################


  % Total    % Received % Xferd  Average Speed   Time    Time     Time  Current
                                 Dload  Upload   Total   Spent    Left  Speed

  0     0    0     0    0     0      0      0 --:--:-- --:--:-- --:--:--     0
  0 25.5M    0  1213    0     0   3278      0  2:16:00 --:--:--  2:16:00  3269
  9 25.5M    9 2433k    0     0  1757k      0  0:00:14  0:00:01  0:00:13 1755k
 23 25.5M   23 6029k    0     0  2385k      0  0:00:10  0:00:02  0:00:08 2385k
 32 25.5M   32 8438k    0     0  2396k      0  0:00:10  0:00:03  0:00:07 2396k
 58 25.5M   58 14.9M    0     0  3375k      0  0:00:07  0:00:04  0:00:03 3374k
 72 25.5M   72 18.4M    0     0  3194k      0  0:00:08  0:00:05  0:00:03 3408k
 77 25.5M   77 19.8M    0     0  3165k      0  0:00:08  0:00:06  0:00:02 3553k
 83 25.5M   83 21.2M    0     0  2954k      0  0:00:08  0:00:07  0:00:01 3250k
100 25.5M  100 25.5M    0     0  3236k      0  0:00:08  0:00:08 --:--:-- 3887k

install for i386

* installing *source* package 'estrogen' ...
** using staged installation
** R
** inst
** byte-compile and prepare package for lazy loading
** help
*** installing help indices
  converting help for package 'estrogen'
    finding HTML links ... done
    gentlecol                               html  
REDIRECT:topic	 gentlecol -> gentlecol.html [ SUCCESS ]
** building package indices
** installing vignettes
** testing if installed package can be loaded from temporary location
** testing if installed package can be loaded from final location
** testing if installed package keeps a record of temporary installation path

install for x64

* installing *source* package 'estrogen' ...
** testing if installed package can be loaded
* MD5 sums
packaged installation of 'estrogen' as estrogen_1.37.0.zip
* DONE (estrogen)
* installing to library 'D:/biocbuild/bbs-3.13-bioc/R/library'
package 'estrogen' successfully unpacked and MD5 sums checked