Back to Multiple platform build/check report for BioC 3.13 experimental data
ABCD[E]FGHIJKLMNOPQRSTUVWXYZ

BUILD report for estrogen on riesling1

This page was generated on 2021-01-14 15:59:07 -0500 (Thu, 14 Jan 2021).

TO THE DEVELOPERS/MAINTAINERS OF THE estrogen PACKAGE: Please make sure to use the following settings in order to reproduce any error or warning you see on this page.
Package 112/385HostnameOS / ArchINSTALLBUILDCHECK
estrogen 1.37.0
Wolfgang Huber
Snapshot Date: 2021-01-14 09:00:13 -0500 (Thu, 14 Jan 2021)
URL: https://git.bioconductor.org/packages/estrogen
Branch: master
Last Commit: bc7d2c5
Last Changed Date: 2020-10-27 09:45:24 -0500 (Tue, 27 Oct 2020)
malbec2 Linux (Ubuntu 20.04.1 LTS) / x86_64  OK  OK  OK UNNEEDED, same version exists in internal repository
riesling1 Windows Server 2019 Standard / x64  OK [ OK ] OK 

Summary

Package: estrogen
Version: 1.37.0
Command: chmod a+r estrogen -R && D:\biocbuild\bbs-3.13-bioc\R\bin\R.exe CMD build --keep-empty-dirs --no-resave-data estrogen
StartedAt: 2021-01-14 10:33:34 -0500 (Thu, 14 Jan 2021)
EndedAt: 2021-01-14 10:34:59 -0500 (Thu, 14 Jan 2021)
EllapsedTime: 84.3 seconds
RetCode: 0
Status:  OK  
PackageFile: estrogen_1.37.0.tar.gz
PackageFileSize: 25.86 MiB

Command output

##############################################################################
##############################################################################
###
### Running command:
###
###   chmod a+r estrogen -R && D:\biocbuild\bbs-3.13-bioc\R\bin\R.exe CMD build --keep-empty-dirs --no-resave-data estrogen
###
##############################################################################
##############################################################################


* checking for file 'estrogen/DESCRIPTION' ... OK
* preparing 'estrogen':
* checking DESCRIPTION meta-information ... OK
* installing the package to build vignettes
* creating vignettes ... OK
* checking for LF line-endings in source and make files and shell scripts
* checking for empty or unneeded directories
* building 'estrogen_1.37.0.tar.gz'