Back to Multiple platform build/check report for BioC 3.13 experimental data
ABCD[E]FGHIJKLMNOPQRSTUVWXYZ

INSTALL report for ecoliLeucine on riesling1

This page was generated on 2021-01-14 15:59:07 -0500 (Thu, 14 Jan 2021).

TO THE DEVELOPERS/MAINTAINERS OF THE ecoliLeucine PACKAGE: Please make sure to use the following settings in order to reproduce any error or warning you see on this page.
Package 109/385HostnameOS / ArchINSTALLBUILDCHECK
ecoliLeucine 1.31.0
Laurent Gautier
Snapshot Date: 2021-01-14 09:00:13 -0500 (Thu, 14 Jan 2021)
URL: https://git.bioconductor.org/packages/ecoliLeucine
Branch: master
Last Commit: 900b6bc
Last Changed Date: 2020-10-27 09:45:20 -0500 (Tue, 27 Oct 2020)
malbec2 Linux (Ubuntu 20.04.1 LTS) / x86_64  OK  OK  WARNINGS UNNEEDED, same version exists in internal repository
riesling1 Windows Server 2019 Standard / x64 [ OK ] OK  WARNINGS 

Summary

Package: ecoliLeucine
Version: 1.31.0
Command: C:\cygwin\bin\curl.exe -O http://172.29.0.4/BBS/3.13/data-experiment/src/contrib/ecoliLeucine_1.31.0.tar.gz && rm -rf ecoliLeucine.buildbin-libdir && mkdir ecoliLeucine.buildbin-libdir && D:\biocbuild\bbs-3.13-bioc\R\bin\R.exe CMD INSTALL --merge-multiarch --build --library=ecoliLeucine.buildbin-libdir ecoliLeucine_1.31.0.tar.gz && D:\biocbuild\bbs-3.13-bioc\R\bin\R.exe CMD INSTALL ecoliLeucine_1.31.0.zip && rm ecoliLeucine_1.31.0.tar.gz ecoliLeucine_1.31.0.zip
StartedAt: 2021-01-14 10:07:33 -0500 (Thu, 14 Jan 2021)
EndedAt: 2021-01-14 10:07:47 -0500 (Thu, 14 Jan 2021)
EllapsedTime: 14.7 seconds
RetCode: 0
Status:  OK  

Command output

##############################################################################
##############################################################################
###
### Running command:
###
###   C:\cygwin\bin\curl.exe -O http://172.29.0.4/BBS/3.13/data-experiment/src/contrib/ecoliLeucine_1.31.0.tar.gz && rm -rf ecoliLeucine.buildbin-libdir && mkdir ecoliLeucine.buildbin-libdir && D:\biocbuild\bbs-3.13-bioc\R\bin\R.exe CMD INSTALL --merge-multiarch --build --library=ecoliLeucine.buildbin-libdir ecoliLeucine_1.31.0.tar.gz && D:\biocbuild\bbs-3.13-bioc\R\bin\R.exe CMD INSTALL ecoliLeucine_1.31.0.zip && rm ecoliLeucine_1.31.0.tar.gz ecoliLeucine_1.31.0.zip
###
##############################################################################
##############################################################################


  % Total    % Received % Xferd  Average Speed   Time    Time     Time  Current
                                 Dload  Upload   Total   Spent    Left  Speed

  0     0    0     0    0     0      0      0 --:--:-- --:--:-- --:--:--     0
  9 6079k    9  604k    0     0  1171k      0  0:00:05 --:--:--  0:00:05 1168k
100 6079k  100 6079k    0     0  4161k      0  0:00:01  0:00:01 --:--:-- 4164k

install for i386

* installing *source* package 'ecoliLeucine' ...
** using staged installation
** data
** help
*** installing help indices
  converting help for package 'ecoliLeucine'
    finding HTML links ... done
    ecoliLeucine                            html  
REDIRECT:topic	 ecoliLeucine -> ecoliLeucine.html [ SUCCESS ]
** building package indices
** testing if installed package can be loaded from temporary location
Warning: replacing previous import 'AnnotationDbi::tail' by 'utils::tail' when loading 'ecolicdf'
Warning: replacing previous import 'AnnotationDbi::head' by 'utils::head' when loading 'ecolicdf'
** testing if installed package can be loaded from final location
Warning: replacing previous import 'AnnotationDbi::tail' by 'utils::tail' when loading 'ecolicdf'
Warning: replacing previous import 'AnnotationDbi::head' by 'utils::head' when loading 'ecolicdf'
** testing if installed package keeps a record of temporary installation path

install for x64

* installing *source* package 'ecoliLeucine' ...
** testing if installed package can be loaded
Warning: replacing previous import 'AnnotationDbi::tail' by 'utils::tail' when loading 'ecolicdf'
Warning: replacing previous import 'AnnotationDbi::head' by 'utils::head' when loading 'ecolicdf'
* MD5 sums
packaged installation of 'ecoliLeucine' as ecoliLeucine_1.31.0.zip
* DONE (ecoliLeucine)
* installing to library 'D:/biocbuild/bbs-3.13-bioc/R/library'
package 'ecoliLeucine' successfully unpacked and MD5 sums checked